BEGIN:VCALENDAR
VERSION:2.0
PRODID:VSD-Portal-www.volley.de
METHOD:PUBLISH
BEGIN:VEVENT
UID:543314-2da69939ed67427dc6bf3daba21059e9
X-WR-RELCALID:543314-2da69939ed67427dc6bf3daba21059e9
ORGANIZER:Volleyball
SEQUENCE:261110851
LOCATION:Amtssporthalle Stralendorf, Am Wodenweg 1, 19073 Stralendorf
GEO:53.57248580000000000000;11.30342920000000000000
SUMMARY:LKl W Fr.: MSV Pampow III - SV Hagenow
CLASS:PUBLIC
DTSTART:20200926T080000Z
DTSTAMP:20200829T080000Z
END:VEVENT
BEGIN:VEVENT
UID:543315-2da69939ed67427dc6bf3daba21059e9
X-WR-RELCALID:543315-2da69939ed67427dc6bf3daba21059e9
ORGANIZER:Volleyball
SEQUENCE:261110851
LOCATION:Amtssporthalle Stralendorf, Am Wodenweg 1, 19073 Stralendorf
GEO:53.57248580000000000000;11.30342920000000000000
SUMMARY:LKl W Fr.: MSV Pampow III - SV Warnemünde IV
CLASS:PUBLIC
DTSTART:20200926T080000Z
DTSTAMP:20200829T080000Z
END:VEVENT
BEGIN:VEVENT
UID:543316-2da69939ed67427dc6bf3daba21059e9
X-WR-RELCALID:543316-2da69939ed67427dc6bf3daba21059e9
ORGANIZER:Volleyball
SEQUENCE:261110851
LOCATION:Amtssporthalle Stralendorf, Am Wodenweg 1, 19073 Stralendorf
GEO:53.57248580000000000000;11.30342920000000000000
SUMMARY:LKl W Fr.: SV Hagenow - SV Warnemünde IV
CLASS:PUBLIC
DTSTART:20200926T080000Z
DTSTAMP:20200829T080000Z
END:VEVENT
BEGIN:VEVENT
UID:543317-2da69939ed67427dc6bf3daba21059e9
X-WR-RELCALID:543317-2da69939ed67427dc6bf3daba21059e9
ORGANIZER:Volleyball
SEQUENCE:261110851
LOCATION:Sporthalle 5. Realschule, Werner-Seelenbinder-Str. 1, 18273 G
 üstrow
GEO:null;null
SUMMARY:LKl W Fr.: Güstrower SC 09 II - HSG Uni Rostock III
CLASS:PUBLIC
DTSTART:20201024T080000Z
DTSTAMP:20200829T080000Z
END:VEVENT
BEGIN:VEVENT
UID:543318-2da69939ed67427dc6bf3daba21059e9
X-WR-RELCALID:543318-2da69939ed67427dc6bf3daba21059e9
ORGANIZER:Volleyball
SEQUENCE:261110851
LOCATION:Sporthalle 5. Realschule, Werner-Seelenbinder-Str. 1, 18273 G
 üstrow
GEO:null;null
SUMMARY:LKl W Fr.: Güstrower SC 09 II - MSV Pampow III
CLASS:PUBLIC
DTSTART:20201024T080000Z
DTSTAMP:20200829T080000Z
END:VEVENT
BEGIN:VEVENT
UID:543319-2da69939ed67427dc6bf3daba21059e9
X-WR-RELCALID:543319-2da69939ed67427dc6bf3daba21059e9
ORGANIZER:Volleyball
SEQUENCE:261110851
LOCATION:Sporthalle 5. Realschule, Werner-Seelenbinder-Str. 1, 18273 G
 üstrow
GEO:null;null
SUMMARY:LKl W Fr.: HSG Uni Rostock III - MSV Pampow III
CLASS:PUBLIC
DTSTART:20201024T080000Z
DTSTAMP:20200829T080000Z
END:VEVENT
BEGIN:VEVENT
UID:543320-2da69939ed67427dc6bf3daba21059e9
X-WR-RELCALID:543320-2da69939ed67427dc6bf3daba21059e9
ORGANIZER:Volleyball
SEQUENCE:261110851
LOCATION:Mehrzweckhalle "Otto Ibs", Möllner Str. 16, 19230 Hagenow
GEO:null;null
SUMMARY:LKl W Fr.: SV Hagenow - SV Fortschritt Neustadt-Glewe
CLASS:PUBLIC
DTSTART:20201101T090000Z
DTSTAMP:20200830T151500Z
END:VEVENT
BEGIN:VEVENT
UID:543321-2da69939ed67427dc6bf3daba21059e9
X-WR-RELCALID:543321-2da69939ed67427dc6bf3daba21059e9
ORGANIZER:Volleyball
SEQUENCE:261110851
LOCATION:Mehrzweckhalle "Otto Ibs", Möllner Str. 16, 19230 Hagenow
GEO:null;null
SUMMARY:LKl W Fr.: SV Hagenow - SG Schwaan-PSV Rostock
CLASS:PUBLIC
DTSTART:20201101T090000Z
DTSTAMP:20200910T121500Z
END:VEVENT
BEGIN:VEVENT
UID:543322-2da69939ed67427dc6bf3daba21059e9
X-WR-RELCALID:543322-2da69939ed67427dc6bf3daba21059e9
ORGANIZER:Volleyball
SEQUENCE:261110851
LOCATION:Mehrzweckhalle "Otto Ibs", Möllner Str. 16, 19230 Hagenow
GEO:null;null
SUMMARY:LKl W Fr.: SV Fortschritt Neustadt-Glewe - SG Schwaan-PSV Rost
 ock
CLASS:PUBLIC
DTSTART:20201101T093000Z
DTSTAMP:20200910T121500Z
END:VEVENT
BEGIN:VEVENT
UID:543326-2da69939ed67427dc6bf3daba21059e9
X-WR-RELCALID:543326-2da69939ed67427dc6bf3daba21059e9
ORGANIZER:Volleyball
SEQUENCE:261110851
LOCATION:Sporthalle Neustadt-Glewe, Zur Kuhdrift 1, 19306 Neustadt-Gle
 we
GEO:null;null
SUMMARY:LKl W Fr.: SV Fortschritt Neustadt-Glewe - SV Warnemünde IV
CLASS:PUBLIC
DTSTART:20201114T090000Z
DTSTAMP:20200829T080000Z
END:VEVENT
BEGIN:VEVENT
UID:543327-2da69939ed67427dc6bf3daba21059e9
X-WR-RELCALID:543327-2da69939ed67427dc6bf3daba21059e9
ORGANIZER:Volleyball
SEQUENCE:261110851
LOCATION:Sporthalle Neustadt-Glewe, Zur Kuhdrift 1, 19306 Neustadt-Gle
 we
GEO:null;null
SUMMARY:LKl W Fr.: SV Fortschritt Neustadt-Glewe - Güstrower SC 09 II
CLASS:PUBLIC
DTSTART:20201114T090000Z
DTSTAMP:20200829T080000Z
END:VEVENT
BEGIN:VEVENT
UID:543328-2da69939ed67427dc6bf3daba21059e9
X-WR-RELCALID:543328-2da69939ed67427dc6bf3daba21059e9
ORGANIZER:Volleyball
SEQUENCE:261110851
LOCATION:Sporthalle Neustadt-Glewe, Zur Kuhdrift 1, 19306 Neustadt-Gle
 we
GEO:null;null
SUMMARY:LKl W Fr.: SV Warnemünde IV - Güstrower SC 09 II
CLASS:PUBLIC
DTSTART:20201114T090000Z
DTSTAMP:20200829T080000Z
END:VEVENT
BEGIN:VEVENT
UID:543323-2da69939ed67427dc6bf3daba21059e9
X-WR-RELCALID:543323-2da69939ed67427dc6bf3daba21059e9
ORGANIZER:Volleyball
SEQUENCE:261110851
LOCATION:Sporthalle Schwaan, John-Brinckmann-Straße 1, 18258 Schwaan
GEO:null;null
SUMMARY:LKl W Fr.: SG Schwaan-PSV Rostock - MSV Pampow III
CLASS:PUBLIC
DTSTART:20201115T090000Z
DTSTAMP:20200905T072000Z
END:VEVENT
BEGIN:VEVENT
UID:543324-2da69939ed67427dc6bf3daba21059e9
X-WR-RELCALID:543324-2da69939ed67427dc6bf3daba21059e9
ORGANIZER:Volleyball
SEQUENCE:261110851
LOCATION:Sporthalle Schwaan, John-Brinckmann-Straße 1, 18258 Schwaan
GEO:null;null
SUMMARY:LKl W Fr.: SG Schwaan-PSV Rostock - Kühlungsborner VV 95
CLASS:PUBLIC
DTSTART:20201115T103000Z
DTSTAMP:20200905T072000Z
END:VEVENT
BEGIN:VEVENT
UID:543325-2da69939ed67427dc6bf3daba21059e9
X-WR-RELCALID:543325-2da69939ed67427dc6bf3daba21059e9
ORGANIZER:Volleyball
SEQUENCE:261110851
LOCATION:Sporthalle Schwaan, John-Brinckmann-Straße 1, 18258 Schwaan
GEO:null;null
SUMMARY:LKl W Fr.: MSV Pampow III - Kühlungsborner VV 95
CLASS:PUBLIC
DTSTART:20201115T120000Z
DTSTAMP:20200905T072000Z
END:VEVENT
BEGIN:VEVENT
UID:543329-2da69939ed67427dc6bf3daba21059e9
X-WR-RELCALID:543329-2da69939ed67427dc6bf3daba21059e9
ORGANIZER:Volleyball
SEQUENCE:261110851
LOCATION:Diesterweg-Schule, Am Karpfenteich 4, 18225 Kühlungsborn
GEO:null;null
SUMMARY:LKl W Fr.: Kühlungsborner VV 95 - SV Hagenow
CLASS:PUBLIC
DTSTART:20201205T090000Z
DTSTAMP:20200829T080000Z
END:VEVENT
BEGIN:VEVENT
UID:543330-2da69939ed67427dc6bf3daba21059e9
X-WR-RELCALID:543330-2da69939ed67427dc6bf3daba21059e9
ORGANIZER:Volleyball
SEQUENCE:261110851
LOCATION:Diesterweg-Schule, Am Karpfenteich 4, 18225 Kühlungsborn
GEO:null;null
SUMMARY:LKl W Fr.: Kühlungsborner VV 95 - Güstrower SC 09 II
CLASS:PUBLIC
DTSTART:20201205T090000Z
DTSTAMP:20200829T080000Z
END:VEVENT
BEGIN:VEVENT
UID:543331-2da69939ed67427dc6bf3daba21059e9
X-WR-RELCALID:543331-2da69939ed67427dc6bf3daba21059e9
ORGANIZER:Volleyball
SEQUENCE:261110851
LOCATION:Diesterweg-Schule, Am Karpfenteich 4, 18225 Kühlungsborn
GEO:null;null
SUMMARY:LKl W Fr.: SV Hagenow - Güstrower SC 09 II
CLASS:PUBLIC
DTSTART:20201205T090000Z
DTSTAMP:20200829T080000Z
END:VEVENT
BEGIN:VEVENT
UID:543332-2da69939ed67427dc6bf3daba21059e9
X-WR-RELCALID:543332-2da69939ed67427dc6bf3daba21059e9
ORGANIZER:Volleyball
SEQUENCE:261110851
LOCATION:Sporthalle Möllner Straße, Möllner Straße 12c, 18109 Rostock
GEO:null;null
SUMMARY:LKl W Fr.: SV Warnemünde IV - HSG Uni Rostock III
CLASS:PUBLIC
DTSTART:20201205T090000Z
DTSTAMP:20200902T124500Z
END:VEVENT
BEGIN:VEVENT
UID:543333-2da69939ed67427dc6bf3daba21059e9
X-WR-RELCALID:543333-2da69939ed67427dc6bf3daba21059e9
ORGANIZER:Volleyball
SEQUENCE:261110851
LOCATION:Sporthalle Möllner Straße, Möllner Straße 12c, 18109 Rostock
GEO:null;null
SUMMARY:LKl W Fr.: SV Warnemünde IV - SG Schwaan-PSV Rostock
CLASS:PUBLIC
DTSTART:20201205T090000Z
DTSTAMP:20200910T121500Z
END:VEVENT
BEGIN:VEVENT
UID:543334-2da69939ed67427dc6bf3daba21059e9
X-WR-RELCALID:543334-2da69939ed67427dc6bf3daba21059e9
ORGANIZER:Volleyball
SEQUENCE:261110851
LOCATION:Sporthalle Möllner Straße, Möllner Straße 12c, 18109 Rostock
GEO:null;null
SUMMARY:LKl W Fr.: HSG Uni Rostock III - SG Schwaan-PSV Rostock
CLASS:PUBLIC
DTSTART:20201205T090000Z
DTSTAMP:20200910T121500Z
END:VEVENT
BEGIN:VEVENT
UID:543335-2da69939ed67427dc6bf3daba21059e9
X-WR-RELCALID:543335-2da69939ed67427dc6bf3daba21059e9
ORGANIZER:Volleyball
SEQUENCE:261110851
LOCATION:Sporthalle Neustadt-Glewe, Zur Kuhdrift 1, 19306 Neustadt-Gle
 we
GEO:null;null
SUMMARY:LKl W Fr.: SV Fortschritt Neustadt-Glewe - MSV Pampow III
CLASS:PUBLIC
DTSTART:20201219T090000Z
DTSTAMP:20200829T080000Z
END:VEVENT
BEGIN:VEVENT
UID:543336-2da69939ed67427dc6bf3daba21059e9
X-WR-RELCALID:543336-2da69939ed67427dc6bf3daba21059e9
ORGANIZER:Volleyball
SEQUENCE:261110851
LOCATION:Sporthalle Neustadt-Glewe, Zur Kuhdrift 1, 19306 Neustadt-Gle
 we
GEO:null;null
SUMMARY:LKl W Fr.: SV Fortschritt Neustadt-Glewe - SV Hagenow
CLASS:PUBLIC
DTSTART:20201219T090000Z
DTSTAMP:20200829T080000Z
END:VEVENT
BEGIN:VEVENT
UID:543337-2da69939ed67427dc6bf3daba21059e9
X-WR-RELCALID:543337-2da69939ed67427dc6bf3daba21059e9
ORGANIZER:Volleyball
SEQUENCE:261110851
LOCATION:Sporthalle 5. Realschule, Werner-Seelenbinder-Str. 1, 18273 G
 üstrow
GEO:null;null
SUMMARY:LKl W Fr.: Güstrower SC 09 II - SV Warnemünde IV
CLASS:PUBLIC
DTSTART:20201219T090000Z
DTSTAMP:20200829T080000Z
END:VEVENT
BEGIN:VEVENT
UID:543338-2da69939ed67427dc6bf3daba21059e9
X-WR-RELCALID:543338-2da69939ed67427dc6bf3daba21059e9
ORGANIZER:Volleyball
SEQUENCE:261110851
LOCATION:Sporthalle 5. Realschule, Werner-Seelenbinder-Str. 1, 18273 G
 üstrow
GEO:null;null
SUMMARY:LKl W Fr.: Güstrower SC 09 II - SG Schwaan-PSV Rostock
CLASS:PUBLIC
DTSTART:20201219T090000Z
DTSTAMP:20200829T080000Z
END:VEVENT
BEGIN:VEVENT
UID:543339-2da69939ed67427dc6bf3daba21059e9
X-WR-RELCALID:543339-2da69939ed67427dc6bf3daba21059e9
ORGANIZER:Volleyball
SEQUENCE:261110851
LOCATION:Mehrzweckhalle "Otto Ibs", Möllner Str. 16, 19230 Hagenow
GEO:null;null
SUMMARY:LKl W Fr.: HSG Uni Rostock III - MSV Pampow III
CLASS:PUBLIC
DTSTART:20210116T090000Z
DTSTAMP:20200831T064000Z
END:VEVENT
BEGIN:VEVENT
UID:543340-2da69939ed67427dc6bf3daba21059e9
X-WR-RELCALID:543340-2da69939ed67427dc6bf3daba21059e9
ORGANIZER:Volleyball
SEQUENCE:261110851
LOCATION:Mehrzweckhalle "Otto Ibs", Möllner Str. 16, 19230 Hagenow
GEO:null;null
SUMMARY:LKl W Fr.: HSG Uni Rostock III - SV Hagenow
CLASS:PUBLIC
DTSTART:20210116T090000Z
DTSTAMP:20200910T121500Z
END:VEVENT
BEGIN:VEVENT
UID:543341-2da69939ed67427dc6bf3daba21059e9
X-WR-RELCALID:543341-2da69939ed67427dc6bf3daba21059e9
ORGANIZER:Volleyball
SEQUENCE:261110851
LOCATION:Diesterweg-Schule, Am Karpfenteich 4, 18225 Kühlungsborn
GEO:null;null
SUMMARY:LKl W Fr.: Kühlungsborner VV 95 - SV Warnemünde IV
CLASS:PUBLIC
DTSTART:20210116T090000Z
DTSTAMP:20200829T080000Z
END:VEVENT
BEGIN:VEVENT
UID:543342-2da69939ed67427dc6bf3daba21059e9
X-WR-RELCALID:543342-2da69939ed67427dc6bf3daba21059e9
ORGANIZER:Volleyball
SEQUENCE:261110851
LOCATION:Diesterweg-Schule, Am Karpfenteich 4, 18225 Kühlungsborn
GEO:null;null
SUMMARY:LKl W Fr.: Kühlungsborner VV 95 - SG Schwaan-PSV Rostock
CLASS:PUBLIC
DTSTART:20210116T090000Z
DTSTAMP:20200829T080000Z
END:VEVENT
BEGIN:VEVENT
UID:543307-2da69939ed67427dc6bf3daba21059e9
X-WR-RELCALID:543307-2da69939ed67427dc6bf3daba21059e9
ORGANIZER:Volleyball
SEQUENCE:261110851
LOCATION:Sporthalle Danziger Strasse, Danziger Straße 45b/c, 18109 Ros
 tock
GEO:null;null
SUMMARY:LKl W Fr.: HSG Uni Rostock III - SV Fortschritt Neustadt-Glewe
 
CLASS:PUBLIC
DTSTART:20210227T090000Z
DTSTAMP:20200925T052000Z
END:VEVENT
BEGIN:VEVENT
UID:543309-2da69939ed67427dc6bf3daba21059e9
X-WR-RELCALID:543309-2da69939ed67427dc6bf3daba21059e9
ORGANIZER:Volleyball
SEQUENCE:261110851
LOCATION:Sporthalle Danziger Strasse, Danziger Straße 45b/c, 18109 Ros
 tock
GEO:null;null
SUMMARY:LKl W Fr.: HSG Uni Rostock III - Kühlungsborner VV 95
CLASS:PUBLIC
DTSTART:20210227T090000Z
DTSTAMP:20200925T052000Z
END:VEVENT
BEGIN:VEVENT
UID:543311-2da69939ed67427dc6bf3daba21059e9
X-WR-RELCALID:543311-2da69939ed67427dc6bf3daba21059e9
ORGANIZER:Volleyball
SEQUENCE:261110851
LOCATION:Sporthalle Danziger Strasse, Danziger Straße 45b/c, 18109 Ros
 tock
GEO:null;null
SUMMARY:LKl W Fr.: SV Fortschritt Neustadt-Glewe - Kühlungsborner VV 9
 5
CLASS:PUBLIC
DTSTART:20210227T090000Z
DTSTAMP:20200925T052000Z
END:VEVENT
BEGIN:VEVENT
UID:543343-2da69939ed67427dc6bf3daba21059e9
X-WR-RELCALID:543343-2da69939ed67427dc6bf3daba21059e9
ORGANIZER:Volleyball
SEQUENCE:261110851
LOCATION:Sporthalle Möllner Straße, Möllner Straße 12c, 18109 Rostock
GEO:null;null
SUMMARY:LKl W Fr.: SV Warnemünde IV - SV Hagenow
CLASS:PUBLIC
DTSTART:20210306T090000Z
DTSTAMP:20200910T121500Z
END:VEVENT
BEGIN:VEVENT
UID:543344-2da69939ed67427dc6bf3daba21059e9
X-WR-RELCALID:543344-2da69939ed67427dc6bf3daba21059e9
ORGANIZER:Volleyball
SEQUENCE:261110851
LOCATION:Sporthalle Möllner Straße, Möllner Straße 12c, 18109 Rostock
GEO:null;null
SUMMARY:LKl W Fr.: SV Warnemünde IV - HSG Uni Rostock III
CLASS:PUBLIC
DTSTART:20210306T090000Z
DTSTAMP:20200910T121500Z
END:VEVENT
BEGIN:VEVENT
UID:543345-2da69939ed67427dc6bf3daba21059e9
X-WR-RELCALID:543345-2da69939ed67427dc6bf3daba21059e9
ORGANIZER:Volleyball
SEQUENCE:261110851
LOCATION:Sporthalle Möllner Straße, Möllner Straße 12c, 18109 Rostock
GEO:null;null
SUMMARY:LKl W Fr.: SV Hagenow - HSG Uni Rostock III
CLASS:PUBLIC
DTSTART:20210306T090000Z
DTSTAMP:20200910T121500Z
END:VEVENT
BEGIN:VEVENT
UID:543346-2da69939ed67427dc6bf3daba21059e9
X-WR-RELCALID:543346-2da69939ed67427dc6bf3daba21059e9
ORGANIZER:Volleyball
SEQUENCE:261110851
LOCATION:Amtssporthalle Stralendorf, Am Wodenweg 1, 19073 Stralendorf
GEO:53.57248580000000000000;11.30342920000000000000
SUMMARY:LKl W Fr.: MSV Pampow III - Güstrower SC 09 II
CLASS:PUBLIC
DTSTART:20210306T090000Z
DTSTAMP:20200829T080000Z
END:VEVENT
BEGIN:VEVENT
UID:543347-2da69939ed67427dc6bf3daba21059e9
X-WR-RELCALID:543347-2da69939ed67427dc6bf3daba21059e9
ORGANIZER:Volleyball
SEQUENCE:261110851
LOCATION:Amtssporthalle Stralendorf, Am Wodenweg 1, 19073 Stralendorf
GEO:53.57248580000000000000;11.30342920000000000000
SUMMARY:LKl W Fr.: MSV Pampow III - SV Fortschritt Neustadt-Glewe
CLASS:PUBLIC
DTSTART:20210306T090000Z
DTSTAMP:20200829T080000Z
END:VEVENT
BEGIN:VEVENT
UID:543348-2da69939ed67427dc6bf3daba21059e9
X-WR-RELCALID:543348-2da69939ed67427dc6bf3daba21059e9
ORGANIZER:Volleyball
SEQUENCE:261110851
LOCATION:Amtssporthalle Stralendorf, Am Wodenweg 1, 19073 Stralendorf
GEO:53.57248580000000000000;11.30342920000000000000
SUMMARY:LKl W Fr.: Güstrower SC 09 II - SV Fortschritt Neustadt-Glewe
CLASS:PUBLIC
DTSTART:20210306T090000Z
DTSTAMP:20200829T080000Z
END:VEVENT
BEGIN:VEVENT
UID:543352-2da69939ed67427dc6bf3daba21059e9
X-WR-RELCALID:543352-2da69939ed67427dc6bf3daba21059e9
ORGANIZER:Volleyball
SEQUENCE:261110851
LOCATION:Diesterweg-Schule, Am Karpfenteich 4, 18225 Kühlungsborn
GEO:null;null
SUMMARY:LKl W Fr.: Kühlungsborner VV 95 - MSV Pampow III
CLASS:PUBLIC
DTSTART:20210320T090000Z
DTSTAMP:20200829T080000Z
END:VEVENT
BEGIN:VEVENT
UID:543353-2da69939ed67427dc6bf3daba21059e9
X-WR-RELCALID:543353-2da69939ed67427dc6bf3daba21059e9
ORGANIZER:Volleyball
SEQUENCE:261110851
LOCATION:Diesterweg-Schule, Am Karpfenteich 4, 18225 Kühlungsborn
GEO:null;null
SUMMARY:LKl W Fr.: Kühlungsborner VV 95 - SV Hagenow
CLASS:PUBLIC
DTSTART:20210320T090000Z
DTSTAMP:20200829T080000Z
END:VEVENT
BEGIN:VEVENT
UID:543354-2da69939ed67427dc6bf3daba21059e9
X-WR-RELCALID:543354-2da69939ed67427dc6bf3daba21059e9
ORGANIZER:Volleyball
SEQUENCE:261110851
LOCATION:Diesterweg-Schule, Am Karpfenteich 4, 18225 Kühlungsborn
GEO:null;null
SUMMARY:LKl W Fr.: MSV Pampow III - SV Hagenow
CLASS:PUBLIC
DTSTART:20210320T090000Z
DTSTAMP:20200829T080000Z
END:VEVENT
BEGIN:VEVENT
UID:543349-2da69939ed67427dc6bf3daba21059e9
X-WR-RELCALID:543349-2da69939ed67427dc6bf3daba21059e9
ORGANIZER:Volleyball
SEQUENCE:261110851
LOCATION:Sporthalle Schwaan, John-Brinckmann-Straße 1, 18258 Schwaan
GEO:null;null
SUMMARY:LKl W Fr.: SG Schwaan-PSV Rostock - SV Fortschritt Neustadt-Gl
 ewe
CLASS:PUBLIC
DTSTART:20210321T090000Z
DTSTAMP:20200905T072000Z
END:VEVENT
BEGIN:VEVENT
UID:543350-2da69939ed67427dc6bf3daba21059e9
X-WR-RELCALID:543350-2da69939ed67427dc6bf3daba21059e9
ORGANIZER:Volleyball
SEQUENCE:261110851
LOCATION:Sporthalle Schwaan, John-Brinckmann-Straße 1, 18258 Schwaan
GEO:null;null
SUMMARY:LKl W Fr.: SG Schwaan-PSV Rostock - HSG Uni Rostock III
CLASS:PUBLIC
DTSTART:20210321T103000Z
DTSTAMP:20200905T072000Z
END:VEVENT
BEGIN:VEVENT
UID:543351-2da69939ed67427dc6bf3daba21059e9
X-WR-RELCALID:543351-2da69939ed67427dc6bf3daba21059e9
ORGANIZER:Volleyball
SEQUENCE:261110851
LOCATION:Sporthalle Schwaan, John-Brinckmann-Straße 1, 18258 Schwaan
GEO:null;null
SUMMARY:LKl W Fr.: SV Fortschritt Neustadt-Glewe - HSG Uni Rostock III
 
CLASS:PUBLIC
DTSTART:20210321T120000Z
DTSTAMP:20200905T072000Z
END:VEVENT
BEGIN:VEVENT
UID:543355-2da69939ed67427dc6bf3daba21059e9
X-WR-RELCALID:543355-2da69939ed67427dc6bf3daba21059e9
ORGANIZER:Volleyball
SEQUENCE:261110851
LOCATION:Sporthalle Danziger Strasse, Danziger Straße 45b/c, 18109 Ros
 tock
GEO:null;null
SUMMARY:LKl W Fr.: HSG Uni Rostock III - Kühlungsborner VV 95
CLASS:PUBLIC
DTSTART:20210411T080000Z
DTSTAMP:20200829T080000Z
END:VEVENT
BEGIN:VEVENT
UID:543356-2da69939ed67427dc6bf3daba21059e9
X-WR-RELCALID:543356-2da69939ed67427dc6bf3daba21059e9
ORGANIZER:Volleyball
SEQUENCE:261110851
LOCATION:Sporthalle Danziger Strasse, Danziger Straße 45b/c, 18109 Ros
 tock
GEO:null;null
SUMMARY:LKl W Fr.: HSG Uni Rostock III - Güstrower SC 09 II
CLASS:PUBLIC
DTSTART:20210411T080000Z
DTSTAMP:20200829T080000Z
END:VEVENT
BEGIN:VEVENT
UID:543357-2da69939ed67427dc6bf3daba21059e9
X-WR-RELCALID:543357-2da69939ed67427dc6bf3daba21059e9
ORGANIZER:Volleyball
SEQUENCE:261110851
LOCATION:Sporthalle Danziger Strasse, Danziger Straße 45b/c, 18109 Ros
 tock
GEO:null;null
SUMMARY:LKl W Fr.: Kühlungsborner VV 95 - Güstrower SC 09 II
CLASS:PUBLIC
DTSTART:20210411T080000Z
DTSTAMP:20200829T080000Z
END:VEVENT
BEGIN:VEVENT
UID:543358-2da69939ed67427dc6bf3daba21059e9
X-WR-RELCALID:543358-2da69939ed67427dc6bf3daba21059e9
ORGANIZER:Volleyball
SEQUENCE:261110851
LOCATION:Sporthalle Schwaan, John-Brinckmann-Straße 1, 18258 Schwaan
GEO:null;null
SUMMARY:LKl W Fr.: SG Schwaan-PSV Rostock - SV Warnemünde IV
CLASS:PUBLIC
DTSTART:20210411T080000Z
DTSTAMP:20200829T080000Z
END:VEVENT
BEGIN:VEVENT
UID:543359-2da69939ed67427dc6bf3daba21059e9
X-WR-RELCALID:543359-2da69939ed67427dc6bf3daba21059e9
ORGANIZER:Volleyball
SEQUENCE:261110851
LOCATION:Sporthalle Schwaan, John-Brinckmann-Straße 1, 18258 Schwaan
GEO:null;null
SUMMARY:LKl W Fr.: SG Schwaan-PSV Rostock - MSV Pampow III
CLASS:PUBLIC
DTSTART:20210411T080000Z
DTSTAMP:20200829T080000Z
END:VEVENT
BEGIN:VEVENT
UID:543360-2da69939ed67427dc6bf3daba21059e9
X-WR-RELCALID:543360-2da69939ed67427dc6bf3daba21059e9
ORGANIZER:Volleyball
SEQUENCE:261110851
LOCATION:Sporthalle Schwaan, John-Brinckmann-Straße 1, 18258 Schwaan
GEO:null;null
SUMMARY:LKl W Fr.: SV Warnemünde IV - MSV Pampow III
CLASS:PUBLIC
DTSTART:20210411T080000Z
DTSTAMP:20200829T080000Z
END:VEVENT
BEGIN:VEVENT
UID:543361-2da69939ed67427dc6bf3daba21059e9
X-WR-RELCALID:543361-2da69939ed67427dc6bf3daba21059e9
ORGANIZER:Volleyball
SEQUENCE:261110851
LOCATION:Sporthalle Neustadt-Glewe, Zur Kuhdrift 1, 19306 Neustadt-Gle
 we
GEO:null;null
SUMMARY:LKl W Fr.: SV Fortschritt Neustadt-Glewe - Kühlungsborner VV 9
 5
CLASS:PUBLIC
DTSTART:20210418T080000Z
DTSTAMP:20200829T080000Z
END:VEVENT
BEGIN:VEVENT
UID:543362-2da69939ed67427dc6bf3daba21059e9
X-WR-RELCALID:543362-2da69939ed67427dc6bf3daba21059e9
ORGANIZER:Volleyball
SEQUENCE:261110851
LOCATION:Sporthalle Neustadt-Glewe, Zur Kuhdrift 1, 19306 Neustadt-Gle
 we
GEO:null;null
SUMMARY:LKl W Fr.: SV Fortschritt Neustadt-Glewe - SV Warnemünde IV
CLASS:PUBLIC
DTSTART:20210418T080000Z
DTSTAMP:20200829T080000Z
END:VEVENT
BEGIN:VEVENT
UID:543363-2da69939ed67427dc6bf3daba21059e9
X-WR-RELCALID:543363-2da69939ed67427dc6bf3daba21059e9
ORGANIZER:Volleyball
SEQUENCE:261110851
LOCATION:Sporthalle Neustadt-Glewe, Zur Kuhdrift 1, 19306 Neustadt-Gle
 we
GEO:null;null
SUMMARY:LKl W Fr.: Kühlungsborner VV 95 - SV Warnemünde IV
CLASS:PUBLIC
DTSTART:20210418T080000Z
DTSTAMP:20200829T080000Z
END:VEVENT
BEGIN:VEVENT
UID:543364-2da69939ed67427dc6bf3daba21059e9
X-WR-RELCALID:543364-2da69939ed67427dc6bf3daba21059e9
ORGANIZER:Volleyball
SEQUENCE:261110851
LOCATION:Sporthalle Neustadt-Glewe, Zur Kuhdrift 1, 19306 Neustadt-Gle
 we
GEO:null;null
SUMMARY:LKl W Fr.: SV Hagenow - SG Schwaan-PSV Rostock
CLASS:PUBLIC
DTSTART:20210418T080000Z
DTSTAMP:20200830T151500Z
END:VEVENT
BEGIN:VEVENT
UID:543365-2da69939ed67427dc6bf3daba21059e9
X-WR-RELCALID:543365-2da69939ed67427dc6bf3daba21059e9
ORGANIZER:Volleyball
SEQUENCE:261110851
LOCATION:Sporthalle Neustadt-Glewe, Zur Kuhdrift 1, 19306 Neustadt-Gle
 we
GEO:null;null
SUMMARY:LKl W Fr.: SV Hagenow - Güstrower SC 09 II
CLASS:PUBLIC
DTSTART:20210418T080000Z
DTSTAMP:20200830T151500Z
END:VEVENT
BEGIN:VEVENT
UID:543366-2da69939ed67427dc6bf3daba21059e9
X-WR-RELCALID:543366-2da69939ed67427dc6bf3daba21059e9
ORGANIZER:Volleyball
SEQUENCE:261110851
LOCATION:Sporthalle Neustadt-Glewe, Zur Kuhdrift 1, 19306 Neustadt-Gle
 we
GEO:null;null
SUMMARY:LKl W Fr.: SG Schwaan-PSV Rostock - Güstrower SC 09 II
CLASS:PUBLIC
DTSTART:20210418T080000Z
DTSTAMP:20200830T151500Z
END:VEVENT
END:VCALENDAR