BEGIN:VCALENDAR
VERSION:2.0
PRODID:VSD-Portal-www.volley.de
METHOD:PUBLISH
BEGIN:VEVENT
UID:542586-2da69939ed67427dc6bf3daba21059e9
X-WR-RELCALID:542586-2da69939ed67427dc6bf3daba21059e9
ORGANIZER:Volleyball
SEQUENCE:261141900
LOCATION:Otto-Michelsohn-Sportzentrum, Königswall 10, 32423 Minden
GEO:52.28847320000000000000;8.91016790000000000000
SUMMARY:RLW Mä.: 1. VC Minden - TVA Hürth Volleyball II
CLASS:PUBLIC
DTSTART:20210418T150000Z
DTSTAMP:20200801T074200Z
END:VEVENT
END:VCALENDAR