BEGIN:VCALENDAR
VERSION:2.0
PRODID:VSD-Portal-www.volley.de
METHOD:PUBLISH
BEGIN:VEVENT
UID:542577-2da69939ed67427dc6bf3daba21059e9
X-WR-RELCALID:542577-2da69939ed67427dc6bf3daba21059e9
ORGANIZER:Volleyball
SEQUENCE:261091501
LOCATION:Sportzentrum Weiden, Göttinger Str., 50858 Köln
GEO:50.93454990000000000000;6.83992400000000000000
SUMMARY:RLW Mä.: FCJ Köln II - PTSV Aachen II
CLASS:PUBLIC
DTSTART:20210417T140000Z
DTSTAMP:20200801T074200Z
END:VEVENT
END:VCALENDAR