BEGIN:VCALENDAR
VERSION:2.0
PRODID:VSD-Portal-www.volley.de
METHOD:PUBLISH
BEGIN:VEVENT
UID:542571-2da69939ed67427dc6bf3daba21059e9
X-WR-RELCALID:542571-2da69939ed67427dc6bf3daba21059e9
ORGANIZER:Volleyball
SEQUENCE:261092320
LOCATION:Hardtberghalle Bonn, Gaußstr. 1, 53125 Bonn
GEO:50.70013370000000000000;7.05944040000000000000
SUMMARY:RLW Mä.: SSF Fortuna Bonn - ART Düsseldorf
CLASS:PUBLIC
DTSTART:20210417T140000Z
DTSTAMP:20200803T160000Z
END:VEVENT
END:VCALENDAR