BEGIN:VCALENDAR
VERSION:2.0
PRODID:VSD-Portal-www.volley.de
METHOD:PUBLISH
BEGIN:VEVENT
UID:541294-2da69939ed67427dc6bf3daba21059e9
X-WR-RELCALID:541294-2da69939ed67427dc6bf3daba21059e9
ORGANIZER:Volleyball
SEQUENCE:261102225
LOCATION:OSPA-Arena, Tschaikowskistr. 45, 18069 Rostock
GEO:54.08907000000000000000;12.08736000000000000000
SUMMARY:3. L N Mä.: SV Warnemünde 2 - VG Halstenbek-Pinneberg
CLASS:PUBLIC
DTSTART:20210327T170000Z
DTSTAMP:20210211T164500Z
END:VEVENT
END:VCALENDAR