BEGIN:VCALENDAR
VERSION:2.0
PRODID:VSD-Portal-www.volley.de
METHOD:PUBLISH
BEGIN:VEVENT
UID:541264-2da69939ed67427dc6bf3daba21059e9
X-WR-RELCALID:541264-2da69939ed67427dc6bf3daba21059e9
ORGANIZER:Volleyball
SEQUENCE:261142038
LOCATION:Universitätssporthalle 3 (SH3), Johann-Gottlob-Nathusius-Ring
 , 39106 Magdeburg
GEO:52.13985620000000000000;11.64907630000000000000
SUMMARY:3. L N Mä.: USC Magdeburg - Eimsbütteler TV
CLASS:PUBLIC
DTSTART:20210214T150000Z
DTSTAMP:20210210T110000Z
END:VEVENT
END:VCALENDAR