BEGIN:VCALENDAR
VERSION:2.0
PRODID:VSD-Portal-www.volley.de
METHOD:PUBLISH
BEGIN:VEVENT
UID:541243-2da69939ed67427dc6bf3daba21059e9
X-WR-RELCALID:541243-2da69939ed67427dc6bf3daba21059e9
ORGANIZER:Volleyball
SEQUENCE:261141456
LOCATION:ETV Sportzentrum Bundesstraße, Bundesstr. 96, 20144 Hamburg
GEO:53.57275000000000000000;9.96747000000000000000
SUMMARY:3. L N Mä.: Eimsbütteler TV - SC Potsdam
CLASS:PUBLIC
DTSTART:20210123T190000Z
DTSTAMP:20210211T170000Z
END:VEVENT
END:VCALENDAR