BEGIN:VCALENDAR
VERSION:2.0
PRODID:VSD-Portal-www.volley.de
METHOD:PUBLISH
BEGIN:VEVENT
UID:540524-2da69939ed67427dc6bf3daba21059e9
X-WR-RELCALID:540524-2da69939ed67427dc6bf3daba21059e9
ORGANIZER:Volleyball
SEQUENCE:261092319
LOCATION:GSH Ensdorf, Im Sportzentrum, 66806 Ensdorf
GEO:49.31308600000000000000;6.78705660000000000000
SUMMARY:3. L S Fr.: VSG Saarlouis - SV Sinsheim
CLASS:PUBLIC
DTSTART:20210130T170000Z
DTSTAMP:20210115T154500Z
END:VEVENT
END:VCALENDAR