BEGIN:VCALENDAR
VERSION:2.0
PRODID:VSD-Portal-www.volley.de
METHOD:PUBLISH
BEGIN:VEVENT
UID:540014-2da69939ed67427dc6bf3daba21059e9
X-WR-RELCALID:540014-2da69939ed67427dc6bf3daba21059e9
ORGANIZER:Volleyball
SEQUENCE:261100402
LOCATION:Sporthalle Otto-Hahn-Gymnasium, Im Eichbäumle 1, 76139 Karlsr
 uhe
GEO:49.03253000000000000000;8.44364000000000000000
SUMMARY:2. BL S Mä.: BADEN VOLLEYS SSC Karlsruhe - L.E. Volleys
CLASS:PUBLIC
DTSTART:20200912T170000Z
DTSTAMP:20200713T131500Z
END:VEVENT
BEGIN:VEVENT
UID:540110-2da69939ed67427dc6bf3daba21059e9
X-WR-RELCALID:540110-2da69939ed67427dc6bf3daba21059e9
ORGANIZER:Volleyball
SEQUENCE:261100402
LOCATION:Sporthalle Otto-Hahn-Gymnasium, Im Eichbäumle 1, 76139 Karlsr
 uhe
GEO:49.03253000000000000000;8.44364000000000000000
SUMMARY:2. BL S Mä.: BADEN VOLLEYS SSC Karlsruhe - TSV Mühldorf
CLASS:PUBLIC
DTSTART:20200919T170000Z
DTSTAMP:20200914T091500Z
END:VEVENT
BEGIN:VEVENT
UID:540044-2da69939ed67427dc6bf3daba21059e9
X-WR-RELCALID:540044-2da69939ed67427dc6bf3daba21059e9
ORGANIZER:Volleyball
SEQUENCE:261100402
LOCATION:Sporthalle Otto-Hahn-Gymnasium, Im Eichbäumle 1, 76139 Karlsr
 uhe
GEO:49.03253000000000000000;8.44364000000000000000
SUMMARY:2. BL S Mä.: BADEN VOLLEYS SSC Karlsruhe - TGM Mainz-Gonsenhei
 m
CLASS:PUBLIC
DTSTART:20201011T150000Z
DTSTAMP:20200713T131500Z
END:VEVENT
BEGIN:VEVENT
UID:540024-2da69939ed67427dc6bf3daba21059e9
X-WR-RELCALID:540024-2da69939ed67427dc6bf3daba21059e9
ORGANIZER:Volleyball
SEQUENCE:261100402
LOCATION:Sporthalle Otto-Hahn-Gymnasium, Im Eichbäumle 1, 76139 Karlsr
 uhe
GEO:49.03253000000000000000;8.44364000000000000000
SUMMARY:2. BL S Mä.: BADEN VOLLEYS SSC Karlsruhe - FT 1844 Freiburg
CLASS:PUBLIC
DTSTART:20201018T140000Z
DTSTAMP:20201006T131500Z
END:VEVENT
BEGIN:VEVENT
UID:540182-2da69939ed67427dc6bf3daba21059e9
X-WR-RELCALID:540182-2da69939ed67427dc6bf3daba21059e9
ORGANIZER:Volleyball
SEQUENCE:261100402
LOCATION:Sporthalle Otto-Hahn-Gymnasium, Im Eichbäumle 1, 76139 Karlsr
 uhe
GEO:49.03253000000000000000;8.44364000000000000000
SUMMARY:2. BL S Mä.: BADEN VOLLEYS SSC Karlsruhe - Volley YoungStars F
 riedrichshafen
CLASS:PUBLIC
DTSTART:20201031T140000Z
DTSTAMP:20201012T094500Z
END:VEVENT
BEGIN:VEVENT
UID:540077-2da69939ed67427dc6bf3daba21059e9
X-WR-RELCALID:540077-2da69939ed67427dc6bf3daba21059e9
ORGANIZER:Volleyball
SEQUENCE:261100402
LOCATION:Sporthalle Otto-Hahn-Gymnasium, Im Eichbäumle 1, 76139 Karlsr
 uhe
GEO:49.03253000000000000000;8.44364000000000000000
SUMMARY:2. BL S Mä.: BADEN VOLLEYS SSC Karlsruhe - TuS Kriftel
CLASS:PUBLIC
DTSTART:20201121T180000Z
DTSTAMP:20200713T131500Z
END:VEVENT
BEGIN:VEVENT
UID:540091-2da69939ed67427dc6bf3daba21059e9
X-WR-RELCALID:540091-2da69939ed67427dc6bf3daba21059e9
ORGANIZER:Volleyball
SEQUENCE:261100402
LOCATION:Sporthalle Otto-Hahn-Gymnasium, Im Eichbäumle 1, 76139 Karlsr
 uhe
GEO:49.03253000000000000000;8.44364000000000000000
SUMMARY:2. BL S Mä.: BADEN VOLLEYS SSC Karlsruhe - Blue Volleys Gotha
CLASS:PUBLIC
DTSTART:20201205T180000Z
DTSTAMP:20200713T131500Z
END:VEVENT
BEGIN:VEVENT
UID:540433-2da69939ed67427dc6bf3daba21059e9
X-WR-RELCALID:540433-2da69939ed67427dc6bf3daba21059e9
ORGANIZER:Volleyball
SEQUENCE:261100402
LOCATION:Sporthalle Otto-Hahn-Gymnasium, Im Eichbäumle 1, 76139 Karlsr
 uhe
GEO:49.03253000000000000000;8.44364000000000000000
SUMMARY:2. BL S Mä.: BADEN VOLLEYS SSC Karlsruhe - Dentalservice Gust 
 VC Dresden
CLASS:PUBLIC
DTSTART:20210123T150000Z
DTSTAMP:20210118T141500Z
END:VEVENT
BEGIN:VEVENT
UID:540141-2da69939ed67427dc6bf3daba21059e9
X-WR-RELCALID:540141-2da69939ed67427dc6bf3daba21059e9
ORGANIZER:Volleyball
SEQUENCE:261100402
LOCATION:Sporthalle Otto-Hahn-Gymnasium, Im Eichbäumle 1, 76139 Karlsr
 uhe
GEO:49.03253000000000000000;8.44364000000000000000
SUMMARY:2. BL S Mä.: BADEN VOLLEYS SSC Karlsruhe - SV Schwaig
CLASS:PUBLIC
DTSTART:20210206T153000Z
DTSTAMP:20210201T151500Z
END:VEVENT
BEGIN:VEVENT
UID:540061-2da69939ed67427dc6bf3daba21059e9
X-WR-RELCALID:540061-2da69939ed67427dc6bf3daba21059e9
ORGANIZER:Volleyball
SEQUENCE:261100402
LOCATION:Sporthalle Otto-Hahn-Gymnasium, Im Eichbäumle 1, 76139 Karlsr
 uhe
GEO:49.03253000000000000000;8.44364000000000000000
SUMMARY:2. BL S Mä.: BADEN VOLLEYS SSC Karlsruhe - GSVE Delitzsch
CLASS:PUBLIC
DTSTART:20210220T180000Z
DTSTAMP:20201130T120000Z
END:VEVENT
BEGIN:VEVENT
UID:540159-2da69939ed67427dc6bf3daba21059e9
X-WR-RELCALID:540159-2da69939ed67427dc6bf3daba21059e9
ORGANIZER:Volleyball
SEQUENCE:261100402
LOCATION:Sporthalle Otto-Hahn-Gymnasium, Im Eichbäumle 1, 76139 Karlsr
 uhe
GEO:49.03253000000000000000;8.44364000000000000000
SUMMARY:2. BL S Mä.: BADEN VOLLEYS SSC Karlsruhe - TV Bliesen
CLASS:PUBLIC
DTSTART:20210227T150000Z
DTSTAMP:20210201T100000Z
END:VEVENT
BEGIN:VEVENT
UID:540146-2da69939ed67427dc6bf3daba21059e9
X-WR-RELCALID:540146-2da69939ed67427dc6bf3daba21059e9
ORGANIZER:Volleyball
SEQUENCE:261100402
LOCATION:Sporthalle Otto-Hahn-Gymnasium, Im Eichbäumle 1, 76139 Karlsr
 uhe
GEO:49.03253000000000000000;8.44364000000000000000
SUMMARY:2. BL S Mä.: BADEN VOLLEYS SSC Karlsruhe - TSV Mimmenhausen
CLASS:PUBLIC
DTSTART:20210306T170000Z
DTSTAMP:20210222T074000Z
END:VEVENT
BEGIN:VEVENT
UID:540176-2da69939ed67427dc6bf3daba21059e9
X-WR-RELCALID:540176-2da69939ed67427dc6bf3daba21059e9
ORGANIZER:Volleyball
SEQUENCE:261100402
LOCATION:Sporthalle Otto-Hahn-Gymnasium, Im Eichbäumle 1, 76139 Karlsr
 uhe
GEO:49.03253000000000000000;8.44364000000000000000
SUMMARY:2. BL S Mä.: BADEN VOLLEYS SSC Karlsruhe - TSV Grafing
CLASS:PUBLIC
DTSTART:20210327T180000Z
DTSTAMP:20200713T131500Z
END:VEVENT
BEGIN:VEVENT
UID:540191-2da69939ed67427dc6bf3daba21059e9
X-WR-RELCALID:540191-2da69939ed67427dc6bf3daba21059e9
ORGANIZER:Volleyball
SEQUENCE:261100402
LOCATION:Sporthalle Otto-Hahn-Gymnasium, Im Eichbäumle 1, 76139 Karlsr
 uhe
GEO:49.03253000000000000000;8.44364000000000000000
SUMMARY:2. BL S Mä.: BADEN VOLLEYS SSC Karlsruhe - TV/DJK Hammelburg
CLASS:PUBLIC
DTSTART:20210424T170000Z
DTSTAMP:20200713T131500Z
END:VEVENT
END:VCALENDAR