BEGIN:VCALENDAR
VERSION:2.0
PRODID:VSD-Portal-www.volley.de
METHOD:PUBLISH
BEGIN:VEVENT
UID:531579-2da69939ed67427dc6bf3daba21059e9
X-WR-RELCALID:531579-2da69939ed67427dc6bf3daba21059e9
ORGANIZER:Volleyball
SEQUENCE:261100018
LOCATION:2, Tempelhof, 2, 0  Tempelhof
GEO:52.46949386596680000000;13.38560009002685500000
SUMMARY:BLL Fr.: DJK Westen I - TSV Spandau I
CLASS:PUBLIC
DTSTART:20190928T120000Z
DTSTAMP:20190831T063400Z
END:VEVENT
BEGIN:VEVENT
UID:531601-2da69939ed67427dc6bf3daba21059e9
X-WR-RELCALID:531601-2da69939ed67427dc6bf3daba21059e9
ORGANIZER:Volleyball
SEQUENCE:261100018
LOCATION:34, Steglitz, 34, 0  Steglitz
GEO:52.45309448242187500000;13.33117103576660200000
SUMMARY:BLL Fr.: DJK Westen I - Rotation Prenzlauer Berg IV
CLASS:PUBLIC
DTSTART:20191103T090000Z
DTSTAMP:20190831T063400Z
END:VEVENT
BEGIN:VEVENT
UID:531602-2da69939ed67427dc6bf3daba21059e9
X-WR-RELCALID:531602-2da69939ed67427dc6bf3daba21059e9
ORGANIZER:Volleyball
SEQUENCE:261100018
LOCATION:34, Steglitz, 34, 0  Steglitz
GEO:52.45309448242187500000;13.33117103576660200000
SUMMARY:BLL Fr.: DJK Westen I - TSV Tempelhof/Mariendorf II
CLASS:PUBLIC
DTSTART:20191103T090000Z
DTSTAMP:20190831T063400Z
END:VEVENT
BEGIN:VEVENT
UID:531621-2da69939ed67427dc6bf3daba21059e9
X-WR-RELCALID:531621-2da69939ed67427dc6bf3daba21059e9
ORGANIZER:Volleyball
SEQUENCE:261100018
LOCATION:15, Reinickendorf, 15, 0  Reinickendorf
GEO:52.57904052734375000000;13.28053569793701200000
SUMMARY:BLL Fr.: DJK Westen I - VfK Berlin-Südwest I
CLASS:PUBLIC
DTSTART:20191201T090000Z
DTSTAMP:20190831T063400Z
END:VEVENT
BEGIN:VEVENT
UID:531631-2da69939ed67427dc6bf3daba21059e9
X-WR-RELCALID:531631-2da69939ed67427dc6bf3daba21059e9
ORGANIZER:Volleyball
SEQUENCE:261100018
LOCATION:34, Steglitz, 34, 0  Steglitz
GEO:52.45309448242187500000;13.33117103576660200000
SUMMARY:BLL Fr.: DJK Westen I - TSV Wedding I
CLASS:PUBLIC
DTSTART:20191214T130000Z
DTSTAMP:20190831T063400Z
END:VEVENT
BEGIN:VEVENT
UID:531632-2da69939ed67427dc6bf3daba21059e9
X-WR-RELCALID:531632-2da69939ed67427dc6bf3daba21059e9
ORGANIZER:Volleyball
SEQUENCE:261100018
LOCATION:34, Steglitz, 34, 0  Steglitz
GEO:52.45309448242187500000;13.33117103576660200000
SUMMARY:BLL Fr.: DJK Westen I - Rotation Prenzlauer Berg IV
CLASS:PUBLIC
DTSTART:20191214T130000Z
DTSTAMP:20190831T063400Z
END:VEVENT
BEGIN:VEVENT
UID:531646-2da69939ed67427dc6bf3daba21059e9
X-WR-RELCALID:531646-2da69939ed67427dc6bf3daba21059e9
ORGANIZER:Volleyball
SEQUENCE:261100018
LOCATION:34, Steglitz, 34, 0  Steglitz
GEO:52.45309448242187500000;13.33117103576660200000
SUMMARY:BLL Fr.: DJK Westen I - VC Rotation Mitte I
CLASS:PUBLIC
DTSTART:20200118T130000Z
DTSTAMP:20190831T063400Z
END:VEVENT
BEGIN:VEVENT
UID:531647-2da69939ed67427dc6bf3daba21059e9
X-WR-RELCALID:531647-2da69939ed67427dc6bf3daba21059e9
ORGANIZER:Volleyball
SEQUENCE:261100018
LOCATION:34, Steglitz, 34, 0  Steglitz
GEO:52.45309448242187500000;13.33117103576660200000
SUMMARY:BLL Fr.: DJK Westen I - Rotation Prenzlauer Berg VI
CLASS:PUBLIC
DTSTART:20200118T130000Z
DTSTAMP:20190831T063400Z
END:VEVENT
BEGIN:VEVENT
UID:531667-2da69939ed67427dc6bf3daba21059e9
X-WR-RELCALID:531667-2da69939ed67427dc6bf3daba21059e9
ORGANIZER:Volleyball
SEQUENCE:261100018
LOCATION:34, Steglitz, 34, 0  Steglitz
GEO:52.45309448242187500000;13.33117103576660200000
SUMMARY:BLL Fr.: DJK Westen I - TSV Spandau I
CLASS:PUBLIC
DTSTART:20200308T090000Z
DTSTAMP:20190831T063400Z
END:VEVENT
BEGIN:VEVENT
UID:531668-2da69939ed67427dc6bf3daba21059e9
X-WR-RELCALID:531668-2da69939ed67427dc6bf3daba21059e9
ORGANIZER:Volleyball
SEQUENCE:261100018
LOCATION:34, Steglitz, 34, 0  Steglitz
GEO:52.45309448242187500000;13.33117103576660200000
SUMMARY:BLL Fr.: DJK Westen I - Rotation Prenzlauer Berg V
CLASS:PUBLIC
DTSTART:20200308T090000Z
DTSTAMP:20190831T063400Z
END:VEVENT
BEGIN:VEVENT
UID:531675-2da69939ed67427dc6bf3daba21059e9
X-WR-RELCALID:531675-2da69939ed67427dc6bf3daba21059e9
ORGANIZER:Volleyball
SEQUENCE:261100018
LOCATION:89, Rudow, 89, 0  Rudow
GEO:52.41572570800781000000;13.49649524688720700000
SUMMARY:BLL Fr.: DJK Westen I - Rotation Prenzlauer Berg V
CLASS:PUBLIC
DTSTART:20200321T130000Z
DTSTAMP:20190831T063400Z
END:VEVENT
END:VCALENDAR