BEGIN:VCALENDAR
VERSION:2.0
PRODID:VSD-Portal-www.volley.de
METHOD:PUBLISH
BEGIN:VEVENT
UID:531675-2da69939ed67427dc6bf3daba21059e9
X-WR-RELCALID:531675-2da69939ed67427dc6bf3daba21059e9
ORGANIZER:Volleyball
SEQUENCE:261111127
LOCATION:89, Rudow, 89, 0  Rudow
GEO:52.41572570800781000000;13.49649524688720700000
SUMMARY:BLL Fr.: DJK Westen I - Rotation Prenzlauer Berg V
CLASS:PUBLIC
DTSTART:20200321T130000Z
DTSTAMP:20190831T063400Z
END:VEVENT
END:VCALENDAR