BEGIN:VCALENDAR
VERSION:2.0
PRODID:VSD-Portal-www.volley.de
METHOD:PUBLISH
BEGIN:VEVENT
UID:528464-2da69939ed67427dc6bf3daba21059e9
X-WR-RELCALID:528464-2da69939ed67427dc6bf3daba21059e9
ORGANIZER:Volleyball
SEQUENCE:261100047
LOCATION:Grundschule Groß Munzel, Am Steinhof, 30890 Barsinghausen
GEO:52.36381000000000000000;9.47587490000000000000
SUMMARY:BL Han. 1 Fr.: TSV Groß Munzel - VSG Düngen/Holle/Bodenburg II
 I
CLASS:PUBLIC
DTSTART:20200314T140000Z
DTSTAMP:20190803T114200Z
END:VEVENT
END:VCALENDAR