BEGIN:VCALENDAR
VERSION:2.0
PRODID:VSD-Portal-www.volley.de
METHOD:PUBLISH
BEGIN:VEVENT
UID:520404-2da69939ed67427dc6bf3daba21059e9
X-WR-RELCALID:520404-2da69939ed67427dc6bf3daba21059e9
ORGANIZER:Volleyball
SEQUENCE:261111124
LOCATION:3-Felderhalle USV, Jena, 3-Felderhalle USV, 0  Jena
GEO:50.91858291625976600000;11.59135150909423800000
SUMMARY:VL N Fr.: 1. SV Pößneck e.V. - SV SCHOTT JENA e.V. 1
CLASS:PUBLIC
DTSTART:20200328T100000Z
DTSTAMP:20191005T130500Z
END:VEVENT
END:VCALENDAR