BEGIN:VCALENDAR
VERSION:2.0
PRODID:VSD-Portal-www.volley.de
METHOD:PUBLISH
BEGIN:VEVENT
UID:521080-2da69939ed67427dc6bf3daba21059e9
X-WR-RELCALID:521080-2da69939ed67427dc6bf3daba21059e9
ORGANIZER:Volleyball
SEQUENCE:261100016
LOCATION:Dreifelder-Halle, Meiningen, Dreifelder-Halle, 0  Meiningen
GEO:50.59178924560547000000;10.41650962829589800000
SUMMARY:BL S W Fr.: SV Grün Weiß - Wasungen 1 - Volleyball Club Gotha 
 II
CLASS:PUBLIC
DTSTART:20200328T100000Z
DTSTAMP:20191005T171000Z
END:VEVENT
END:VCALENDAR