BEGIN:VCALENDAR
VERSION:2.0
PRODID:VSD-Portal-www.volley.de
METHOD:PUBLISH
BEGIN:VEVENT
UID:521068-2da69939ed67427dc6bf3daba21059e9
X-WR-RELCALID:521068-2da69939ed67427dc6bf3daba21059e9
ORGANIZER:Volleyball
SEQUENCE:261142037
LOCATION:FZ Hansenschule, Gotha, FZ Hansenschule, 0  Gotha
GEO:50.95568084716797000000;10.70071029663086000000
SUMMARY:BL S W Fr.: VV 70 Meiningen II - SV Medizin Bad Liebenstein
CLASS:PUBLIC
DTSTART:20200229T100000Z
DTSTAMP:20191005T171000Z
END:VEVENT
END:VCALENDAR