BEGIN:VCALENDAR
VERSION:2.0
PRODID:VSD-Portal-www.volley.de
METHOD:PUBLISH
BEGIN:VEVENT
UID:521030-2da69939ed67427dc6bf3daba21059e9
X-WR-RELCALID:521030-2da69939ed67427dc6bf3daba21059e9
ORGANIZER:Volleyball
SEQUENCE:261151348
LOCATION:FZ Hansenschule, Gotha, FZ Hansenschule, 0  Gotha
GEO:50.95568084716797000000;10.70071029663086000000
SUMMARY:BL S W Fr.: FSV 1950 Gotha e.V. - VV 70 Meiningen II
CLASS:PUBLIC
DTSTART:20190928T090000Z
DTSTAMP:20191005T171000Z
END:VEVENT
END:VCALENDAR