BEGIN:VCALENDAR
VERSION:2.0
PRODID:VSD-Portal-www.volley.de
METHOD:PUBLISH
BEGIN:VEVENT
UID:520507-2da69939ed67427dc6bf3daba21059e9
X-WR-RELCALID:520507-2da69939ed67427dc6bf3daba21059e9
ORGANIZER:Volleyball
SEQUENCE:261141858
LOCATION:Gropius-Schule, Erfurt, Gropius-Schule, 0  Erfurt
GEO:50.97379302978515600000;10.99539947509765600000
SUMMARY:VL N Mä.: SG  ERFURT electronic I - Erfurter VC II
CLASS:PUBLIC
DTSTART:20200328T100000Z
DTSTAMP:20191005T171000Z
END:VEVENT
END:VCALENDAR