BEGIN:VCALENDAR
VERSION:2.0
PRODID:VSD-Portal-www.volley.de
METHOD:PUBLISH
BEGIN:VEVENT
UID:520501-2da69939ed67427dc6bf3daba21059e9
X-WR-RELCALID:520501-2da69939ed67427dc6bf3daba21059e9
ORGANIZER:Volleyball
SEQUENCE:261150508
LOCATION:Werner-Seelenbinder-Sporthalle, Apolda, Werner-Seelenbinder-S
 porthalle, 0  Apolda
GEO:51.02990341186523400000;11.51126766204834000000
SUMMARY:VL N Mä.: 1. VC Schloß Apolda I - VSV 90 Ebeleben
CLASS:PUBLIC
DTSTART:20200328T100000Z
DTSTAMP:20191005T171000Z
END:VEVENT
END:VCALENDAR