BEGIN:VCALENDAR
VERSION:2.0
PRODID:VSD-Portal-www.volley.de
METHOD:PUBLISH
BEGIN:VEVENT
UID:520709-2da69939ed67427dc6bf3daba21059e9
X-WR-RELCALID:520709-2da69939ed67427dc6bf3daba21059e9
ORGANIZER:Volleyball
SEQUENCE:261111126
LOCATION:SH Regelschule, Wasungen, SH Regelschule, 0  Wasungen
GEO:50.66098403930664000000;10.37299442291259800000
SUMMARY:VL S Mä.: SV Grün Weiß - Wasungen 1 - TSV 90 Gotha
CLASS:PUBLIC
DTSTART:20200328T120000Z
DTSTAMP:20190923T104500Z
END:VEVENT
END:VCALENDAR