BEGIN:VCALENDAR
VERSION:2.0
PRODID:VSD-Portal-www.volley.de
METHOD:PUBLISH
BEGIN:VEVENT
UID:521022-2da69939ed67427dc6bf3daba21059e9
X-WR-RELCALID:521022-2da69939ed67427dc6bf3daba21059e9
ORGANIZER:Volleyball
SEQUENCE:261142037
LOCATION:SH Eisfeld, Eisfeld, SH Eisfeld, 0  Eisfeld
GEO:50.42331695556640600000;10.90759277343750000000
SUMMARY:BL S O Mä.: SV 03 Eisfeld 1 - 1. Sonneberger VC 2004  II
CLASS:PUBLIC
DTSTART:20200321T120000Z
DTSTAMP:20191005T145000Z
END:VEVENT
END:VCALENDAR