BEGIN:VCALENDAR
VERSION:2.0
PRODID:VSD-Portal-www.volley.de
METHOD:PUBLISH
BEGIN:VEVENT
UID:503003-2da69939ed67427dc6bf3daba21059e9
X-WR-RELCALID:503003-2da69939ed67427dc6bf3daba21059e9
ORGANIZER:Volleyball
SEQUENCE:261141115
LOCATION:Robert-Bosch-Gesamtschule, Richthofenstraße, 31137 Hildesheim
 
GEO:52.16669720000000000000;9.94625030000000000000
SUMMARY:3. L W Fr.: MTV Hildesheim - SV Blau-Weiß Aasee
CLASS:PUBLIC
DTSTART:20200314T150000Z
DTSTAMP:20190720T094400Z
END:VEVENT
END:VCALENDAR