BEGIN:VCALENDAR
VERSION:2.0
PRODID:VSD-Portal-www.volley.de
METHOD:PUBLISH
BEGIN:VEVENT
UID:501973-2da69939ed67427dc6bf3daba21059e9
X-WR-RELCALID:501973-2da69939ed67427dc6bf3daba21059e9
ORGANIZER:Volleyball
SEQUENCE:261091520
LOCATION:Dellengartenhalle, Saarbrücken, Dellengartenhalle, 0  Saarbrü
 cken
GEO:49.24015808105469000000;6.99693250656127900000
SUMMARY:KL Fr.: SG ATSV/Fechingen 2 - TV Losheim 2
CLASS:PUBLIC
DTSTART;VALUE=DATE:20181020
DTSTAMP:20181216T220400Z
DTEND;VALUE=DATE:20181021
END:VEVENT
BEGIN:VEVENT
UID:501974-2da69939ed67427dc6bf3daba21059e9
X-WR-RELCALID:501974-2da69939ed67427dc6bf3daba21059e9
ORGANIZER:Volleyball
SEQUENCE:261091520
LOCATION:Dellengartenhalle, Saarbrücken, Dellengartenhalle, 0  Saarbrü
 cken
GEO:49.24015808105469000000;6.99693250656127900000
SUMMARY:KL Fr.: SG ATSV/Fechingen 2 - TV Rehlingen 2
CLASS:PUBLIC
DTSTART;VALUE=DATE:20181020
DTSTAMP:20181216T220400Z
DTEND;VALUE=DATE:20181021
END:VEVENT
BEGIN:VEVENT
UID:501980-2da69939ed67427dc6bf3daba21059e9
X-WR-RELCALID:501980-2da69939ed67427dc6bf3daba21059e9
ORGANIZER:Volleyball
SEQUENCE:261091520
LOCATION:Schulturnhalle Wadgassen Abteistr. 18a, Wadgassen, Schulturnh
 alle Wadgassen Abteistr. 18a, 0  Wadgassen
GEO:49.26884078979492000000;6.79882001876831050000
SUMMARY:KL Fr.: VC Warndt 2 - SG ATSV/Fechingen 2
CLASS:PUBLIC
DTSTART;VALUE=DATE:20181027
DTSTAMP:20181216T220500Z
DTEND;VALUE=DATE:20181028
END:VEVENT
BEGIN:VEVENT
UID:501990-2da69939ed67427dc6bf3daba21059e9
X-WR-RELCALID:501990-2da69939ed67427dc6bf3daba21059e9
ORGANIZER:Volleyball
SEQUENCE:261091520
LOCATION:Sporthalle Hasborn, Tholey-Hasborn, Sporthalle Hasborn, 0  Th
 oley-Hasborn
GEO:49.49153137207031000000;6.98126077651977500000
SUMMARY:KL Fr.: SC Hasborn 2 - SG ATSV/Fechingen 2
CLASS:PUBLIC
DTSTART;VALUE=DATE:20181110
DTSTAMP:20181216T220500Z
DTEND;VALUE=DATE:20181111
END:VEVENT
BEGIN:VEVENT
UID:501993-2da69939ed67427dc6bf3daba21059e9
X-WR-RELCALID:501993-2da69939ed67427dc6bf3daba21059e9
ORGANIZER:Volleyball
SEQUENCE:261091520
LOCATION:Sporthalle Friedrich-Schiller-Schule, Heusweiler, Sporthalle 
 Friedrich-Schiller-Schule, 0  Heusweiler
GEO:49.33301162719726600000;6.92326593399047850000
SUMMARY:KL Fr.: TV Holz 02 e.V. 4 - SG ATSV/Fechingen 2
CLASS:PUBLIC
DTSTART;VALUE=DATE:20181124
DTSTAMP:20181216T220500Z
DTEND;VALUE=DATE:20181125
END:VEVENT
BEGIN:VEVENT
UID:502003-2da69939ed67427dc6bf3daba21059e9
X-WR-RELCALID:502003-2da69939ed67427dc6bf3daba21059e9
ORGANIZER:Volleyball
SEQUENCE:261091520
LOCATION:Dellengartenhalle, Saarbrücken, Dellengartenhalle, 0  Saarbrü
 cken
GEO:49.24015808105469000000;6.99693250656127900000
SUMMARY:KL Fr.: SG ATSV/Fechingen 2 - SVK Blieskastel-Zweibrücken
CLASS:PUBLIC
DTSTART;VALUE=DATE:20181208
DTSTAMP:20181216T220500Z
DTEND;VALUE=DATE:20181209
END:VEVENT
BEGIN:VEVENT
UID:502004-2da69939ed67427dc6bf3daba21059e9
X-WR-RELCALID:502004-2da69939ed67427dc6bf3daba21059e9
ORGANIZER:Volleyball
SEQUENCE:261091520
LOCATION:Dellengartenhalle, Saarbrücken, Dellengartenhalle, 0  Saarbrü
 cken
GEO:49.24015808105469000000;6.99693250656127900000
SUMMARY:KL Fr.: SG ATSV/Fechingen 2 - VC Besch
CLASS:PUBLIC
DTSTART;VALUE=DATE:20181208
DTSTAMP:20181216T220500Z
DTEND;VALUE=DATE:20181209
END:VEVENT
BEGIN:VEVENT
UID:502005-2da69939ed67427dc6bf3daba21059e9
X-WR-RELCALID:502005-2da69939ed67427dc6bf3daba21059e9
ORGANIZER:Volleyball
SEQUENCE:261091520
LOCATION:Sporthalle Schäferpfad, Saarwellingen, Sporthalle Schäferpfad
 , 0  Saarwellingen
GEO:49.33718490600586000000;6.86844730377197300000
SUMMARY:KL Fr.: TV Saarwellingen 2 - SG ATSV/Fechingen 2
CLASS:PUBLIC
DTSTART;VALUE=DATE:20190112
DTSTAMP:20181216T220500Z
DTEND;VALUE=DATE:20190113
END:VEVENT
BEGIN:VEVENT
UID:502011-2da69939ed67427dc6bf3daba21059e9
X-WR-RELCALID:502011-2da69939ed67427dc6bf3daba21059e9
ORGANIZER:Volleyball
SEQUENCE:261091520
LOCATION:Dellengartenhalle, Saarbrücken, Dellengartenhalle, 0  Saarbrü
 cken
GEO:49.24015808105469000000;6.99693250656127900000
SUMMARY:KL Fr.: SG ATSV/Fechingen 2 - VC Warndt 2
CLASS:PUBLIC
DTSTART;VALUE=DATE:20190119
DTSTAMP:20181216T220500Z
DTEND;VALUE=DATE:20190120
END:VEVENT
BEGIN:VEVENT
UID:502012-2da69939ed67427dc6bf3daba21059e9
X-WR-RELCALID:502012-2da69939ed67427dc6bf3daba21059e9
ORGANIZER:Volleyball
SEQUENCE:261091520
LOCATION:Dellengartenhalle, Saarbrücken, Dellengartenhalle, 0  Saarbrü
 cken
GEO:49.24015808105469000000;6.99693250656127900000
SUMMARY:KL Fr.: SG ATSV/Fechingen 2 - TV Holz 02 e.V. 4
CLASS:PUBLIC
DTSTART;VALUE=DATE:20190119
DTSTAMP:20181216T220500Z
DTEND;VALUE=DATE:20190120
END:VEVENT
BEGIN:VEVENT
UID:502018-2da69939ed67427dc6bf3daba21059e9
X-WR-RELCALID:502018-2da69939ed67427dc6bf3daba21059e9
ORGANIZER:Volleyball
SEQUENCE:261091520
LOCATION:Kulturhalle Rehlingen, Rehlingen, Kulturhalle Rehlingen, 0  R
 ehlingen
GEO:49.36515045166015600000;6.66830253601074200000
SUMMARY:KL Fr.: TV Rehlingen 2 - SG ATSV/Fechingen 2
CLASS:PUBLIC
DTSTART;VALUE=DATE:20190126
DTSTAMP:20181216T220500Z
DTEND;VALUE=DATE:20190127
END:VEVENT
BEGIN:VEVENT
UID:502026-2da69939ed67427dc6bf3daba21059e9
X-WR-RELCALID:502026-2da69939ed67427dc6bf3daba21059e9
ORGANIZER:Volleyball
SEQUENCE:261091520
LOCATION:Schulturnhalle Perl, Perl, Schulturnhalle Perl, 0  Perl
GEO:49.47882080078125000000;6.38687849044799800000
SUMMARY:KL Fr.: VC Besch - SG ATSV/Fechingen 2
CLASS:PUBLIC
DTSTART;VALUE=DATE:20190209
DTSTAMP:20181216T220500Z
DTEND;VALUE=DATE:20190210
END:VEVENT
BEGIN:VEVENT
UID:502027-2da69939ed67427dc6bf3daba21059e9
X-WR-RELCALID:502027-2da69939ed67427dc6bf3daba21059e9
ORGANIZER:Volleyball
SEQUENCE:261091520
LOCATION:Dellengartenhalle, Saarbrücken, Dellengartenhalle, 0  Saarbrü
 cken
GEO:49.24015808105469000000;6.99693250656127900000
SUMMARY:KL Fr.: SG ATSV/Fechingen 2 - TV Saarwellingen 2
CLASS:PUBLIC
DTSTART;VALUE=DATE:20190216
DTSTAMP:20181216T220500Z
DTEND;VALUE=DATE:20190217
END:VEVENT
BEGIN:VEVENT
UID:502028-2da69939ed67427dc6bf3daba21059e9
X-WR-RELCALID:502028-2da69939ed67427dc6bf3daba21059e9
ORGANIZER:Volleyball
SEQUENCE:261091520
LOCATION:Dellengartenhalle, Saarbrücken, Dellengartenhalle, 0  Saarbrü
 cken
GEO:49.24015808105469000000;6.99693250656127900000
SUMMARY:KL Fr.: SG ATSV/Fechingen 2 - SC Hasborn 2
CLASS:PUBLIC
DTSTART;VALUE=DATE:20190216
DTSTAMP:20181216T220500Z
DTEND;VALUE=DATE:20190217
END:VEVENT
BEGIN:VEVENT
UID:502033-2da69939ed67427dc6bf3daba21059e9
X-WR-RELCALID:502033-2da69939ed67427dc6bf3daba21059e9
ORGANIZER:Volleyball
SEQUENCE:261091520
LOCATION:Hofenfelsgymnasium, Zweibrücken, Hofenfelsgymnasium, 0  Zweib
 rücken
GEO:49.25809478759765600000;7.37896871566772500000
SUMMARY:KL Fr.: SVK Blieskastel-Zweibrücken - SG ATSV/Fechingen 2
CLASS:PUBLIC
DTSTART;VALUE=DATE:20190309
DTSTAMP:20181216T220500Z
DTEND;VALUE=DATE:20190310
END:VEVENT
BEGIN:VEVENT
UID:502041-2da69939ed67427dc6bf3daba21059e9
X-WR-RELCALID:502041-2da69939ed67427dc6bf3daba21059e9
ORGANIZER:Volleyball
SEQUENCE:261091520
LOCATION:Dr. Röder Halle, Losheim am See, Dr. Röder Halle, 0  Losheim 
 am See
GEO:49.50968170166015600000;6.74724769592285200000
SUMMARY:KL Fr.: TV Losheim 2 - SG ATSV/Fechingen 2
CLASS:PUBLIC
DTSTART;VALUE=DATE:20190323
DTSTAMP:20181216T220500Z
DTEND;VALUE=DATE:20190324
END:VEVENT
END:VCALENDAR