BEGIN:VCALENDAR
VERSION:2.0
PRODID:VSD-Portal-www.volley.de
METHOD:PUBLISH
BEGIN:VEVENT
UID:501492-2da69939ed67427dc6bf3daba21059e9
X-WR-RELCALID:501492-2da69939ed67427dc6bf3daba21059e9
ORGANIZER:Volleyball
SEQUENCE:261130221
LOCATION:Fischbachhalle, Quierschied-Fischbach, Fischbachhalle, 0  Qui
 erschied-Fischbach
GEO:49.30723953247070000000;7.02915191650390600000
SUMMARY:VL Mä.: TV Quierschied - TV Scheidt
CLASS:PUBLIC
DTSTART;VALUE=DATE:20181020
DTSTAMP:20181216T215300Z
DTEND;VALUE=DATE:20181021
END:VEVENT
BEGIN:VEVENT
UID:501493-2da69939ed67427dc6bf3daba21059e9
X-WR-RELCALID:501493-2da69939ed67427dc6bf3daba21059e9
ORGANIZER:Volleyball
SEQUENCE:261130221
LOCATION:Sporthalle Brebach, Saarbrücken-Brebach, Sporthalle Brebach, 
 0  Saarbrücken-Brebach
GEO:49.20866012573242000000;7.04406023025512700000
SUMMARY:VL Mä.: TV Scheidt - TV Klarenthal
CLASS:PUBLIC
DTSTART;VALUE=DATE:20181027
DTSTAMP:20181216T215300Z
DTEND;VALUE=DATE:20181028
END:VEVENT
BEGIN:VEVENT
UID:501494-2da69939ed67427dc6bf3daba21059e9
X-WR-RELCALID:501494-2da69939ed67427dc6bf3daba21059e9
ORGANIZER:Volleyball
SEQUENCE:261130221
LOCATION:Sporthalle Brebach, Saarbrücken-Brebach, Sporthalle Brebach, 
 0  Saarbrücken-Brebach
GEO:49.20866012573242000000;7.04406023025512700000
SUMMARY:VL Mä.: TV Scheidt - TV Klarenthal 2
CLASS:PUBLIC
DTSTART;VALUE=DATE:20181027
DTSTAMP:20181216T215300Z
DTEND;VALUE=DATE:20181028
END:VEVENT
BEGIN:VEVENT
UID:501497-2da69939ed67427dc6bf3daba21059e9
X-WR-RELCALID:501497-2da69939ed67427dc6bf3daba21059e9
ORGANIZER:Volleyball
SEQUENCE:261130221
LOCATION:Wiesbachhalle, Eppelborn-Wiesbach, Wiesbachhalle, 0  Eppelbor
 n-Wiesbach
GEO:49.36915206909180000000;6.98245382308960000000
SUMMARY:VL Mä.: TV Wiesbach - TV Klarenthal
CLASS:PUBLIC
DTSTART;VALUE=DATE:20181103
DTSTAMP:20181216T215300Z
DTEND;VALUE=DATE:20181104
END:VEVENT
BEGIN:VEVENT
UID:501498-2da69939ed67427dc6bf3daba21059e9
X-WR-RELCALID:501498-2da69939ed67427dc6bf3daba21059e9
ORGANIZER:Volleyball
SEQUENCE:261130221
LOCATION:Schulturnhalle Scheidt, Saarbrücken-Scheidt, Schulturnhalle S
 cheidt, 0  Saarbrücken-Scheidt
GEO:49.24914550781250000000;7.05300092697143550000
SUMMARY:VL Mä.: SVK Blieskastel-Zweibrücken - TV Klarenthal 2
CLASS:PUBLIC
DTSTART;VALUE=DATE:20181103
DTSTAMP:20181216T215300Z
DTEND;VALUE=DATE:20181104
END:VEVENT
BEGIN:VEVENT
UID:501500-2da69939ed67427dc6bf3daba21059e9
X-WR-RELCALID:501500-2da69939ed67427dc6bf3daba21059e9
ORGANIZER:Volleyball
SEQUENCE:261130221
LOCATION:Schulturnhalle Scheidt, Saarbrücken-Scheidt, Schulturnhalle S
 cheidt, 0  Saarbrücken-Scheidt
GEO:49.24914550781250000000;7.05300092697143550000
SUMMARY:VL Mä.: TV Scheidt - TV Quierschied
CLASS:PUBLIC
DTSTART;VALUE=DATE:20181103
DTSTAMP:20181216T215300Z
DTEND;VALUE=DATE:20181104
END:VEVENT
BEGIN:VEVENT
UID:501505-2da69939ed67427dc6bf3daba21059e9
X-WR-RELCALID:501505-2da69939ed67427dc6bf3daba21059e9
ORGANIZER:Volleyball
SEQUENCE:261130221
LOCATION:Sporthalle Klarenthal, Saarbrücken-Klarenthal, Sporthalle Kla
 renthal, 0  Saarbrücken-Klarenthal
GEO:49.23017501831055000000;6.90059041976928700000
SUMMARY:VL Mä.: TV Klarenthal - TV Quierschied
CLASS:PUBLIC
DTSTART;VALUE=DATE:20181110
DTSTAMP:20181216T215300Z
DTEND;VALUE=DATE:20181111
END:VEVENT
BEGIN:VEVENT
UID:501506-2da69939ed67427dc6bf3daba21059e9
X-WR-RELCALID:501506-2da69939ed67427dc6bf3daba21059e9
ORGANIZER:Volleyball
SEQUENCE:261130221
LOCATION:Taubenfeldhalle, Quierschied, Taubenfeldhalle, 0  Quierschied
 
GEO:49.32918548583984400000;7.05050992965698200000
SUMMARY:VL Mä.: TV Quierschied - SVK Blieskastel-Zweibrücken
CLASS:PUBLIC
DTSTART;VALUE=DATE:20181119
DTSTAMP:20181216T215300Z
DTEND;VALUE=DATE:20181120
END:VEVENT
BEGIN:VEVENT
UID:501507-2da69939ed67427dc6bf3daba21059e9
X-WR-RELCALID:501507-2da69939ed67427dc6bf3daba21059e9
ORGANIZER:Volleyball
SEQUENCE:261130221
LOCATION:Schulturnhalle Wiesbach, Eppelborn-Wiesbach, Schulturnhalle W
 iesbach, 0  Eppelborn-Wiesbach
GEO:49.41896057128906000000;7.01806211471557600000
SUMMARY:VL Mä.: TV Wiesbach - TV Quierschied
CLASS:PUBLIC
DTSTART;VALUE=DATE:20181124
DTSTAMP:20181216T215300Z
DTEND;VALUE=DATE:20181125
END:VEVENT
BEGIN:VEVENT
UID:501508-2da69939ed67427dc6bf3daba21059e9
X-WR-RELCALID:501508-2da69939ed67427dc6bf3daba21059e9
ORGANIZER:Volleyball
SEQUENCE:261130221
LOCATION:Schulturnhalle Wiesbach, Eppelborn-Wiesbach, Schulturnhalle W
 iesbach, 0  Eppelborn-Wiesbach
GEO:49.41896057128906000000;7.01806211471557600000
SUMMARY:VL Mä.: TV Wiesbach - TV Scheidt
CLASS:PUBLIC
DTSTART;VALUE=DATE:20181124
DTSTAMP:20181216T215300Z
DTEND;VALUE=DATE:20181125
END:VEVENT
BEGIN:VEVENT
UID:501509-2da69939ed67427dc6bf3daba21059e9
X-WR-RELCALID:501509-2da69939ed67427dc6bf3daba21059e9
ORGANIZER:Volleyball
SEQUENCE:261130221
LOCATION:Sporthalle Klarenthal, Saarbrücken-Klarenthal, Sporthalle Kla
 renthal, 0  Saarbrücken-Klarenthal
GEO:49.23017501831055000000;6.90059041976928700000
SUMMARY:VL Mä.: TV Klarenthal - TV Klarenthal 2
CLASS:PUBLIC
DTSTART;VALUE=DATE:20181124
DTSTAMP:20181216T215300Z
DTEND;VALUE=DATE:20181125
END:VEVENT
BEGIN:VEVENT
UID:501510-2da69939ed67427dc6bf3daba21059e9
X-WR-RELCALID:501510-2da69939ed67427dc6bf3daba21059e9
ORGANIZER:Volleyball
SEQUENCE:261130221
LOCATION:Sporthalle Klarenthal, Saarbrücken-Klarenthal, Sporthalle Kla
 renthal, 0  Saarbrücken-Klarenthal
GEO:49.23017501831055000000;6.90059041976928700000
SUMMARY:VL Mä.: TV Klarenthal - SVK Blieskastel-Zweibrücken
CLASS:PUBLIC
DTSTART;VALUE=DATE:20181124
DTSTAMP:20181216T215300Z
DTEND;VALUE=DATE:20181125
END:VEVENT
BEGIN:VEVENT
UID:501511-2da69939ed67427dc6bf3daba21059e9
X-WR-RELCALID:501511-2da69939ed67427dc6bf3daba21059e9
ORGANIZER:Volleyball
SEQUENCE:261130221
LOCATION:Sporthalle Klarenthal, Saarbrücken-Klarenthal, Sporthalle Kla
 renthal, 0  Saarbrücken-Klarenthal
GEO:49.23017501831055000000;6.90059041976928700000
SUMMARY:VL Mä.: TV Klarenthal 2 - TV Wiesbach
CLASS:PUBLIC
DTSTART;VALUE=DATE:20181201
DTSTAMP:20181216T215300Z
DTEND;VALUE=DATE:20181202
END:VEVENT
BEGIN:VEVENT
UID:501514-2da69939ed67427dc6bf3daba21059e9
X-WR-RELCALID:501514-2da69939ed67427dc6bf3daba21059e9
ORGANIZER:Volleyball
SEQUENCE:261130221
LOCATION:Schulturnhalle Scheidt, Saarbrücken-Scheidt, Schulturnhalle S
 cheidt, 0  Saarbrücken-Scheidt
GEO:49.24914550781250000000;7.05300092697143550000
SUMMARY:VL Mä.: TV Scheidt - SVK Blieskastel-Zweibrücken
CLASS:PUBLIC
DTSTART;VALUE=DATE:20181208
DTSTAMP:20181216T215300Z
DTEND;VALUE=DATE:20181209
END:VEVENT
BEGIN:VEVENT
UID:501516-2da69939ed67427dc6bf3daba21059e9
X-WR-RELCALID:501516-2da69939ed67427dc6bf3daba21059e9
ORGANIZER:Volleyball
SEQUENCE:261130221
LOCATION:Taubenfeldhalle, Quierschied, Taubenfeldhalle, 0  Quierschied
 
GEO:49.32918548583984400000;7.05050992965698200000
SUMMARY:VL Mä.: TV Quierschied - TV Klarenthal 2
CLASS:PUBLIC
DTSTART;VALUE=DATE:20190112
DTSTAMP:20181216T215300Z
DTEND;VALUE=DATE:20190113
END:VEVENT
BEGIN:VEVENT
UID:501518-2da69939ed67427dc6bf3daba21059e9
X-WR-RELCALID:501518-2da69939ed67427dc6bf3daba21059e9
ORGANIZER:Volleyball
SEQUENCE:261130221
LOCATION:Hofenfelsgymnasium, Zweibrücken, Hofenfelsgymnasium, 0  Zweib
 rücken
GEO:49.25809478759765600000;7.37896871566772500000
SUMMARY:VL Mä.: SVK Blieskastel-Zweibrücken - TV Wiesbach
CLASS:PUBLIC
DTSTART;VALUE=DATE:20190112
DTSTAMP:20181216T215300Z
DTEND;VALUE=DATE:20190113
END:VEVENT
BEGIN:VEVENT
UID:501520-2da69939ed67427dc6bf3daba21059e9
X-WR-RELCALID:501520-2da69939ed67427dc6bf3daba21059e9
ORGANIZER:Volleyball
SEQUENCE:261130221
LOCATION:Sporthalle Klarenthal, Saarbrücken-Klarenthal, Sporthalle Kla
 renthal, 0  Saarbrücken-Klarenthal
GEO:49.23017501831055000000;6.90059041976928700000
SUMMARY:VL Mä.: TV Klarenthal 2 - TV Scheidt
CLASS:PUBLIC
DTSTART;VALUE=DATE:20190119
DTSTAMP:20181216T215300Z
DTEND;VALUE=DATE:20190120
END:VEVENT
BEGIN:VEVENT
UID:501521-2da69939ed67427dc6bf3daba21059e9
X-WR-RELCALID:501521-2da69939ed67427dc6bf3daba21059e9
ORGANIZER:Volleyball
SEQUENCE:261130221
LOCATION:Sporthalle Klarenthal, Saarbrücken-Klarenthal, Sporthalle Kla
 renthal, 0  Saarbrücken-Klarenthal
GEO:49.23017501831055000000;6.90059041976928700000
SUMMARY:VL Mä.: TV Klarenthal 2 - TV Klarenthal
CLASS:PUBLIC
DTSTART;VALUE=DATE:20190119
DTSTAMP:20181216T215300Z
DTEND;VALUE=DATE:20190120
END:VEVENT
BEGIN:VEVENT
UID:501523-2da69939ed67427dc6bf3daba21059e9
X-WR-RELCALID:501523-2da69939ed67427dc6bf3daba21059e9
ORGANIZER:Volleyball
SEQUENCE:261130221
LOCATION:Schulturnhalle Wiesbach, Eppelborn-Wiesbach, Schulturnhalle W
 iesbach, 0  Eppelborn-Wiesbach
GEO:49.41896057128906000000;7.01806211471557600000
SUMMARY:VL Mä.: TV Wiesbach - SVK Blieskastel-Zweibrücken
CLASS:PUBLIC
DTSTART;VALUE=DATE:20190119
DTSTAMP:20181216T215300Z
DTEND;VALUE=DATE:20190120
END:VEVENT
BEGIN:VEVENT
UID:501526-2da69939ed67427dc6bf3daba21059e9
X-WR-RELCALID:501526-2da69939ed67427dc6bf3daba21059e9
ORGANIZER:Volleyball
SEQUENCE:261130221
LOCATION:Hofenfelsgymnasium, Zweibrücken, Hofenfelsgymnasium, 0  Zweib
 rücken
GEO:49.25809478759765600000;7.37896871566772500000
SUMMARY:VL Mä.: SVK Blieskastel-Zweibrücken - TV Scheidt
CLASS:PUBLIC
DTSTART;VALUE=DATE:20190126
DTSTAMP:20181216T215300Z
DTEND;VALUE=DATE:20190127
END:VEVENT
BEGIN:VEVENT
UID:501527-2da69939ed67427dc6bf3daba21059e9
X-WR-RELCALID:501527-2da69939ed67427dc6bf3daba21059e9
ORGANIZER:Volleyball
SEQUENCE:261130221
LOCATION:Hofenfelsgymnasium, Zweibrücken, Hofenfelsgymnasium, 0  Zweib
 rücken
GEO:49.25809478759765600000;7.37896871566772500000
SUMMARY:VL Mä.: SVK Blieskastel-Zweibrücken - TV Quierschied
CLASS:PUBLIC
DTSTART;VALUE=DATE:20190126
DTSTAMP:20181216T215300Z
DTEND;VALUE=DATE:20190127
END:VEVENT
BEGIN:VEVENT
UID:501529-2da69939ed67427dc6bf3daba21059e9
X-WR-RELCALID:501529-2da69939ed67427dc6bf3daba21059e9
ORGANIZER:Volleyball
SEQUENCE:261130221
LOCATION:Schulturnhalle Scheidt, Saarbrücken-Scheidt, Schulturnhalle S
 cheidt, 0  Saarbrücken-Scheidt
GEO:49.24914550781250000000;7.05300092697143550000
SUMMARY:VL Mä.: TV Scheidt - TV Wiesbach
CLASS:PUBLIC
DTSTART;VALUE=DATE:20190209
DTSTAMP:20181216T215300Z
DTEND;VALUE=DATE:20190210
END:VEVENT
BEGIN:VEVENT
UID:501532-2da69939ed67427dc6bf3daba21059e9
X-WR-RELCALID:501532-2da69939ed67427dc6bf3daba21059e9
ORGANIZER:Volleyball
SEQUENCE:261130221
LOCATION:Sporthalle Klarenthal, Saarbrücken-Klarenthal, Sporthalle Kla
 renthal, 0  Saarbrücken-Klarenthal
GEO:49.23017501831055000000;6.90059041976928700000
SUMMARY:VL Mä.: TV Klarenthal 2 - TV Quierschied
CLASS:PUBLIC
DTSTART;VALUE=DATE:20190216
DTSTAMP:20181216T215300Z
DTEND;VALUE=DATE:20190217
END:VEVENT
BEGIN:VEVENT
UID:501535-2da69939ed67427dc6bf3daba21059e9
X-WR-RELCALID:501535-2da69939ed67427dc6bf3daba21059e9
ORGANIZER:Volleyball
SEQUENCE:261130221
LOCATION:Dellengartenhalle, Saarbrücken, Dellengartenhalle, 0  Saarbrü
 cken
GEO:49.24015808105469000000;6.99693250656127900000
SUMMARY:VL Mä.: TV Klarenthal - TV Scheidt
CLASS:PUBLIC
DTSTART;VALUE=DATE:20190216
DTSTAMP:20181216T215300Z
DTEND;VALUE=DATE:20190217
END:VEVENT
BEGIN:VEVENT
UID:501538-2da69939ed67427dc6bf3daba21059e9
X-WR-RELCALID:501538-2da69939ed67427dc6bf3daba21059e9
ORGANIZER:Volleyball
SEQUENCE:261130221
LOCATION:Wiesbachhalle, Eppelborn-Wiesbach, Wiesbachhalle, 0  Eppelbor
 n-Wiesbach
GEO:49.36915206909180000000;6.98245382308960000000
SUMMARY:VL Mä.: TV Wiesbach - TV Klarenthal 2
CLASS:PUBLIC
DTSTART;VALUE=DATE:20190309
DTSTAMP:20181216T215300Z
DTEND;VALUE=DATE:20190310
END:VEVENT
BEGIN:VEVENT
UID:501540-2da69939ed67427dc6bf3daba21059e9
X-WR-RELCALID:501540-2da69939ed67427dc6bf3daba21059e9
ORGANIZER:Volleyball
SEQUENCE:261130221
LOCATION:Hofenfelsgymnasium, Zweibrücken, Hofenfelsgymnasium, 0  Zweib
 rücken
GEO:49.25809478759765600000;7.37896871566772500000
SUMMARY:VL Mä.: SVK Blieskastel-Zweibrücken - TV Klarenthal
CLASS:PUBLIC
DTSTART;VALUE=DATE:20190309
DTSTAMP:20181216T215300Z
DTEND;VALUE=DATE:20190310
END:VEVENT
BEGIN:VEVENT
UID:501536-2da69939ed67427dc6bf3daba21059e9
X-WR-RELCALID:501536-2da69939ed67427dc6bf3daba21059e9
ORGANIZER:Volleyball
SEQUENCE:261130221
LOCATION:Wiesbachhalle, Eppelborn-Wiesbach, Wiesbachhalle, 0  Eppelbor
 n-Wiesbach
GEO:49.36915206909180000000;6.98245382308960000000
SUMMARY:VL Mä.: TV Klarenthal - TV Wiesbach
CLASS:PUBLIC
DTSTART;VALUE=DATE:20190316
DTSTAMP:20190130T224600Z
DTEND;VALUE=DATE:20190317
END:VEVENT
BEGIN:VEVENT
UID:501533-2da69939ed67427dc6bf3daba21059e9
X-WR-RELCALID:501533-2da69939ed67427dc6bf3daba21059e9
ORGANIZER:Volleyball
SEQUENCE:261130221
LOCATION:Sporthalle Klarenthal, Saarbrücken-Klarenthal, Sporthalle Kla
 renthal, 0  Saarbrücken-Klarenthal
GEO:49.23017501831055000000;6.90059041976928700000
SUMMARY:VL Mä.: TV Klarenthal 2 - SVK Blieskastel-Zweibrücken
CLASS:PUBLIC
DTSTART;VALUE=DATE:20190323
DTSTAMP:20190330T173800Z
DTEND;VALUE=DATE:20190324
END:VEVENT
BEGIN:VEVENT
UID:501542-2da69939ed67427dc6bf3daba21059e9
X-WR-RELCALID:501542-2da69939ed67427dc6bf3daba21059e9
ORGANIZER:Volleyball
SEQUENCE:261130221
LOCATION:Fischbachhalle, Quierschied-Fischbach, Fischbachhalle, 0  Qui
 erschied-Fischbach
GEO:49.30723953247070000000;7.02915191650390600000
SUMMARY:VL Mä.: TV Quierschied - TV Wiesbach
CLASS:PUBLIC
DTSTART;VALUE=DATE:20190323
DTSTAMP:20181216T215300Z
DTEND;VALUE=DATE:20190324
END:VEVENT
BEGIN:VEVENT
UID:501543-2da69939ed67427dc6bf3daba21059e9
X-WR-RELCALID:501543-2da69939ed67427dc6bf3daba21059e9
ORGANIZER:Volleyball
SEQUENCE:261130221
LOCATION:Fischbachhalle, Quierschied-Fischbach, Fischbachhalle, 0  Qui
 erschied-Fischbach
GEO:49.30723953247070000000;7.02915191650390600000
SUMMARY:VL Mä.: TV Quierschied - TV Klarenthal
CLASS:PUBLIC
DTSTART;VALUE=DATE:20190323
DTSTAMP:20181216T215300Z
DTEND;VALUE=DATE:20190324
END:VEVENT
END:VCALENDAR