BEGIN:VCALENDAR
VERSION:2.0
PRODID:VSD-Portal-www.volley.de
METHOD:PUBLISH
BEGIN:VEVENT
UID:493154-2da69939ed67427dc6bf3daba21059e9
X-WR-RELCALID:493154-2da69939ed67427dc6bf3daba21059e9
ORGANIZER:Volleyball
SEQUENCE:261091953
LOCATION:Georg-Hoffmann-Halle, Hochheim, Georg-Hoffmann-Halle, 0  Hoch
 heim
GEO:51.49102401733398400000;11.96611309051513700000
SUMMARY:KL W Fr.: Spvgg. Hochheim 2 - VC Liederbach 2
CLASS:PUBLIC
DTSTART;VALUE=DATE:20180915
DTSTAMP:20181117T181400Z
DTEND;VALUE=DATE:20180916
END:VEVENT
BEGIN:VEVENT
UID:493155-2da69939ed67427dc6bf3daba21059e9
X-WR-RELCALID:493155-2da69939ed67427dc6bf3daba21059e9
ORGANIZER:Volleyball
SEQUENCE:261091953
LOCATION:Georg-Hoffmann-Halle, Hochheim, Georg-Hoffmann-Halle, 0  Hoch
 heim
GEO:51.49102401733398400000;11.96611309051513700000
SUMMARY:KL W Fr.: Spvgg. Hochheim 2 - TSV Bleidenstadt 2
CLASS:PUBLIC
DTSTART;VALUE=DATE:20180915
DTSTAMP:20181117T181400Z
DTEND;VALUE=DATE:20180916
END:VEVENT
BEGIN:VEVENT
UID:493169-2da69939ed67427dc6bf3daba21059e9
X-WR-RELCALID:493169-2da69939ed67427dc6bf3daba21059e9
ORGANIZER:Volleyball
SEQUENCE:261091953
LOCATION:Halle am 2. Ring, Wiesbaden, Halle am 2. Ring, 0  Wiesbaden
GEO:50.08052400000000000000;8.23532900000000000000
SUMMARY:KL W Fr.: 1. VC Wiesbaden 6 - Spvgg. Hochheim 2
CLASS:PUBLIC
DTSTART;VALUE=DATE:20181021
DTSTAMP:20181117T181400Z
DTEND;VALUE=DATE:20181022
END:VEVENT
BEGIN:VEVENT
UID:493170-2da69939ed67427dc6bf3daba21059e9
X-WR-RELCALID:493170-2da69939ed67427dc6bf3daba21059e9
ORGANIZER:Volleyball
SEQUENCE:261091953
LOCATION:Halle am 2. Ring, Wiesbaden, Halle am 2. Ring, 0  Wiesbaden
GEO:50.08052400000000000000;8.23532900000000000000
SUMMARY:KL W Fr.: TuS Eintracht Wiesbaden 3 - Spvgg. Hochheim 2
CLASS:PUBLIC
DTSTART;VALUE=DATE:20181027
DTSTAMP:20181117T181400Z
DTEND;VALUE=DATE:20181028
END:VEVENT
BEGIN:VEVENT
UID:493178-2da69939ed67427dc6bf3daba21059e9
X-WR-RELCALID:493178-2da69939ed67427dc6bf3daba21059e9
ORGANIZER:Volleyball
SEQUENCE:261091953
LOCATION:MTK-Halle, Hochheim, MTK-Halle, 0  Hochheim
GEO:50.01475906372070000000;8.35586643218994100000
SUMMARY:KL W Fr.: Spvgg. Hochheim 2 - TG Naurod 2
CLASS:PUBLIC
DTSTART;VALUE=DATE:20181118
DTSTAMP:20181117T181400Z
DTEND;VALUE=DATE:20181119
END:VEVENT
BEGIN:VEVENT
UID:493179-2da69939ed67427dc6bf3daba21059e9
X-WR-RELCALID:493179-2da69939ed67427dc6bf3daba21059e9
ORGANIZER:Volleyball
SEQUENCE:261091953
LOCATION:MTK-Halle, Hochheim, MTK-Halle, 0  Hochheim
GEO:50.01475906372070000000;8.35586643218994100000
SUMMARY:KL W Fr.: Spvgg. Hochheim 2 - TV Idstein 2
CLASS:PUBLIC
DTSTART;VALUE=DATE:20181118
DTSTAMP:20181117T181400Z
DTEND;VALUE=DATE:20181119
END:VEVENT
BEGIN:VEVENT
UID:493184-2da69939ed67427dc6bf3daba21059e9
X-WR-RELCALID:493184-2da69939ed67427dc6bf3daba21059e9
ORGANIZER:Volleyball
SEQUENCE:261091953
LOCATION:Käthe-Kollwitz-Schule, Frankfurt-Zeilsheim, Käthe-Kollwitz-Sc
 hule, 0  Frankfurt-Zeilsheim
GEO:50.09384918212890600000;8.49528980255127000000
SUMMARY:KL W Fr.: TG Zeilsheim - Spvgg. Hochheim 2
CLASS:PUBLIC
DTSTART;VALUE=DATE:20181125
DTSTAMP:20181117T181400Z
DTEND;VALUE=DATE:20181126
END:VEVENT
BEGIN:VEVENT
UID:493188-2da69939ed67427dc6bf3daba21059e9
X-WR-RELCALID:493188-2da69939ed67427dc6bf3daba21059e9
ORGANIZER:Volleyball
SEQUENCE:261091953
LOCATION:MTK-Halle, Hochheim, MTK-Halle, 0  Hochheim
GEO:50.01475906372070000000;8.35586643218994100000
SUMMARY:KL W Fr.: Spvgg. Hochheim 2 - Hofheimer VC 2
CLASS:PUBLIC
DTSTART;VALUE=DATE:20181209
DTSTAMP:20181117T181400Z
DTEND;VALUE=DATE:20181210
END:VEVENT
BEGIN:VEVENT
UID:493189-2da69939ed67427dc6bf3daba21059e9
X-WR-RELCALID:493189-2da69939ed67427dc6bf3daba21059e9
ORGANIZER:Volleyball
SEQUENCE:261091953
LOCATION:MTK-Halle, Hochheim, MTK-Halle, 0  Hochheim
GEO:50.01475906372070000000;8.35586643218994100000
SUMMARY:KL W Fr.: Spvgg. Hochheim 2 - TuS Eintracht Wiesbaden 3
CLASS:PUBLIC
DTSTART;VALUE=DATE:20181209
DTSTAMP:20181117T181400Z
DTEND;VALUE=DATE:20181210
END:VEVENT
BEGIN:VEVENT
UID:493195-2da69939ed67427dc6bf3daba21059e9
X-WR-RELCALID:493195-2da69939ed67427dc6bf3daba21059e9
ORGANIZER:Volleyball
SEQUENCE:261091953
LOCATION:Sporthalle der Heiligenstockschule, Hofheim, Sporthalle der H
 eiligenstockschule, 0  Hofheim
GEO:50.07728195190430000000;8.44329357147216800000
SUMMARY:KL W Fr.: Hofheimer VC 2 - Spvgg. Hochheim 2
CLASS:PUBLIC
DTSTART;VALUE=DATE:20181216
DTSTAMP:20181117T181400Z
DTEND;VALUE=DATE:20181217
END:VEVENT
BEGIN:VEVENT
UID:493197-2da69939ed67427dc6bf3daba21059e9
X-WR-RELCALID:493197-2da69939ed67427dc6bf3daba21059e9
ORGANIZER:Volleyball
SEQUENCE:261091953
LOCATION:Gymnasium, Taunusstein-Bleidenstadt, Gymnasium, 0  Taunusstei
 n-Bleidenstadt
GEO:50.13480377197265600000;8.15070724487304700000
SUMMARY:KL W Fr.: TSV Bleidenstadt 2 - Spvgg. Hochheim 2
CLASS:PUBLIC
DTSTART;VALUE=DATE:20190119
DTSTAMP:20181117T181400Z
DTEND;VALUE=DATE:20190120
END:VEVENT
BEGIN:VEVENT
UID:493207-2da69939ed67427dc6bf3daba21059e9
X-WR-RELCALID:493207-2da69939ed67427dc6bf3daba21059e9
ORGANIZER:Volleyball
SEQUENCE:261091953
LOCATION:Taubenberghalle / Limesschule, Idstein, Taubenberghalle / Lim
 esschule, 0  Idstein
GEO:50.21327590942383000000;8.27414321899414000000
SUMMARY:KL W Fr.: TV Idstein 2 - Spvgg. Hochheim 2
CLASS:PUBLIC
DTSTART;VALUE=DATE:20190210
DTSTAMP:20181117T181400Z
DTEND;VALUE=DATE:20190211
END:VEVENT
BEGIN:VEVENT
UID:493208-2da69939ed67427dc6bf3daba21059e9
X-WR-RELCALID:493208-2da69939ed67427dc6bf3daba21059e9
ORGANIZER:Volleyball
SEQUENCE:261091953
LOCATION:Halle am 2. Ring, Wiesbaden, Halle am 2. Ring, 0  Wiesbaden
GEO:50.08052400000000000000;8.23532900000000000000
SUMMARY:KL W Fr.: Spvgg. Hochheim 2 - TG Zeilsheim
CLASS:PUBLIC
DTSTART;VALUE=DATE:20190223
DTSTAMP:20190223T181300Z
DTEND;VALUE=DATE:20190224
END:VEVENT
BEGIN:VEVENT
UID:493209-2da69939ed67427dc6bf3daba21059e9
X-WR-RELCALID:493209-2da69939ed67427dc6bf3daba21059e9
ORGANIZER:Volleyball
SEQUENCE:261091953
LOCATION:Halle am 2. Ring, Wiesbaden, Halle am 2. Ring, 0  Wiesbaden
GEO:50.08052400000000000000;8.23532900000000000000
SUMMARY:KL W Fr.: Spvgg. Hochheim 2 - 1. VC Wiesbaden 6
CLASS:PUBLIC
DTSTART;VALUE=DATE:20190223
DTSTAMP:20190223T181300Z
DTEND;VALUE=DATE:20190224
END:VEVENT
BEGIN:VEVENT
UID:493214-2da69939ed67427dc6bf3daba21059e9
X-WR-RELCALID:493214-2da69939ed67427dc6bf3daba21059e9
ORGANIZER:Volleyball
SEQUENCE:261091953
LOCATION:Mehrzweckhalle, Wiesbaden-Auringen, Mehrzweckhalle, 0  Wiesba
 den-Auringen
GEO:50.12930000000000000000;8.32962200000000000000
SUMMARY:KL W Fr.: TG Naurod 2 - Spvgg. Hochheim 2
CLASS:PUBLIC
DTSTART;VALUE=DATE:20190317
DTSTAMP:20181117T181400Z
DTEND;VALUE=DATE:20190318
END:VEVENT
BEGIN:VEVENT
UID:493222-2da69939ed67427dc6bf3daba21059e9
X-WR-RELCALID:493222-2da69939ed67427dc6bf3daba21059e9
ORGANIZER:Volleyball
SEQUENCE:261091953
LOCATION:Liederbachhalle, Liederbach, Liederbachhalle, 0  Liederbach
GEO:50.12560272216797000000;8.48818206787109400000
SUMMARY:KL W Fr.: VC Liederbach 2 - Spvgg. Hochheim 2
CLASS:PUBLIC
DTSTART;VALUE=DATE:20190323
DTSTAMP:20181117T181400Z
DTEND;VALUE=DATE:20190324
END:VEVENT
END:VCALENDAR