BEGIN:VCALENDAR
VERSION:2.0
PRODID:VSD-Portal-www.volley.de
METHOD:PUBLISH
BEGIN:VEVENT
UID:492916-2da69939ed67427dc6bf3daba21059e9
X-WR-RELCALID:492916-2da69939ed67427dc6bf3daba21059e9
ORGANIZER:Volleyball
SEQUENCE:261120746
LOCATION:Kellerskopfhalle, Wiesbaden-Naurod, Kellerskopfhalle, 0  Wies
 baden-Naurod
GEO:50.13604000000000000000;8.30226500000000000000
SUMMARY:BL W Mä.: TG Naurod 2 - TuS Eintracht Wiesbaden 3
CLASS:PUBLIC
DTSTART;VALUE=DATE:20180916
DTSTAMP:20181117T184900Z
DTEND;VALUE=DATE:20180917
END:VEVENT
BEGIN:VEVENT
UID:492920-2da69939ed67427dc6bf3daba21059e9
X-WR-RELCALID:492920-2da69939ed67427dc6bf3daba21059e9
ORGANIZER:Volleyball
SEQUENCE:261120746
LOCATION:Halle am 2. Ring, Wiesbaden, Halle am 2. Ring, 0  Wiesbaden
GEO:50.08052400000000000000;8.23532900000000000000
SUMMARY:BL W Mä.: TuS Eintracht Wiesbaden 3 - TG Winkel
CLASS:PUBLIC
DTSTART;VALUE=DATE:20180922
DTSTAMP:20181117T184900Z
DTEND;VALUE=DATE:20180923
END:VEVENT
BEGIN:VEVENT
UID:492921-2da69939ed67427dc6bf3daba21059e9
X-WR-RELCALID:492921-2da69939ed67427dc6bf3daba21059e9
ORGANIZER:Volleyball
SEQUENCE:261120746
LOCATION:Halle am 2. Ring, Wiesbaden, Halle am 2. Ring, 0  Wiesbaden
GEO:50.08052400000000000000;8.23532900000000000000
SUMMARY:BL W Mä.: TuS Eintracht Wiesbaden 3 - TV Seulberg
CLASS:PUBLIC
DTSTART;VALUE=DATE:20180922
DTSTAMP:20181117T184900Z
DTEND;VALUE=DATE:20180923
END:VEVENT
BEGIN:VEVENT
UID:492922-2da69939ed67427dc6bf3daba21059e9
X-WR-RELCALID:492922-2da69939ed67427dc6bf3daba21059e9
ORGANIZER:Volleyball
SEQUENCE:261120746
LOCATION:Hardtwaldhalle, Friedrichsdorf-Seulberg, Hardtwaldhalle, 0  F
 riedrichsdorf-Seulberg
GEO:50.24509429931640600000;8.64890289306640600000
SUMMARY:BL W Mä.: TV Seulberg - TuS Eintracht Wiesbaden 3
CLASS:PUBLIC
DTSTART;VALUE=DATE:20181020
DTSTAMP:20181117T184900Z
DTEND;VALUE=DATE:20181021
END:VEVENT
BEGIN:VEVENT
UID:492925-2da69939ed67427dc6bf3daba21059e9
X-WR-RELCALID:492925-2da69939ed67427dc6bf3daba21059e9
ORGANIZER:Volleyball
SEQUENCE:261120746
LOCATION:Mehrzweckhalle, Wiesbaden-Auringen, Mehrzweckhalle, 0  Wiesba
 den-Auringen
GEO:50.12930000000000000000;8.32962200000000000000
SUMMARY:BL W Mä.: TG Naurod 2 - TuS Eintracht Wiesbaden 3
CLASS:PUBLIC
DTSTART;VALUE=DATE:20181027
DTSTAMP:20181117T184900Z
DTEND;VALUE=DATE:20181028
END:VEVENT
BEGIN:VEVENT
UID:492929-2da69939ed67427dc6bf3daba21059e9
X-WR-RELCALID:492929-2da69939ed67427dc6bf3daba21059e9
ORGANIZER:Volleyball
SEQUENCE:261120746
LOCATION:Halle am 2. Ring, Wiesbaden, Halle am 2. Ring, 0  Wiesbaden
GEO:50.08052400000000000000;8.23532900000000000000
SUMMARY:BL W Mä.: TuS Eintracht Wiesbaden 2 - TuS Eintracht Wiesbaden 
 3
CLASS:PUBLIC
DTSTART;VALUE=DATE:20181117
DTSTAMP:20181117T184900Z
DTEND;VALUE=DATE:20181118
END:VEVENT
BEGIN:VEVENT
UID:492930-2da69939ed67427dc6bf3daba21059e9
X-WR-RELCALID:492930-2da69939ed67427dc6bf3daba21059e9
ORGANIZER:Volleyball
SEQUENCE:261120746
LOCATION:Halle am 2. Ring, Wiesbaden, Halle am 2. Ring, 0  Wiesbaden
GEO:50.08052400000000000000;8.23532900000000000000
SUMMARY:BL W Mä.: TuS Eintracht Wiesbaden 3 - TG Zeilsheim
CLASS:PUBLIC
DTSTART;VALUE=DATE:20181125
DTSTAMP:20181117T184900Z
DTEND;VALUE=DATE:20181126
END:VEVENT
BEGIN:VEVENT
UID:492936-2da69939ed67427dc6bf3daba21059e9
X-WR-RELCALID:492936-2da69939ed67427dc6bf3daba21059e9
ORGANIZER:Volleyball
SEQUENCE:261120746
LOCATION:Käthe-Kollwitz-Schule, Frankfurt-Zeilsheim, Käthe-Kollwitz-Sc
 hule, 0  Frankfurt-Zeilsheim
GEO:50.09384918212890600000;8.49528980255127000000
SUMMARY:BL W Mä.: TG Zeilsheim - TuS Eintracht Wiesbaden 3
CLASS:PUBLIC
DTSTART;VALUE=DATE:20190210
DTSTAMP:20181117T184900Z
DTEND;VALUE=DATE:20190211
END:VEVENT
BEGIN:VEVENT
UID:492938-2da69939ed67427dc6bf3daba21059e9
X-WR-RELCALID:492938-2da69939ed67427dc6bf3daba21059e9
ORGANIZER:Volleyball
SEQUENCE:261120746
LOCATION:Halle am 2. Ring, Wiesbaden, Halle am 2. Ring, 0  Wiesbaden
GEO:50.08052400000000000000;8.23532900000000000000
SUMMARY:BL W Mä.: TuS Eintracht Wiesbaden 3 - TuS Eintracht Wiesbaden 
 2
CLASS:PUBLIC
DTSTART;VALUE=DATE:20190224
DTSTAMP:20181117T184900Z
DTEND;VALUE=DATE:20190225
END:VEVENT
BEGIN:VEVENT
UID:492939-2da69939ed67427dc6bf3daba21059e9
X-WR-RELCALID:492939-2da69939ed67427dc6bf3daba21059e9
ORGANIZER:Volleyball
SEQUENCE:261120746
LOCATION:Halle am 2. Ring, Wiesbaden, Halle am 2. Ring, 0  Wiesbaden
GEO:50.08052400000000000000;8.23532900000000000000
SUMMARY:BL W Mä.: TuS Eintracht Wiesbaden 3 - TG Winkel
CLASS:PUBLIC
DTSTART;VALUE=DATE:20190224
DTSTAMP:20181117T184900Z
DTEND;VALUE=DATE:20190225
END:VEVENT
END:VCALENDAR