BEGIN:VCALENDAR
VERSION:2.0
PRODID:VSD-Portal-www.volley.de
METHOD:PUBLISH
BEGIN:VEVENT
UID:491537-2da69939ed67427dc6bf3daba21059e9
X-WR-RELCALID:491537-2da69939ed67427dc6bf3daba21059e9
ORGANIZER:Volleyball
SEQUENCE:261151616
LOCATION:Sporthalle der Ulstertalschule Hilders, Hilders, Sporthalle d
 er Ulstertalschule Hilders, 0  Hilders
GEO:50.57526016235351600000;10.00042438507080000000
SUMMARY:KKl SO Fr.: TSV 1919 Hilders 2 - Fuldaer TS 1848 Fulda 2
CLASS:PUBLIC
DTSTART;VALUE=DATE:20180915
DTSTAMP:20181117T151700Z
DTEND;VALUE=DATE:20180916
END:VEVENT
BEGIN:VEVENT
UID:491541-2da69939ed67427dc6bf3daba21059e9
X-WR-RELCALID:491541-2da69939ed67427dc6bf3daba21059e9
ORGANIZER:Volleyball
SEQUENCE:261151616
LOCATION:Bardoschule, große Halle, Fulda, Bardoschule, 0  große Halle
GEO:51.49697875976562500000;11.96880245208740200000
SUMMARY:KKl SO Fr.: Fuldaer TS 1848 Fulda 2 - SG Johannesberg 1926 4
CLASS:PUBLIC
DTSTART;VALUE=DATE:20180923
DTSTAMP:20181117T151700Z
DTEND;VALUE=DATE:20180924
END:VEVENT
BEGIN:VEVENT
UID:491542-2da69939ed67427dc6bf3daba21059e9
X-WR-RELCALID:491542-2da69939ed67427dc6bf3daba21059e9
ORGANIZER:Volleyball
SEQUENCE:261151616
LOCATION:Bardoschule, große Halle, Fulda, Bardoschule, 0  große Halle
GEO:51.49697875976562500000;11.96880245208740200000
SUMMARY:KKl SO Fr.: Fuldaer TS 1848 Fulda 2 - SG Johannesberg 1926 2
CLASS:PUBLIC
DTSTART;VALUE=DATE:20180923
DTSTAMP:20181117T151700Z
DTEND;VALUE=DATE:20180924
END:VEVENT
BEGIN:VEVENT
UID:491547-2da69939ed67427dc6bf3daba21059e9
X-WR-RELCALID:491547-2da69939ed67427dc6bf3daba21059e9
ORGANIZER:Volleyball
SEQUENCE:261151616
LOCATION:Heuberghalle, Eschwege, Eschwege, Heuberghalle, 0  Eschwege
GEO:51.18766784667969000000;10.03977203369140600000
SUMMARY:KKl SO Fr.: VG Eschwege 1 - Fuldaer TS 1848 Fulda 2
CLASS:PUBLIC
DTSTART;VALUE=DATE:20181020
DTSTAMP:20181117T151700Z
DTEND;VALUE=DATE:20181021
END:VEVENT
BEGIN:VEVENT
UID:491554-2da69939ed67427dc6bf3daba21059e9
X-WR-RELCALID:491554-2da69939ed67427dc6bf3daba21059e9
ORGANIZER:Volleyball
SEQUENCE:261151616
LOCATION:Sporthalle Johannesberg, Fulda-Johannesberg, Sporthalle Johan
 nesberg, 0  Fulda-Johannesberg
GEO:50.55157089233398400000;9.68010807037353500000
SUMMARY:KKl SO Fr.: SG Johannesberg 1926 3 - Fuldaer TS 1848 Fulda 2
CLASS:PUBLIC
DTSTART;VALUE=DATE:20181027
DTSTAMP:20181117T151700Z
DTEND;VALUE=DATE:20181028
END:VEVENT
BEGIN:VEVENT
UID:491563-2da69939ed67427dc6bf3daba21059e9
X-WR-RELCALID:491563-2da69939ed67427dc6bf3daba21059e9
ORGANIZER:Volleyball
SEQUENCE:261151616
LOCATION:Ehemalige BGS-Sporthalle, Fulda, Ehemalige BGS-Sporthalle, 0 
  Fulda
GEO:50.55690002441406000000;9.65180015563964800000
SUMMARY:KKl SO Fr.: Fuldaer TS 1848 Fulda 2 - TSV 1919 Hilders 2
CLASS:PUBLIC
DTSTART;VALUE=DATE:20181118
DTSTAMP:20181117T151700Z
DTEND;VALUE=DATE:20181119
END:VEVENT
BEGIN:VEVENT
UID:491564-2da69939ed67427dc6bf3daba21059e9
X-WR-RELCALID:491564-2da69939ed67427dc6bf3daba21059e9
ORGANIZER:Volleyball
SEQUENCE:261151616
LOCATION:Ehemalige BGS-Sporthalle, Fulda, Ehemalige BGS-Sporthalle, 0 
  Fulda
GEO:50.55690002441406000000;9.65180015563964800000
SUMMARY:KKl SO Fr.: Fuldaer TS 1848 Fulda 2 - Hünfelder SV 2
CLASS:PUBLIC
DTSTART;VALUE=DATE:20181118
DTSTAMP:20190303T010100Z
DTEND;VALUE=DATE:20181119
END:VEVENT
BEGIN:VEVENT
UID:491570-2da69939ed67427dc6bf3daba21059e9
X-WR-RELCALID:491570-2da69939ed67427dc6bf3daba21059e9
ORGANIZER:Volleyball
SEQUENCE:261151616
LOCATION:Sankt-Georg-Grundschule Großenlüder, Großenlüder, Sankt-Georg
 -Grundschule Großenlüder, 0  Großenlüder
GEO:50.58849716186523400000;9.53975391387939500000
SUMMARY:KKl SO Fr.: Großenlüder/Hosenfeld - Fuldaer TS 1848 Fulda 2
CLASS:PUBLIC
DTSTART;VALUE=DATE:20181125
DTSTAMP:20181117T151700Z
DTEND;VALUE=DATE:20181126
END:VEVENT
BEGIN:VEVENT
UID:491571-2da69939ed67427dc6bf3daba21059e9
X-WR-RELCALID:491571-2da69939ed67427dc6bf3daba21059e9
ORGANIZER:Volleyball
SEQUENCE:261151616
LOCATION:Sporthalle Johannesberg, Fulda-Johannesberg, Sporthalle Johan
 nesberg, 0  Fulda-Johannesberg
GEO:50.55157089233398400000;9.68010807037353500000
SUMMARY:KKl SO Fr.: SG Johannesberg 1926 2 - Fuldaer TS 1848 Fulda 2
CLASS:PUBLIC
DTSTART;VALUE=DATE:20181208
DTSTAMP:20181117T151700Z
DTEND;VALUE=DATE:20181209
END:VEVENT
BEGIN:VEVENT
UID:491577-2da69939ed67427dc6bf3daba21059e9
X-WR-RELCALID:491577-2da69939ed67427dc6bf3daba21059e9
ORGANIZER:Volleyball
SEQUENCE:261151616
LOCATION:DGH, Steinbach, DGH, 0  Steinbach
GEO:50.77936172485351600000;8.18549633026123000000
SUMMARY:KKl SO Fr.: SV Steinbach II 1920 e.V. - Fuldaer TS 1848 Fulda 
 2
CLASS:PUBLIC
DTSTART;VALUE=DATE:20190119
DTSTAMP:20181117T151700Z
DTEND;VALUE=DATE:20190120
END:VEVENT
BEGIN:VEVENT
UID:491583-2da69939ed67427dc6bf3daba21059e9
X-WR-RELCALID:491583-2da69939ed67427dc6bf3daba21059e9
ORGANIZER:Volleyball
SEQUENCE:261151616
LOCATION:Ehemalige BGS-Sporthalle, Fulda, Ehemalige BGS-Sporthalle, 0 
  Fulda
GEO:50.55690002441406000000;9.65180015563964800000
SUMMARY:KKl SO Fr.: Fuldaer TS 1848 Fulda 2 - VG Eschwege 1
CLASS:PUBLIC
DTSTART;VALUE=DATE:20190210
DTSTAMP:20181117T151700Z
DTEND;VALUE=DATE:20190211
END:VEVENT
BEGIN:VEVENT
UID:491584-2da69939ed67427dc6bf3daba21059e9
X-WR-RELCALID:491584-2da69939ed67427dc6bf3daba21059e9
ORGANIZER:Volleyball
SEQUENCE:261151616
LOCATION:Ehemalige BGS-Sporthalle, Fulda, Ehemalige BGS-Sporthalle, 0 
  Fulda
GEO:50.55690002441406000000;9.65180015563964800000
SUMMARY:KKl SO Fr.: Fuldaer TS 1848 Fulda 2 - SG Johannesberg 1926 3
CLASS:PUBLIC
DTSTART;VALUE=DATE:20190210
DTSTAMP:20181117T151700Z
DTEND;VALUE=DATE:20190211
END:VEVENT
BEGIN:VEVENT
UID:491590-2da69939ed67427dc6bf3daba21059e9
X-WR-RELCALID:491590-2da69939ed67427dc6bf3daba21059e9
ORGANIZER:Volleyball
SEQUENCE:261151616
LOCATION:Sporthalle Johannesberg, Fulda-Johannesberg, Sporthalle Johan
 nesberg, 0  Fulda-Johannesberg
GEO:50.55157089233398400000;9.68010807037353500000
SUMMARY:KKl SO Fr.: SG Johannesberg 1926 4 - Fuldaer TS 1848 Fulda 2
CLASS:PUBLIC
DTSTART;VALUE=DATE:20190223
DTSTAMP:20181117T151700Z
DTEND;VALUE=DATE:20190224
END:VEVENT
BEGIN:VEVENT
UID:491599-2da69939ed67427dc6bf3daba21059e9
X-WR-RELCALID:491599-2da69939ed67427dc6bf3daba21059e9
ORGANIZER:Volleyball
SEQUENCE:261151616
LOCATION:Ehemalige BGS-Sporthalle, Fulda, Ehemalige BGS-Sporthalle, 0 
  Fulda
GEO:50.55690002441406000000;9.65180015563964800000
SUMMARY:KKl SO Fr.: Fuldaer TS 1848 Fulda 2 - SV Steinbach II 1920 e.V
 .
CLASS:PUBLIC
DTSTART;VALUE=DATE:20190317
DTSTAMP:20181117T151700Z
DTEND;VALUE=DATE:20190318
END:VEVENT
BEGIN:VEVENT
UID:491600-2da69939ed67427dc6bf3daba21059e9
X-WR-RELCALID:491600-2da69939ed67427dc6bf3daba21059e9
ORGANIZER:Volleyball
SEQUENCE:261151616
LOCATION:Ehemalige BGS-Sporthalle, Fulda, Ehemalige BGS-Sporthalle, 0 
  Fulda
GEO:50.55690002441406000000;9.65180015563964800000
SUMMARY:KKl SO Fr.: Fuldaer TS 1848 Fulda 2 - Großenlüder/Hosenfeld
CLASS:PUBLIC
DTSTART;VALUE=DATE:20190317
DTSTAMP:20181117T151700Z
DTEND;VALUE=DATE:20190318
END:VEVENT
BEGIN:VEVENT
UID:491606-2da69939ed67427dc6bf3daba21059e9
X-WR-RELCALID:491606-2da69939ed67427dc6bf3daba21059e9
ORGANIZER:Volleyball
SEQUENCE:261151616
LOCATION:Kreissporthalle 4, Hünfeld, Kreissporthalle 4, 0  Hünfeld
GEO:50.67266845703125000000;9.76904582977295000000
SUMMARY:KKl SO Fr.: Hünfelder SV 2 - Fuldaer TS 1848 Fulda 2
CLASS:PUBLIC
DTSTART;VALUE=DATE:20190324
DTSTAMP:20190303T010100Z
DTEND;VALUE=DATE:20190325
END:VEVENT
END:VCALENDAR