BEGIN:VCALENDAR
VERSION:2.0
PRODID:VSD-Portal-www.volley.de
METHOD:PUBLISH
BEGIN:VEVENT
UID:491048-2da69939ed67427dc6bf3daba21059e9
X-WR-RELCALID:491048-2da69939ed67427dc6bf3daba21059e9
ORGANIZER:Volleyball
SEQUENCE:261152037
LOCATION:Sporthalle beim Schulzentrum, Balingen-Frommern, Sporthalle b
 eim Schulzentrum, 0  Balingen-Frommern
GEO:48.24457000000000000000;8.88039200000000000000
SUMMARY:B-Kl. 2 Fr.: SG TSV Frommern/TSG Balingen 2 - TSG Reutlingen 4
 
CLASS:PUBLIC
DTSTART;VALUE=DATE:20181007
DTSTAMP:20181103T173700Z
DTEND;VALUE=DATE:20181008
END:VEVENT
BEGIN:VEVENT
UID:491049-2da69939ed67427dc6bf3daba21059e9
X-WR-RELCALID:491049-2da69939ed67427dc6bf3daba21059e9
ORGANIZER:Volleyball
SEQUENCE:261152037
LOCATION:Sporthalle beim Schulzentrum, Balingen-Frommern, Sporthalle b
 eim Schulzentrum, 0  Balingen-Frommern
GEO:48.24457000000000000000;8.88039200000000000000
SUMMARY:B-Kl. 2 Fr.: SG TSV Frommern/TSG Balingen 2 - SG TSV Bickelsbe
 rg/SV Gruol
CLASS:PUBLIC
DTSTART;VALUE=DATE:20181007
DTSTAMP:20181103T173700Z
DTEND;VALUE=DATE:20181008
END:VEVENT
BEGIN:VEVENT
UID:491071-2da69939ed67427dc6bf3daba21059e9
X-WR-RELCALID:491071-2da69939ed67427dc6bf3daba21059e9
ORGANIZER:Volleyball
SEQUENCE:261152037
LOCATION:Sporthalle beim Schulzentrum, Balingen-Frommern, Sporthalle b
 eim Schulzentrum, 0  Balingen-Frommern
GEO:48.24457000000000000000;8.88039200000000000000
SUMMARY:B-Kl. 2 Fr.: SG TSV Frommern/TSG Balingen 2 - TSG Tübingen 3
CLASS:PUBLIC
DTSTART;VALUE=DATE:20181216
DTSTAMP:20181103T173700Z
DTEND;VALUE=DATE:20181217
END:VEVENT
BEGIN:VEVENT
UID:491072-2da69939ed67427dc6bf3daba21059e9
X-WR-RELCALID:491072-2da69939ed67427dc6bf3daba21059e9
ORGANIZER:Volleyball
SEQUENCE:261152037
LOCATION:Sporthalle beim Schulzentrum, Balingen-Frommern, Sporthalle b
 eim Schulzentrum, 0  Balingen-Frommern
GEO:48.24457000000000000000;8.88039200000000000000
SUMMARY:B-Kl. 2 Fr.: SG TSV Frommern/TSG Balingen 2 - TSF Dornhan
CLASS:PUBLIC
DTSTART;VALUE=DATE:20181216
DTSTAMP:20181103T173700Z
DTEND;VALUE=DATE:20181217
END:VEVENT
BEGIN:VEVENT
UID:491086-2da69939ed67427dc6bf3daba21059e9
X-WR-RELCALID:491086-2da69939ed67427dc6bf3daba21059e9
ORGANIZER:Volleyball
SEQUENCE:261152037
LOCATION:Sporthalle beim Schulzentrum, Balingen-Frommern, Sporthalle b
 eim Schulzentrum, 0  Balingen-Frommern
GEO:48.24457000000000000000;8.88039200000000000000
SUMMARY:B-Kl. 2 Fr.: SG TSV Frommern/TSG Balingen 2 - ASV Horb
CLASS:PUBLIC
DTSTART;VALUE=DATE:20190217
DTSTAMP:20181103T173700Z
DTEND;VALUE=DATE:20190218
END:VEVENT
BEGIN:VEVENT
UID:491092-2da69939ed67427dc6bf3daba21059e9
X-WR-RELCALID:491092-2da69939ed67427dc6bf3daba21059e9
ORGANIZER:Volleyball
SEQUENCE:261152037
LOCATION:Sporthalle beim Schulzentrum, Balingen-Frommern, Sporthalle b
 eim Schulzentrum, 0  Balingen-Frommern
GEO:48.24457000000000000000;8.88039200000000000000
SUMMARY:B-Kl. 2 Fr.: SG TSV Frommern/TSG Balingen 2 - TSG Bodelshausen
 
CLASS:PUBLIC
DTSTART;VALUE=DATE:20190310
DTSTAMP:20181103T173700Z
DTEND;VALUE=DATE:20190311
END:VEVENT
BEGIN:VEVENT
UID:491093-2da69939ed67427dc6bf3daba21059e9
X-WR-RELCALID:491093-2da69939ed67427dc6bf3daba21059e9
ORGANIZER:Volleyball
SEQUENCE:261152037
LOCATION:Sporthalle beim Schulzentrum, Balingen-Frommern, Sporthalle b
 eim Schulzentrum, 0  Balingen-Frommern
GEO:48.24457000000000000000;8.88039200000000000000
SUMMARY:B-Kl. 2 Fr.: SG TSV Frommern/TSG Balingen 2 - TSV Burladingen 
 3
CLASS:PUBLIC
DTSTART;VALUE=DATE:20190310
DTSTAMP:20181103T173700Z
DTEND;VALUE=DATE:20190311
END:VEVENT
END:VCALENDAR