BEGIN:VCALENDAR
VERSION:2.0
PRODID:VSD-Portal-www.volley.de
METHOD:PUBLISH
BEGIN:VEVENT
UID:489165-2da69939ed67427dc6bf3daba21059e9
X-WR-RELCALID:489165-2da69939ed67427dc6bf3daba21059e9
ORGANIZER:Volleyball
SEQUENCE:261110710
LOCATION:Neue Sporthalle (SH2), Fellbach-Schmiden, Neue Sporthalle (SH
 2), 0  Fellbach-Schmiden
GEO:48.83403000000000000000;9.26823000000000000000
SUMMARY:A-Kl. 1 Fr.: TSV Schmiden 2 - SG Stromberg 2
CLASS:PUBLIC
DTSTART;VALUE=DATE:20181021
DTSTAMP:20181103T173600Z
DTEND;VALUE=DATE:20181022
END:VEVENT
BEGIN:VEVENT
UID:489166-2da69939ed67427dc6bf3daba21059e9
X-WR-RELCALID:489166-2da69939ed67427dc6bf3daba21059e9
ORGANIZER:Volleyball
SEQUENCE:261110710
LOCATION:Neue Sporthalle (SH2), Fellbach-Schmiden, Neue Sporthalle (SH
 2), 0  Fellbach-Schmiden
GEO:48.83403000000000000000;9.26823000000000000000
SUMMARY:A-Kl. 1 Fr.: TSV Schmiden 2 - SV Heilbronn am Leinbach
CLASS:PUBLIC
DTSTART;VALUE=DATE:20181021
DTSTAMP:20181103T173600Z
DTEND;VALUE=DATE:20181022
END:VEVENT
BEGIN:VEVENT
UID:489183-2da69939ed67427dc6bf3daba21059e9
X-WR-RELCALID:489183-2da69939ed67427dc6bf3daba21059e9
ORGANIZER:Volleyball
SEQUENCE:261110710
LOCATION:Neue Sporthalle (SH2), Fellbach-Schmiden, Neue Sporthalle (SH
 2), 0  Fellbach-Schmiden
GEO:48.83403000000000000000;9.26823000000000000000
SUMMARY:A-Kl. 1 Fr.: TSV Schmiden 2 - SVG Kirchberg/Murr
CLASS:PUBLIC
DTSTART;VALUE=DATE:20181202
DTSTAMP:20181103T173600Z
DTEND;VALUE=DATE:20181203
END:VEVENT
BEGIN:VEVENT
UID:489184-2da69939ed67427dc6bf3daba21059e9
X-WR-RELCALID:489184-2da69939ed67427dc6bf3daba21059e9
ORGANIZER:Volleyball
SEQUENCE:261110710
LOCATION:Neue Sporthalle (SH2), Fellbach-Schmiden, Neue Sporthalle (SH
 2), 0  Fellbach-Schmiden
GEO:48.83403000000000000000;9.26823000000000000000
SUMMARY:A-Kl. 1 Fr.: TSV Schmiden 2 - SV Fellbach 3
CLASS:PUBLIC
DTSTART;VALUE=DATE:20181202
DTSTAMP:20181103T173600Z
DTEND;VALUE=DATE:20181203
END:VEVENT
BEGIN:VEVENT
UID:489201-2da69939ed67427dc6bf3daba21059e9
X-WR-RELCALID:489201-2da69939ed67427dc6bf3daba21059e9
ORGANIZER:Volleyball
SEQUENCE:261110710
LOCATION:Neue Sporthalle (SH2), Fellbach-Schmiden, Neue Sporthalle (SH
 2), 0  Fellbach-Schmiden
GEO:48.83403000000000000000;9.26823000000000000000
SUMMARY:A-Kl. 1 Fr.: TSV Schmiden 2 - SV Salamander Kornwestheim 2
CLASS:PUBLIC
DTSTART;VALUE=DATE:20190203
DTSTAMP:20181103T173600Z
DTEND;VALUE=DATE:20190204
END:VEVENT
BEGIN:VEVENT
UID:489202-2da69939ed67427dc6bf3daba21059e9
X-WR-RELCALID:489202-2da69939ed67427dc6bf3daba21059e9
ORGANIZER:Volleyball
SEQUENCE:261110710
LOCATION:Neue Sporthalle (SH2), Fellbach-Schmiden, Neue Sporthalle (SH
 2), 0  Fellbach-Schmiden
GEO:48.83403000000000000000;9.26823000000000000000
SUMMARY:A-Kl. 1 Fr.: TSV Schmiden 2 - TV Cannstatt
CLASS:PUBLIC
DTSTART;VALUE=DATE:20190203
DTSTAMP:20181103T173600Z
DTEND;VALUE=DATE:20190204
END:VEVENT
BEGIN:VEVENT
UID:489219-2da69939ed67427dc6bf3daba21059e9
X-WR-RELCALID:489219-2da69939ed67427dc6bf3daba21059e9
ORGANIZER:Volleyball
SEQUENCE:261110710
LOCATION:Neue Sporthalle (SH2), Fellbach-Schmiden, Neue Sporthalle (SH
 2), 0  Fellbach-Schmiden
GEO:48.83403000000000000000;9.26823000000000000000
SUMMARY:A-Kl. 1 Fr.: TSV Schmiden 2 - SFC Höpfigheim
CLASS:PUBLIC
DTSTART;VALUE=DATE:20190317
DTSTAMP:20181103T173600Z
DTEND;VALUE=DATE:20190318
END:VEVENT
BEGIN:VEVENT
UID:489220-2da69939ed67427dc6bf3daba21059e9
X-WR-RELCALID:489220-2da69939ed67427dc6bf3daba21059e9
ORGANIZER:Volleyball
SEQUENCE:261110710
LOCATION:Neue Sporthalle (SH2), Fellbach-Schmiden, Neue Sporthalle (SH
 2), 0  Fellbach-Schmiden
GEO:48.83403000000000000000;9.26823000000000000000
SUMMARY:A-Kl. 1 Fr.: TSV Schmiden 2 - TSV Massenbach
CLASS:PUBLIC
DTSTART;VALUE=DATE:20190317
DTSTAMP:20181103T173600Z
DTEND;VALUE=DATE:20190318
END:VEVENT
END:VCALENDAR