BEGIN:VCALENDAR
VERSION:2.0
PRODID:VSD-Portal-www.volley.de
METHOD:PUBLISH
BEGIN:VEVENT
UID:484168-2da69939ed67427dc6bf3daba21059e9
X-WR-RELCALID:484168-2da69939ed67427dc6bf3daba21059e9
ORGANIZER:Volleyball
SEQUENCE:261121125
LOCATION:1608 / Hallenkomplex Poznaner Str.  , Poznaner Str. 40  , 030
 48 Cottbus
GEO:51.72978620000000000000;14.31966810000000000000
SUMMARY:LKl S Fr.: SV Energie Cottbus V - WSG Buckow
CLASS:PUBLIC
DTSTART:20180922T090000Z
DTSTAMP:20180904T120300Z
END:VEVENT
BEGIN:VEVENT
UID:484171-2da69939ed67427dc6bf3daba21059e9
X-WR-RELCALID:484171-2da69939ed67427dc6bf3daba21059e9
ORGANIZER:Volleyball
SEQUENCE:261121125
LOCATION:1608 / Hallenkomplex Poznaner Str.  , Poznaner Str. 40  , 030
 48 Cottbus
GEO:51.72978620000000000000;14.31966810000000000000
SUMMARY:LKl S Fr.: SV Energie Cottbus V - Cottbuser Volleyballverein
CLASS:PUBLIC
DTSTART:20180922T090000Z
DTSTAMP:20180904T120300Z
END:VEVENT
BEGIN:VEVENT
UID:484285-2da69939ed67427dc6bf3daba21059e9
X-WR-RELCALID:484285-2da69939ed67427dc6bf3daba21059e9
ORGANIZER:Volleyball
SEQUENCE:261121125
LOCATION:1608 / Hallenkomplex Poznaner Str.  , Poznaner Str. 40  , 030
 48 Cottbus
GEO:51.72978620000000000000;14.31966810000000000000
SUMMARY:LKl S Fr.: SV Energie Cottbus V - VSV Grün-Weiß 78 Erkner III
CLASS:PUBLIC
DTSTART:20181117T100000Z
DTSTAMP:20180904T120300Z
END:VEVENT
BEGIN:VEVENT
UID:484291-2da69939ed67427dc6bf3daba21059e9
X-WR-RELCALID:484291-2da69939ed67427dc6bf3daba21059e9
ORGANIZER:Volleyball
SEQUENCE:261121125
LOCATION:1608 / Hallenkomplex Poznaner Str.  , Poznaner Str. 40  , 030
 48 Cottbus
GEO:51.72978620000000000000;14.31966810000000000000
SUMMARY:LKl S Fr.: SV Energie Cottbus V - VSV Grün-Weiß 78 Erkner II
CLASS:PUBLIC
DTSTART:20181117T100000Z
DTSTAMP:20180904T120300Z
END:VEVENT
BEGIN:VEVENT
UID:484384-2da69939ed67427dc6bf3daba21059e9
X-WR-RELCALID:484384-2da69939ed67427dc6bf3daba21059e9
ORGANIZER:Volleyball
SEQUENCE:261121125
LOCATION:1608 / Hallenkomplex Poznaner Str.  , Poznaner Str. 40  , 030
 48 Cottbus
GEO:51.72978620000000000000;14.31966810000000000000
SUMMARY:LKl S Fr.: SV Energie Cottbus V - VSB offensiv Eisenhüttenstad
 t II
CLASS:PUBLIC
DTSTART:20190126T100000Z
DTSTAMP:20180904T120300Z
END:VEVENT
BEGIN:VEVENT
UID:484387-2da69939ed67427dc6bf3daba21059e9
X-WR-RELCALID:484387-2da69939ed67427dc6bf3daba21059e9
ORGANIZER:Volleyball
SEQUENCE:261121125
LOCATION:1608 / Hallenkomplex Poznaner Str.  , Poznaner Str. 40  , 030
 48 Cottbus
GEO:51.72978620000000000000;14.31966810000000000000
SUMMARY:LKl S Fr.: SV Energie Cottbus V - VC Storkow II
CLASS:PUBLIC
DTSTART:20190126T100000Z
DTSTAMP:20180904T120300Z
END:VEVENT
BEGIN:VEVENT
UID:484449-2da69939ed67427dc6bf3daba21059e9
X-WR-RELCALID:484449-2da69939ed67427dc6bf3daba21059e9
ORGANIZER:Volleyball
SEQUENCE:261121125
LOCATION:1608 / Hallenkomplex Poznaner Str.  , Poznaner Str. 40  , 030
 48 Cottbus
GEO:51.72978620000000000000;14.31966810000000000000
SUMMARY:LKl S Fr.: SV Energie Cottbus V - KWh/1. VC Wildau
CLASS:PUBLIC
DTSTART:20190223T100000Z
DTSTAMP:20180904T120300Z
END:VEVENT
BEGIN:VEVENT
UID:484451-2da69939ed67427dc6bf3daba21059e9
X-WR-RELCALID:484451-2da69939ed67427dc6bf3daba21059e9
ORGANIZER:Volleyball
SEQUENCE:261121125
LOCATION:1608 / Hallenkomplex Poznaner Str.  , Poznaner Str. 40  , 030
 48 Cottbus
GEO:51.72978620000000000000;14.31966810000000000000
SUMMARY:LKl S Fr.: SV Energie Cottbus V - Cottbuser Volleyballverein I
 I
CLASS:PUBLIC
DTSTART:20190223T100000Z
DTSTAMP:20180904T120300Z
END:VEVENT
END:VCALENDAR