BEGIN:VCALENDAR
VERSION:2.0
PRODID:VSD-Portal-www.volley.de
METHOD:PUBLISH
BEGIN:VEVENT
UID:149287-0b1cb5f82de24c98f11e829bddb1f0f9
X-WR-RELCALID:149287-0b1cb5f82de24c98f11e829bddb1f0f9
ORGANIZER:Volleyball
SEQUENCE:261110135
SUMMARY:KL Süd Fr.: DJK Kaufbeuren - SVS Türkheim II
CLASS:PUBLIC
DTSTART:20160409T123000Z
DTSTAMP:20160415T205500Z
END:VEVENT
END:VCALENDAR