BEGIN:VCALENDAR
VERSION:2.0
PRODID:VSD-Portal-www.volley.de
METHOD:PUBLISH
BEGIN:VEVENT
UID:477346-2da69939ed67427dc6bf3daba21059e9
X-WR-RELCALID:477346-2da69939ed67427dc6bf3daba21059e9
ORGANIZER:Volleyball
SEQUENCE:261141417
LOCATION:Oberschule an der Ronzelenstraße, Ronzelenstraße 51, 28359 Br
 emen
GEO:53.09589270000000000000;8.87531060000000000000
SUMMARY:BKl 2 Bre./Lün. Mi.: Stützpunkt Bremen II - TSV Bierden
CLASS:PUBLIC
DTSTART:20181028T100000Z
DTSTAMP:20181103T165500Z
END:VEVENT
BEGIN:VEVENT
UID:477347-2da69939ed67427dc6bf3daba21059e9
X-WR-RELCALID:477347-2da69939ed67427dc6bf3daba21059e9
ORGANIZER:Volleyball
SEQUENCE:261141417
LOCATION:Oberschule an der Ronzelenstraße, Ronzelenstraße 51, 28359 Br
 emen
GEO:53.09589270000000000000;8.87531060000000000000
SUMMARY:BKl 2 Bre./Lün. Mi.: Stützpunkt Bremen II - BTS Neustadt IV
CLASS:PUBLIC
DTSTART:20181028T100000Z
DTSTAMP:20181103T165500Z
END:VEVENT
BEGIN:VEVENT
UID:477364-2da69939ed67427dc6bf3daba21059e9
X-WR-RELCALID:477364-2da69939ed67427dc6bf3daba21059e9
ORGANIZER:Volleyball
SEQUENCE:261141417
LOCATION:Oberschule an der Ronzelenstraße, Ronzelenstraße 51, 28359 Br
 emen
GEO:53.09589270000000000000;8.87531060000000000000
SUMMARY:BKl 2 Bre./Lün. Mi.: Stützpunkt Bremen II - Bremen 1860 V
CLASS:PUBLIC
DTSTART:20181209T100000Z
DTSTAMP:20181103T165500Z
END:VEVENT
BEGIN:VEVENT
UID:477365-2da69939ed67427dc6bf3daba21059e9
X-WR-RELCALID:477365-2da69939ed67427dc6bf3daba21059e9
ORGANIZER:Volleyball
SEQUENCE:261141417
LOCATION:Oberschule an der Ronzelenstraße, Ronzelenstraße 51, 28359 Br
 emen
GEO:53.09589270000000000000;8.87531060000000000000
SUMMARY:BKl 2 Bre./Lün. Mi.: Stützpunkt Bremen II - TV Baden (U16 m) a
 . K.
CLASS:PUBLIC
DTSTART:20181209T100000Z
DTSTAMP:20181103T165500Z
END:VEVENT
BEGIN:VEVENT
UID:477372-2da69939ed67427dc6bf3daba21059e9
X-WR-RELCALID:477372-2da69939ed67427dc6bf3daba21059e9
ORGANIZER:Volleyball
SEQUENCE:261141417
LOCATION:Gymnasium Horn, Vorkampsweg 97, 28359 Bremen
GEO:53.10595000000000000000;8.87295000000000000000
SUMMARY:BKl 2 Bre./Lün. Mi.: Stützpunkt Bremen II - TV Scheeßel
CLASS:PUBLIC
DTSTART:20181222T140000Z
DTSTAMP:20181103T165500Z
END:VEVENT
BEGIN:VEVENT
UID:477379-2da69939ed67427dc6bf3daba21059e9
X-WR-RELCALID:477379-2da69939ed67427dc6bf3daba21059e9
ORGANIZER:Volleyball
SEQUENCE:261141417
LOCATION:Oberschule an der Ronzelenstraße, Ronzelenstraße 51, 28359 Br
 emen
GEO:53.09589270000000000000;8.87531060000000000000
SUMMARY:BKl 2 Bre./Lün. Mi.: Stützpunkt Bremen II - TV Baden II
CLASS:PUBLIC
DTSTART:20190120T100000Z
DTSTAMP:20181103T165500Z
END:VEVENT
BEGIN:VEVENT
UID:477380-2da69939ed67427dc6bf3daba21059e9
X-WR-RELCALID:477380-2da69939ed67427dc6bf3daba21059e9
ORGANIZER:Volleyball
SEQUENCE:261141417
LOCATION:Oberschule an der Ronzelenstraße, Ronzelenstraße 51, 28359 Br
 emen
GEO:53.09589270000000000000;8.87531060000000000000
SUMMARY:BKl 2 Bre./Lün. Mi.: Stützpunkt Bremen II - ATSV Habenhausen I
 I
CLASS:PUBLIC
DTSTART:20190120T100000Z
DTSTAMP:20181103T165500Z
END:VEVENT
BEGIN:VEVENT
UID:477332-2da69939ed67427dc6bf3daba21059e9
X-WR-RELCALID:477332-2da69939ed67427dc6bf3daba21059e9
ORGANIZER:Volleyball
SEQUENCE:261141417
LOCATION:Oberschule an der Ronzelenstraße, Ronzelenstraße 51, 28359 Br
 emen
GEO:53.09589270000000000000;8.87531060000000000000
SUMMARY:BKl 2 Bre./Lün. Mi.: Stützpunkt Bremen II - BTS Neustadt III
CLASS:PUBLIC
DTSTART:20190224T100000Z
DTSTAMP:20181103T165500Z
END:VEVENT
BEGIN:VEVENT
UID:477333-2da69939ed67427dc6bf3daba21059e9
X-WR-RELCALID:477333-2da69939ed67427dc6bf3daba21059e9
ORGANIZER:Volleyball
SEQUENCE:261141417
LOCATION:Oberschule an der Ronzelenstraße, Ronzelenstraße 51, 28359 Br
 emen
GEO:53.09589270000000000000;8.87531060000000000000
SUMMARY:BKl 2 Bre./Lün. Mi.: Stützpunkt Bremen II - TuS Syke
CLASS:PUBLIC
DTSTART:20190224T100000Z
DTSTAMP:20181103T165500Z
END:VEVENT
END:VCALENDAR