BEGIN:VCALENDAR
VERSION:2.0
PRODID:VSD-Portal-www.volley.de
METHOD:PUBLISH
BEGIN:VEVENT
UID:477154-2da69939ed67427dc6bf3daba21059e9
X-WR-RELCALID:477154-2da69939ed67427dc6bf3daba21059e9
ORGANIZER:Volleyball
SEQUENCE:261130037
LOCATION:Johanneum, Theodor-Heuss-Str. 1, 21335 Lüneburg
GEO:53.24550000000000000000;10.42995000000000000000
SUMMARY:BKl 4 Bre./Lün. Fr.: SVG Lüneburg IV - TSV Auetal
CLASS:PUBLIC
DTSTART:20180923T090000Z
DTSTAMP:20181103T194100Z
END:VEVENT
BEGIN:VEVENT
UID:477155-2da69939ed67427dc6bf3daba21059e9
X-WR-RELCALID:477155-2da69939ed67427dc6bf3daba21059e9
ORGANIZER:Volleyball
SEQUENCE:261130037
LOCATION:Johanneum, Theodor-Heuss-Str. 1, 21335 Lüneburg
GEO:53.24550000000000000000;10.42995000000000000000
SUMMARY:BKl 4 Bre./Lün. Fr.: SVG Lüneburg IV - TV Vahrendorf II
CLASS:PUBLIC
DTSTART:20180923T090000Z
DTSTAMP:20181103T194100Z
END:VEVENT
BEGIN:VEVENT
UID:477183-2da69939ed67427dc6bf3daba21059e9
X-WR-RELCALID:477183-2da69939ed67427dc6bf3daba21059e9
ORGANIZER:Volleyball
SEQUENCE:261130037
LOCATION:Johanneum, Theodor-Heuss-Str. 1, 21335 Lüneburg
GEO:53.24550000000000000000;10.42995000000000000000
SUMMARY:BKl 4 Bre./Lün. Fr.: SVG Lüneburg IV - TSV Stelle II
CLASS:PUBLIC
DTSTART:20181117T150000Z
DTSTAMP:20181112T094000Z
END:VEVENT
BEGIN:VEVENT
UID:477182-2da69939ed67427dc6bf3daba21059e9
X-WR-RELCALID:477182-2da69939ed67427dc6bf3daba21059e9
ORGANIZER:Volleyball
SEQUENCE:261130037
LOCATION:Gellersenhalle, Dachtmisser Straße, 21391 Reppenstedt
GEO:53.25064280000000000000;10.34406750000000000000
SUMMARY:BKl 4 Bre./Lün. Fr.: SVG Lüneburg IV - SVG Lüneburg V
CLASS:PUBLIC
DTSTART:20181126T180000Z
DTSTAMP:20181119T072100Z
END:VEVENT
BEGIN:VEVENT
UID:477193-2da69939ed67427dc6bf3daba21059e9
X-WR-RELCALID:477193-2da69939ed67427dc6bf3daba21059e9
ORGANIZER:Volleyball
SEQUENCE:261130037
LOCATION:Johanneum, Theodor-Heuss-Str. 1, 21335 Lüneburg
GEO:53.24550000000000000000;10.42995000000000000000
SUMMARY:BKl 4 Bre./Lün. Fr.: SVG Lüneburg IV - TSV Auetal
CLASS:PUBLIC
DTSTART:20181209T100000Z
DTSTAMP:20181103T194100Z
END:VEVENT
BEGIN:VEVENT
UID:477192-2da69939ed67427dc6bf3daba21059e9
X-WR-RELCALID:477192-2da69939ed67427dc6bf3daba21059e9
ORGANIZER:Volleyball
SEQUENCE:261130037
LOCATION:Johanneum, Theodor-Heuss-Str. 1, 21335 Lüneburg
GEO:53.24550000000000000000;10.42995000000000000000
SUMMARY:BKl 4 Bre./Lün. Fr.: SVG Lüneburg IV - TSV Winsen/Luhe II
CLASS:PUBLIC
DTSTART:20181209T100100Z
DTSTAMP:20181204T064100Z
END:VEVENT
BEGIN:VEVENT
UID:477205-2da69939ed67427dc6bf3daba21059e9
X-WR-RELCALID:477205-2da69939ed67427dc6bf3daba21059e9
ORGANIZER:Volleyball
SEQUENCE:261130037
LOCATION:Johanneum, Theodor-Heuss-Str. 1, 21335 Lüneburg
GEO:53.24550000000000000000;10.42995000000000000000
SUMMARY:BKl 4 Bre./Lün. Fr.: SVG Lüneburg IV - TSV Stelle III
CLASS:PUBLIC
DTSTART:20190112T135900Z
DTSTAMP:20181112T094000Z
END:VEVENT
BEGIN:VEVENT
UID:477204-2da69939ed67427dc6bf3daba21059e9
X-WR-RELCALID:477204-2da69939ed67427dc6bf3daba21059e9
ORGANIZER:Volleyball
SEQUENCE:261130037
LOCATION:Johanneum, Theodor-Heuss-Str. 1, 21335 Lüneburg
GEO:53.24550000000000000000;10.42995000000000000000
SUMMARY:BKl 4 Bre./Lün. Fr.: SVG Lüneburg IV - VSG Altes Land IV
CLASS:PUBLIC
DTSTART:20190112T140000Z
DTSTAMP:20181112T094000Z
END:VEVENT
BEGIN:VEVENT
UID:477220-2da69939ed67427dc6bf3daba21059e9
X-WR-RELCALID:477220-2da69939ed67427dc6bf3daba21059e9
ORGANIZER:Volleyball
SEQUENCE:261130037
LOCATION:Johanneum, Theodor-Heuss-Str. 1, 21335 Lüneburg
GEO:53.24550000000000000000;10.42995000000000000000
SUMMARY:BKl 4 Bre./Lün. Fr.: SVG Lüneburg IV - TSV Radbruch
CLASS:PUBLIC
DTSTART:20190217T100000Z
DTSTAMP:20181103T194100Z
END:VEVENT
BEGIN:VEVENT
UID:477221-2da69939ed67427dc6bf3daba21059e9
X-WR-RELCALID:477221-2da69939ed67427dc6bf3daba21059e9
ORGANIZER:Volleyball
SEQUENCE:261130037
LOCATION:Johanneum, Theodor-Heuss-Str. 1, 21335 Lüneburg
GEO:53.24550000000000000000;10.42995000000000000000
SUMMARY:BKl 4 Bre./Lün. Fr.: SVG Lüneburg IV - SVG Lüneburg VI
CLASS:PUBLIC
DTSTART:20190217T100000Z
DTSTAMP:20181103T194100Z
END:VEVENT
END:VCALENDAR