BEGIN:VCALENDAR
VERSION:2.0
PRODID:VSD-Portal-www.volley.de
METHOD:PUBLISH
BEGIN:VEVENT
UID:475451-2da69939ed67427dc6bf3daba21059e9
X-WR-RELCALID:475451-2da69939ed67427dc6bf3daba21059e9
ORGANIZER:Volleyball
SEQUENCE:261132337
LOCATION:Grund- und Hauptschule, Galgensteige 17, 74706 Osterburken
GEO:49.43048320000000000000;9.43386290000000000000
SUMMARY:BKl 1 Fr.: SV Schlierstadt - TV Eberbach
CLASS:PUBLIC
DTSTART:20181006T130000Z
DTSTAMP:20181103T191100Z
END:VEVENT
BEGIN:VEVENT
UID:475450-2da69939ed67427dc6bf3daba21059e9
X-WR-RELCALID:475450-2da69939ed67427dc6bf3daba21059e9
ORGANIZER:Volleyball
SEQUENCE:261132337
LOCATION:Grund- und Hauptschule, Galgensteige 17, 74706 Osterburken
GEO:49.43048320000000000000;9.43386290000000000000
SUMMARY:BKl 1 Fr.: SV Schlierstadt - TSG Wiesloch 3
CLASS:PUBLIC
DTSTART:20181006T130000Z
DTSTAMP:20181103T191100Z
END:VEVENT
BEGIN:VEVENT
UID:475459-2da69939ed67427dc6bf3daba21059e9
X-WR-RELCALID:475459-2da69939ed67427dc6bf3daba21059e9
ORGANIZER:Volleyball
SEQUENCE:261132337
LOCATION:Kraichgauhalle, Schulstraße 30, 69242 Mühlhausen Kraichgau
GEO:49.24434890000000000000;8.72378320000000000000
SUMMARY:BKl 1 Fr.: VC 76 Mühlhausen - SV Schlierstadt
CLASS:PUBLIC
DTSTART:20181028T100000Z
DTSTAMP:20181103T191100Z
END:VEVENT
BEGIN:VEVENT
UID:475464-2da69939ed67427dc6bf3daba21059e9
X-WR-RELCALID:475464-2da69939ed67427dc6bf3daba21059e9
ORGANIZER:Volleyball
SEQUENCE:261132337
LOCATION:Grund- und Hauptschule, Galgensteige 17, 74706 Osterburken
GEO:49.43048320000000000000;9.43386290000000000000
SUMMARY:BKl 1 Fr.: SV Schlierstadt - SV Großeicholzheim 2
CLASS:PUBLIC
DTSTART:20181118T100000Z
DTSTAMP:20181103T191100Z
END:VEVENT
BEGIN:VEVENT
UID:475465-2da69939ed67427dc6bf3daba21059e9
X-WR-RELCALID:475465-2da69939ed67427dc6bf3daba21059e9
ORGANIZER:Volleyball
SEQUENCE:261132337
LOCATION:Grund- und Hauptschule, Galgensteige 17, 74706 Osterburken
GEO:49.43048320000000000000;9.43386290000000000000
SUMMARY:BKl 1 Fr.: SV Schlierstadt - VC Hoffenheim
CLASS:PUBLIC
DTSTART:20181118T100000Z
DTSTAMP:20181103T191100Z
END:VEVENT
BEGIN:VEVENT
UID:475470-2da69939ed67427dc6bf3daba21059e9
X-WR-RELCALID:475470-2da69939ed67427dc6bf3daba21059e9
ORGANIZER:Volleyball
SEQUENCE:261132337
LOCATION:Eugen-Hagmaier-Halle, Sommerwaldstr., 74889 Waldangelloch   G
 em. Sinsheim
GEO:49.21425150000000000000;8.80658290000000000000
SUMMARY:BKl 1 Fr.: VC Waldangelloch - SV Schlierstadt
CLASS:PUBLIC
DTSTART:20181201T140000Z
DTSTAMP:20181103T191100Z
END:VEVENT
BEGIN:VEVENT
UID:475474-2da69939ed67427dc6bf3daba21059e9
X-WR-RELCALID:475474-2da69939ed67427dc6bf3daba21059e9
ORGANIZER:Volleyball
SEQUENCE:261132337
LOCATION:Sporthalle Glashofen, Walldürner Straße, 74731 Walldürn-Glash
 ofen
GEO:49.62325670000000000000;9.36604090000000000000
SUMMARY:BKl 1 Fr.: TV Walldürn - SV Schlierstadt
CLASS:PUBLIC
DTSTART:20181215T140000Z
DTSTAMP:20181103T191100Z
END:VEVENT
BEGIN:VEVENT
UID:475479-2da69939ed67427dc6bf3daba21059e9
X-WR-RELCALID:475479-2da69939ed67427dc6bf3daba21059e9
ORGANIZER:Volleyball
SEQUENCE:261132337
LOCATION:Eugen-Hagmaier-Halle, Sommerwaldstr., 74889 Waldangelloch   G
 em. Sinsheim
GEO:49.21425150000000000000;8.80658290000000000000
SUMMARY:BKl 1 Fr.: VC Waldangelloch - SV Schlierstadt
CLASS:PUBLIC
DTSTART:20190119T140000Z
DTSTAMP:20181103T191100Z
END:VEVENT
BEGIN:VEVENT
UID:475480-2da69939ed67427dc6bf3daba21059e9
X-WR-RELCALID:475480-2da69939ed67427dc6bf3daba21059e9
ORGANIZER:Volleyball
SEQUENCE:261132337
LOCATION:Hohenstaufen-Sporthalle, Karlstalweg, 69412 Eberbach
GEO:49.46849070000000000000;8.98002690000000000000
SUMMARY:BKl 1 Fr.: TV Eberbach - SV Schlierstadt
CLASS:PUBLIC
DTSTART:20190126T140000Z
DTSTAMP:20181103T191100Z
END:VEVENT
BEGIN:VEVENT
UID:475485-2da69939ed67427dc6bf3daba21059e9
X-WR-RELCALID:475485-2da69939ed67427dc6bf3daba21059e9
ORGANIZER:Volleyball
SEQUENCE:261132337
LOCATION:Sporthalle Rippberg, Petersbrunnenstrasse 15, 74731 Walldürn-
 Rippberg
GEO:49.62184860000000000000;9.28979150000000000000
SUMMARY:BKl 1 Fr.: TV Walldürn - SV Schlierstadt
CLASS:PUBLIC
DTSTART:20190209T140000Z
DTSTAMP:20181103T191100Z
END:VEVENT
BEGIN:VEVENT
UID:475488-2da69939ed67427dc6bf3daba21059e9
X-WR-RELCALID:475488-2da69939ed67427dc6bf3daba21059e9
ORGANIZER:Volleyball
SEQUENCE:261132337
LOCATION:Grund- und Hauptschule, Galgensteige 17, 74706 Osterburken
GEO:49.43048320000000000000;9.43386290000000000000
SUMMARY:BKl 1 Fr.: SV Großeicholzheim 2 - SV Schlierstadt
CLASS:PUBLIC
DTSTART:20190216T140000Z
DTSTAMP:20190211T170100Z
END:VEVENT
BEGIN:VEVENT
UID:475498-2da69939ed67427dc6bf3daba21059e9
X-WR-RELCALID:475498-2da69939ed67427dc6bf3daba21059e9
ORGANIZER:Volleyball
SEQUENCE:261132337
LOCATION:Grund- und Hauptschule, Galgensteige 17, 74706 Osterburken
GEO:49.43048320000000000000;9.43386290000000000000
SUMMARY:BKl 1 Fr.: SV Schlierstadt - VC Hoffenheim
CLASS:PUBLIC
DTSTART:20190317T100000Z
DTSTAMP:20181103T191100Z
END:VEVENT
BEGIN:VEVENT
UID:475499-2da69939ed67427dc6bf3daba21059e9
X-WR-RELCALID:475499-2da69939ed67427dc6bf3daba21059e9
ORGANIZER:Volleyball
SEQUENCE:261132337
LOCATION:Grund- und Hauptschule, Galgensteige 17, 74706 Osterburken
GEO:49.43048320000000000000;9.43386290000000000000
SUMMARY:BKl 1 Fr.: SV Schlierstadt - TSG Wiesloch 3
CLASS:PUBLIC
DTSTART:20190317T100000Z
DTSTAMP:20181103T191100Z
END:VEVENT
BEGIN:VEVENT
UID:475500-2da69939ed67427dc6bf3daba21059e9
X-WR-RELCALID:475500-2da69939ed67427dc6bf3daba21059e9
ORGANIZER:Volleyball
SEQUENCE:261132337
LOCATION:Kraichgauhalle, Schulstraße 30, 69242 Mühlhausen Kraichgau
GEO:49.24434890000000000000;8.72378320000000000000
SUMMARY:BKl 1 Fr.: VC 76 Mühlhausen - SV Schlierstadt
CLASS:PUBLIC
DTSTART:20190324T100000Z
DTSTAMP:20181103T191100Z
END:VEVENT
END:VCALENDAR