BEGIN:VCALENDAR
VERSION:2.0
PRODID:VSD-Portal-www.volley.de
METHOD:PUBLISH
BEGIN:VEVENT
UID:474984-2da69939ed67427dc6bf3daba21059e9
X-WR-RELCALID:474984-2da69939ed67427dc6bf3daba21059e9
ORGANIZER:Volleyball
SEQUENCE:261121942
LOCATION:Georg-Koch-Halle, Senefelder Straße, 69181 Leimen
GEO:49.34142430000000000000;8.68394850000000000000
SUMMARY:LL 1 Fr.: KuSG Leimen - DJK Hockenheim
CLASS:PUBLIC
DTSTART:20181007T090000Z
DTSTAMP:20181105T151500Z
END:VEVENT
BEGIN:VEVENT
UID:474992-2da69939ed67427dc6bf3daba21059e9
X-WR-RELCALID:474992-2da69939ed67427dc6bf3daba21059e9
ORGANIZER:Volleyball
SEQUENCE:261121942
LOCATION:IGH-Halle, Baden-Badener Str. 14, 69126 Heidelberg
GEO:49.37697000000000000000;8.68023000000000000000
SUMMARY:LL 1 Fr.: TSG HD-Rohrbach 2 - DJK Hockenheim
CLASS:PUBLIC
DTSTART:20181020T130000Z
DTSTAMP:20180715T143400Z
END:VEVENT
BEGIN:VEVENT
UID:474995-2da69939ed67427dc6bf3daba21059e9
X-WR-RELCALID:474995-2da69939ed67427dc6bf3daba21059e9
ORGANIZER:Volleyball
SEQUENCE:261121942
LOCATION:Rudolf-Harbig-Halle, Arndtstraße, 68766 Hockenheim
GEO:49.31291240000000000000;8.54169960000000000000
SUMMARY:LL 1 Fr.: DJK Hockenheim - SG Schwarzbachtal
CLASS:PUBLIC
DTSTART:20181027T110000Z
DTSTAMP:20181105T151500Z
END:VEVENT
BEGIN:VEVENT
UID:475006-2da69939ed67427dc6bf3daba21059e9
X-WR-RELCALID:475006-2da69939ed67427dc6bf3daba21059e9
ORGANIZER:Volleyball
SEQUENCE:261121942
LOCATION:Rudolf-Harbig-Halle, Arndtstraße, 68766 Hockenheim
GEO:49.31291240000000000000;8.54169960000000000000
SUMMARY:LL 1 Fr.: DJK Hockenheim - SV Großeicholzheim
CLASS:PUBLIC
DTSTART:20181118T100000Z
DTSTAMP:20181105T151500Z
END:VEVENT
BEGIN:VEVENT
UID:475007-2da69939ed67427dc6bf3daba21059e9
X-WR-RELCALID:475007-2da69939ed67427dc6bf3daba21059e9
ORGANIZER:Volleyball
SEQUENCE:261121942
LOCATION:Rudolf-Harbig-Halle, Arndtstraße, 68766 Hockenheim
GEO:49.31291240000000000000;8.54169960000000000000
SUMMARY:LL 1 Fr.: DJK Hockenheim - VSG Mannheim DJK/MVC 2
CLASS:PUBLIC
DTSTART:20181118T100000Z
DTSTAMP:20181105T151500Z
END:VEVENT
BEGIN:VEVENT
UID:475012-2da69939ed67427dc6bf3daba21059e9
X-WR-RELCALID:475012-2da69939ed67427dc6bf3daba21059e9
ORGANIZER:Volleyball
SEQUENCE:261121942
LOCATION:Sportzentrum Nord, Tiergartenstraße 126, 69121 Heidelberg
GEO:49.42713060000000000000;8.66060560000000000000
SUMMARY:LL 1 Fr.: TSV HD-Handschuhsheim - DJK Hockenheim
CLASS:PUBLIC
DTSTART:20181215T130000Z
DTSTAMP:20181105T151500Z
END:VEVENT
BEGIN:VEVENT
UID:475016-2da69939ed67427dc6bf3daba21059e9
X-WR-RELCALID:475016-2da69939ed67427dc6bf3daba21059e9
ORGANIZER:Volleyball
SEQUENCE:261121942
LOCATION:IGH-Halle, Baden-Badener Str. 14, 69126 Heidelberg
GEO:49.37697000000000000000;8.68023000000000000000
SUMMARY:LL 1 Fr.: VC Olympia Heidelberg - DJK Hockenheim
CLASS:PUBLIC
DTSTART:20190106T100000Z
DTSTAMP:20180715T143400Z
END:VEVENT
BEGIN:VEVENT
UID:475018-2da69939ed67427dc6bf3daba21059e9
X-WR-RELCALID:475018-2da69939ed67427dc6bf3daba21059e9
ORGANIZER:Volleyball
SEQUENCE:261121942
LOCATION:Schulsporthalle Waibstadt, Humboldtstraße, 74915 Waibstadt
GEO:49.29667590000000000000;8.90879070000000000000
SUMMARY:LL 1 Fr.: SG Schwarzbachtal - DJK Hockenheim
CLASS:PUBLIC
DTSTART:20190112T120000Z
DTSTAMP:20181218T120100Z
END:VEVENT
BEGIN:VEVENT
UID:475025-2da69939ed67427dc6bf3daba21059e9
X-WR-RELCALID:475025-2da69939ed67427dc6bf3daba21059e9
ORGANIZER:Volleyball
SEQUENCE:261121942
LOCATION:Lobdengauhalle, Realschulstraße 2, 68526 Ladenburg
GEO:49.46887400000000000000;8.60897090000000000000
SUMMARY:LL 1 Fr.: Ladenburger SV - DJK Hockenheim
CLASS:PUBLIC
DTSTART:20190203T130000Z
DTSTAMP:20181105T151500Z
END:VEVENT
BEGIN:VEVENT
UID:475034-2da69939ed67427dc6bf3daba21059e9
X-WR-RELCALID:475034-2da69939ed67427dc6bf3daba21059e9
ORGANIZER:Volleyball
SEQUENCE:261121942
LOCATION:Rudolf-Harbig-Halle, Arndtstraße, 68766 Hockenheim
GEO:49.31291240000000000000;8.54169960000000000000
SUMMARY:LL 1 Fr.: DJK Hockenheim - TSG HD-Rohrbach 2
CLASS:PUBLIC
DTSTART:20190217T100000Z
DTSTAMP:20181105T151500Z
END:VEVENT
BEGIN:VEVENT
UID:475035-2da69939ed67427dc6bf3daba21059e9
X-WR-RELCALID:475035-2da69939ed67427dc6bf3daba21059e9
ORGANIZER:Volleyball
SEQUENCE:261121942
LOCATION:Rudolf-Harbig-Halle, Arndtstraße, 68766 Hockenheim
GEO:49.31291240000000000000;8.54169960000000000000
SUMMARY:LL 1 Fr.: DJK Hockenheim - KuSG Leimen
CLASS:PUBLIC
DTSTART:20190217T100000Z
DTSTAMP:20181105T151500Z
END:VEVENT
BEGIN:VEVENT
UID:475040-2da69939ed67427dc6bf3daba21059e9
X-WR-RELCALID:475040-2da69939ed67427dc6bf3daba21059e9
ORGANIZER:Volleyball
SEQUENCE:261121942
LOCATION:Rudolf-Harbig-Halle, Arndtstraße, 68766 Hockenheim
GEO:49.31291240000000000000;8.54169960000000000000
SUMMARY:LL 1 Fr.: DJK Hockenheim - Ladenburger SV
CLASS:PUBLIC
DTSTART:20190309T140000Z
DTSTAMP:20181105T151500Z
END:VEVENT
BEGIN:VEVENT
UID:475039-2da69939ed67427dc6bf3daba21059e9
X-WR-RELCALID:475039-2da69939ed67427dc6bf3daba21059e9
ORGANIZER:Volleyball
SEQUENCE:261121942
LOCATION:Rudolf-Harbig-Halle, Arndtstraße, 68766 Hockenheim
GEO:49.31291240000000000000;8.54169960000000000000
SUMMARY:LL 1 Fr.: DJK Hockenheim - TSV HD-Handschuhsheim
CLASS:PUBLIC
DTSTART:20190309T140000Z
DTSTAMP:20181105T151500Z
END:VEVENT
BEGIN:VEVENT
UID:475049-2da69939ed67427dc6bf3daba21059e9
X-WR-RELCALID:475049-2da69939ed67427dc6bf3daba21059e9
ORGANIZER:Volleyball
SEQUENCE:261121942
LOCATION:Schloßgartenhalle, Bildweg 4/1, 74743 Seckach-Großeicholzheim
 
GEO:49.44206290000000000000;9.28848400000000000000
SUMMARY:LL 1 Fr.: SV Großeicholzheim - DJK Hockenheim
CLASS:PUBLIC
DTSTART:20190323T140000Z
DTSTAMP:20180715T143400Z
END:VEVENT
BEGIN:VEVENT
UID:475057-2da69939ed67427dc6bf3daba21059e9
X-WR-RELCALID:475057-2da69939ed67427dc6bf3daba21059e9
ORGANIZER:Volleyball
SEQUENCE:261121942
LOCATION:IGMH-Halle, Herzogenriedstr. 50, 68169 Mannheim
GEO:49.50851020000000000000;8.47763640000000000000
SUMMARY:LL 1 Fr.: VSG Mannheim DJK/MVC 2 - DJK Hockenheim
CLASS:PUBLIC
DTSTART:20190407T090000Z
DTSTAMP:20181105T151500Z
END:VEVENT
END:VCALENDAR