BEGIN:VCALENDAR
VERSION:2.0
PRODID:VSD-Portal-www.volley.de
METHOD:PUBLISH
BEGIN:VEVENT
UID:474425-2da69939ed67427dc6bf3daba21059e9
X-WR-RELCALID:474425-2da69939ed67427dc6bf3daba21059e9
ORGANIZER:Volleyball
SEQUENCE:261100634
LOCATION:Grundschule Fischerhude, Wilhelmshauser Str. 13, 28870 Fische
 rhude
GEO:53.12360000000000000000;9.06293000000000000000
SUMMARY:VL 2 Fr.: TSV Fischerhude-Quelkhorn - PSV Hannover
CLASS:PUBLIC
DTSTART:20181103T140000Z
DTSTAMP:20181103T161000Z
END:VEVENT
BEGIN:VEVENT
UID:474426-2da69939ed67427dc6bf3daba21059e9
X-WR-RELCALID:474426-2da69939ed67427dc6bf3daba21059e9
ORGANIZER:Volleyball
SEQUENCE:261100634
LOCATION:Grundschule Fischerhude, Wilhelmshauser Str. 13, 28870 Fische
 rhude
GEO:53.12360000000000000000;9.06293000000000000000
SUMMARY:VL 2 Fr.: TSV Fischerhude-Quelkhorn - Geestemünder TV
CLASS:PUBLIC
DTSTART:20181103T140000Z
DTSTAMP:20181103T161000Z
END:VEVENT
BEGIN:VEVENT
UID:474435-2da69939ed67427dc6bf3daba21059e9
X-WR-RELCALID:474435-2da69939ed67427dc6bf3daba21059e9
ORGANIZER:Volleyball
SEQUENCE:261100634
LOCATION:Grundschule Fischerhude, Wilhelmshauser Str. 13, 28870 Fische
 rhude
GEO:53.12360000000000000000;9.06293000000000000000
SUMMARY:VL 2 Fr.: TSV Fischerhude-Quelkhorn - TV Eiche Horn Bremen III
 
CLASS:PUBLIC
DTSTART:20181124T140000Z
DTSTAMP:20181103T161000Z
END:VEVENT
BEGIN:VEVENT
UID:474436-2da69939ed67427dc6bf3daba21059e9
X-WR-RELCALID:474436-2da69939ed67427dc6bf3daba21059e9
ORGANIZER:Volleyball
SEQUENCE:261100634
LOCATION:Grundschule Fischerhude, Wilhelmshauser Str. 13, 28870 Fische
 rhude
GEO:53.12360000000000000000;9.06293000000000000000
SUMMARY:VL 2 Fr.: TSV Fischerhude-Quelkhorn - TV Bremen-Walle 1875
CLASS:PUBLIC
DTSTART:20181124T140000Z
DTSTAMP:20181103T161000Z
END:VEVENT
BEGIN:VEVENT
UID:474460-2da69939ed67427dc6bf3daba21059e9
X-WR-RELCALID:474460-2da69939ed67427dc6bf3daba21059e9
ORGANIZER:Volleyball
SEQUENCE:261100634
LOCATION:Grundschule Fischerhude, Wilhelmshauser Str. 13, 28870 Fische
 rhude
GEO:53.12360000000000000000;9.06293000000000000000
SUMMARY:VL 2 Fr.: TSV Fischerhude-Quelkhorn - TV Eiche Horn Bremen III
 
CLASS:PUBLIC
DTSTART:20190126T140000Z
DTSTAMP:20181103T161000Z
END:VEVENT
BEGIN:VEVENT
UID:474461-2da69939ed67427dc6bf3daba21059e9
X-WR-RELCALID:474461-2da69939ed67427dc6bf3daba21059e9
ORGANIZER:Volleyball
SEQUENCE:261100634
LOCATION:Grundschule Fischerhude, Wilhelmshauser Str. 13, 28870 Fische
 rhude
GEO:53.12360000000000000000;9.06293000000000000000
SUMMARY:VL 2 Fr.: TSV Fischerhude-Quelkhorn - VC Nienburg
CLASS:PUBLIC
DTSTART:20190126T140000Z
DTSTAMP:20181103T161000Z
END:VEVENT
BEGIN:VEVENT
UID:474470-2da69939ed67427dc6bf3daba21059e9
X-WR-RELCALID:474470-2da69939ed67427dc6bf3daba21059e9
ORGANIZER:Volleyball
SEQUENCE:261100634
LOCATION:Grundschule Fischerhude, Wilhelmshauser Str. 13, 28870 Fische
 rhude
GEO:53.12360000000000000000;9.06293000000000000000
SUMMARY:VL 2 Fr.: TSV Fischerhude-Quelkhorn - TSV Buxtehude-Altkloster
 
CLASS:PUBLIC
DTSTART:20190216T140000Z
DTSTAMP:20181103T161000Z
END:VEVENT
BEGIN:VEVENT
UID:474471-2da69939ed67427dc6bf3daba21059e9
X-WR-RELCALID:474471-2da69939ed67427dc6bf3daba21059e9
ORGANIZER:Volleyball
SEQUENCE:261100634
LOCATION:Grundschule Fischerhude, Wilhelmshauser Str. 13, 28870 Fische
 rhude
GEO:53.12360000000000000000;9.06293000000000000000
SUMMARY:VL 2 Fr.: TSV Fischerhude-Quelkhorn - TuS Zeven
CLASS:PUBLIC
DTSTART:20190216T140000Z
DTSTAMP:20181103T161000Z
END:VEVENT
END:VCALENDAR