BEGIN:VCALENDAR
VERSION:2.0
PRODID:VSD-Portal-www.volley.de
METHOD:PUBLISH
BEGIN:VEVENT
UID:474209-2da69939ed67427dc6bf3daba21059e9
X-WR-RELCALID:474209-2da69939ed67427dc6bf3daba21059e9
ORGANIZER:Volleyball
SEQUENCE:261100737
LOCATION:IGS Franzsches Feld, Grünewaldstr. 11b, 38104 Braunschweig
GEO:52.27322000000000000000;10.55261000000000000000
SUMMARY:VL 3 Mä.: USC Braunschweig III - Team Schaumburg
CLASS:PUBLIC
DTSTART:20180915T130000Z
DTSTAMP:20181103T163000Z
END:VEVENT
BEGIN:VEVENT
UID:474210-2da69939ed67427dc6bf3daba21059e9
X-WR-RELCALID:474210-2da69939ed67427dc6bf3daba21059e9
ORGANIZER:Volleyball
SEQUENCE:261100737
LOCATION:IGS Franzsches Feld, Grünewaldstr. 11b, 38104 Braunschweig
GEO:52.27322000000000000000;10.55261000000000000000
SUMMARY:VL 3 Mä.: USC Braunschweig III - MTV Gamsen
CLASS:PUBLIC
DTSTART:20180915T130000Z
DTSTAMP:20181103T163000Z
END:VEVENT
BEGIN:VEVENT
UID:474211-2da69939ed67427dc6bf3daba21059e9
X-WR-RELCALID:474211-2da69939ed67427dc6bf3daba21059e9
ORGANIZER:Volleyball
SEQUENCE:261100737
LOCATION:BBS Northeim, Sudheimerstraße, 37154 Northeim
GEO:51.69105870000000000000;9.99626580000000000000
SUMMARY:VL 3 Mä.: SG Echte/Kalefeld - VfL Wolfsburg
CLASS:PUBLIC
DTSTART:20180915T130000Z
DTSTAMP:20181103T163000Z
END:VEVENT
BEGIN:VEVENT
UID:474212-2da69939ed67427dc6bf3daba21059e9
X-WR-RELCALID:474212-2da69939ed67427dc6bf3daba21059e9
ORGANIZER:Volleyball
SEQUENCE:261100737
LOCATION:BBS Northeim, Sudheimerstraße, 37154 Northeim
GEO:51.69105870000000000000;9.99626580000000000000
SUMMARY:VL 3 Mä.: SG Echte/Kalefeld - 1. VC Pöhlde
CLASS:PUBLIC
DTSTART:20180915T130000Z
DTSTAMP:20181103T163000Z
END:VEVENT
BEGIN:VEVENT
UID:474213-2da69939ed67427dc6bf3daba21059e9
X-WR-RELCALID:474213-2da69939ed67427dc6bf3daba21059e9
ORGANIZER:Volleyball
SEQUENCE:261100737
LOCATION:Mahnte-Sporthalle, Berliner Straße 6, 37412 Herzberg
GEO:51.66336370000000000000;10.34109730000000000000
SUMMARY:VL 3 Mä.: 1. VC Pöhlde - USC Braunschweig III
CLASS:PUBLIC
DTSTART:20180929T130000Z
DTSTAMP:20181103T163000Z
END:VEVENT
BEGIN:VEVENT
UID:474214-2da69939ed67427dc6bf3daba21059e9
X-WR-RELCALID:474214-2da69939ed67427dc6bf3daba21059e9
ORGANIZER:Volleyball
SEQUENCE:261100737
LOCATION:Mahnte-Sporthalle, Berliner Straße 6, 37412 Herzberg
GEO:51.66336370000000000000;10.34109730000000000000
SUMMARY:VL 3 Mä.: 1. VC Pöhlde - ASC 46 Göttingen II
CLASS:PUBLIC
DTSTART:20180929T130000Z
DTSTAMP:20181103T163000Z
END:VEVENT
BEGIN:VEVENT
UID:474215-2da69939ed67427dc6bf3daba21059e9
X-WR-RELCALID:474215-2da69939ed67427dc6bf3daba21059e9
ORGANIZER:Volleyball
SEQUENCE:261100737
LOCATION:Kreissporthalle Lengede, Vor den Beeken, 38268 Lengede
GEO:52.20704050000000000000;10.30662640000000000000
SUMMARY:VL 3 Mä.: SV Lengede - SG Echte/Kalefeld
CLASS:PUBLIC
DTSTART:20180929T130000Z
DTSTAMP:20181103T163000Z
END:VEVENT
BEGIN:VEVENT
UID:474216-2da69939ed67427dc6bf3daba21059e9
X-WR-RELCALID:474216-2da69939ed67427dc6bf3daba21059e9
ORGANIZER:Volleyball
SEQUENCE:261100737
LOCATION:Kreissporthalle Lengede, Vor den Beeken, 38268 Lengede
GEO:52.20704050000000000000;10.30662640000000000000
SUMMARY:VL 3 Mä.: SV Lengede - Team Schaumburg
CLASS:PUBLIC
DTSTART:20180929T130000Z
DTSTAMP:20181103T163000Z
END:VEVENT
BEGIN:VEVENT
UID:474217-2da69939ed67427dc6bf3daba21059e9
X-WR-RELCALID:474217-2da69939ed67427dc6bf3daba21059e9
ORGANIZER:Volleyball
SEQUENCE:261100737
LOCATION:Max-Planck-Gymnasium, Bühlstraße, 37073 Göttingen
GEO:51.53721800000000000000;9.94201180000000000000
SUMMARY:VL 3 Mä.: ASC 46 Göttingen II - MTV Gamsen
CLASS:PUBLIC
DTSTART:20181020T130000Z
DTSTAMP:20181103T163000Z
END:VEVENT
BEGIN:VEVENT
UID:474218-2da69939ed67427dc6bf3daba21059e9
X-WR-RELCALID:474218-2da69939ed67427dc6bf3daba21059e9
ORGANIZER:Volleyball
SEQUENCE:261100737
LOCATION:Max-Planck-Gymnasium, Bühlstraße, 37073 Göttingen
GEO:51.53721800000000000000;9.94201180000000000000
SUMMARY:VL 3 Mä.: ASC 46 Göttingen II - SG Echte/Kalefeld
CLASS:PUBLIC
DTSTART:20181020T130000Z
DTSTAMP:20181103T163000Z
END:VEVENT
BEGIN:VEVENT
UID:474219-2da69939ed67427dc6bf3daba21059e9
X-WR-RELCALID:474219-2da69939ed67427dc6bf3daba21059e9
ORGANIZER:Volleyball
SEQUENCE:261100737
LOCATION:Grundschule Alt-Wolfsburg, Am Lerchengarten 30, 38448 Wolfsbu
 rg
GEO:52.44590730000000000000;10.80034110000000000000
SUMMARY:VL 3 Mä.: VfL Wolfsburg - SV Lengede
CLASS:PUBLIC
DTSTART:20181020T130000Z
DTSTAMP:20181103T174800Z
END:VEVENT
BEGIN:VEVENT
UID:474220-2da69939ed67427dc6bf3daba21059e9
X-WR-RELCALID:474220-2da69939ed67427dc6bf3daba21059e9
ORGANIZER:Volleyball
SEQUENCE:261100737
LOCATION:Grundschule Alt-Wolfsburg, Am Lerchengarten 30, 38448 Wolfsbu
 rg
GEO:52.44590730000000000000;10.80034110000000000000
SUMMARY:VL 3 Mä.: VfL Wolfsburg - USC Braunschweig III
CLASS:PUBLIC
DTSTART:20181020T130000Z
DTSTAMP:20181103T174800Z
END:VEVENT
BEGIN:VEVENT
UID:474221-2da69939ed67427dc6bf3daba21059e9
X-WR-RELCALID:474221-2da69939ed67427dc6bf3daba21059e9
ORGANIZER:Volleyball
SEQUENCE:261100737
LOCATION:Sportzentrum Nord, Bruno-Kuhn-Str. 41, 38518 Gifhorn
GEO:52.49751380000000000000;10.53666850000000000000
SUMMARY:VL 3 Mä.: MTV Gamsen - 1. VC Pöhlde
CLASS:PUBLIC
DTSTART:20181027T130000Z
DTSTAMP:20181103T174500Z
END:VEVENT
BEGIN:VEVENT
UID:474222-2da69939ed67427dc6bf3daba21059e9
X-WR-RELCALID:474222-2da69939ed67427dc6bf3daba21059e9
ORGANIZER:Volleyball
SEQUENCE:261100737
LOCATION:Sportzentrum Nord, Bruno-Kuhn-Str. 41, 38518 Gifhorn
GEO:52.49751380000000000000;10.53666850000000000000
SUMMARY:VL 3 Mä.: MTV Gamsen - Team Schaumburg
CLASS:PUBLIC
DTSTART:20181027T130000Z
DTSTAMP:20181103T174500Z
END:VEVENT
BEGIN:VEVENT
UID:474223-2da69939ed67427dc6bf3daba21059e9
X-WR-RELCALID:474223-2da69939ed67427dc6bf3daba21059e9
ORGANIZER:Volleyball
SEQUENCE:261100737
LOCATION:Grundschule Alt-Wolfsburg, Am Lerchengarten 30, 38448 Wolfsbu
 rg
GEO:52.44590730000000000000;10.80034110000000000000
SUMMARY:VL 3 Mä.: VfL Wolfsburg - ASC 46 Göttingen II
CLASS:PUBLIC
DTSTART:20181103T135900Z
DTSTAMP:20181103T174800Z
END:VEVENT
BEGIN:VEVENT
UID:474224-2da69939ed67427dc6bf3daba21059e9
X-WR-RELCALID:474224-2da69939ed67427dc6bf3daba21059e9
ORGANIZER:Volleyball
SEQUENCE:261100737
LOCATION:Grundschule Alt-Wolfsburg, Am Lerchengarten 30, 38448 Wolfsbu
 rg
GEO:52.44590730000000000000;10.80034110000000000000
SUMMARY:VL 3 Mä.: MTV Gamsen - VfL Wolfsburg
CLASS:PUBLIC
DTSTART:20181103T140000Z
DTSTAMP:20181103T174800Z
END:VEVENT
BEGIN:VEVENT
UID:474225-2da69939ed67427dc6bf3daba21059e9
X-WR-RELCALID:474225-2da69939ed67427dc6bf3daba21059e9
ORGANIZER:Volleyball
SEQUENCE:261100737
LOCATION:IGS Franzsches Feld, Grünewaldstr. 11b, 38104 Braunschweig
GEO:52.27322000000000000000;10.55261000000000000000
SUMMARY:VL 3 Mä.: USC Braunschweig III - SV Lengede
CLASS:PUBLIC
DTSTART:20181103T140000Z
DTSTAMP:20181103T163000Z
END:VEVENT
BEGIN:VEVENT
UID:474226-2da69939ed67427dc6bf3daba21059e9
X-WR-RELCALID:474226-2da69939ed67427dc6bf3daba21059e9
ORGANIZER:Volleyball
SEQUENCE:261100737
LOCATION:IGS Franzsches Feld, Grünewaldstr. 11b, 38104 Braunschweig
GEO:52.27322000000000000000;10.55261000000000000000
SUMMARY:VL 3 Mä.: USC Braunschweig III - SG Echte/Kalefeld
CLASS:PUBLIC
DTSTART:20181103T140000Z
DTSTAMP:20181103T163000Z
END:VEVENT
BEGIN:VEVENT
UID:474227-2da69939ed67427dc6bf3daba21059e9
X-WR-RELCALID:474227-2da69939ed67427dc6bf3daba21059e9
ORGANIZER:Volleyball
SEQUENCE:261100737
LOCATION:Kreissporthalle Lengede, Vor den Beeken, 38268 Lengede
GEO:52.20704050000000000000;10.30662640000000000000
SUMMARY:VL 3 Mä.: SV Lengede - ASC 46 Göttingen II
CLASS:PUBLIC
DTSTART:20181117T140000Z
DTSTAMP:20181103T163000Z
END:VEVENT
BEGIN:VEVENT
UID:474228-2da69939ed67427dc6bf3daba21059e9
X-WR-RELCALID:474228-2da69939ed67427dc6bf3daba21059e9
ORGANIZER:Volleyball
SEQUENCE:261100737
LOCATION:Kreissporthalle Lengede, Vor den Beeken, 38268 Lengede
GEO:52.20704050000000000000;10.30662640000000000000
SUMMARY:VL 3 Mä.: SV Lengede - MTV Gamsen
CLASS:PUBLIC
DTSTART:20181117T140000Z
DTSTAMP:20181103T163000Z
END:VEVENT
BEGIN:VEVENT
UID:474229-2da69939ed67427dc6bf3daba21059e9
X-WR-RELCALID:474229-2da69939ed67427dc6bf3daba21059e9
ORGANIZER:Volleyball
SEQUENCE:261100737
LOCATION:Grundschule Alt-Wolfsburg, Am Lerchengarten 30, 38448 Wolfsbu
 rg
GEO:52.44590730000000000000;10.80034110000000000000
SUMMARY:VL 3 Mä.: VfL Wolfsburg - Team Schaumburg
CLASS:PUBLIC
DTSTART:20181117T140000Z
DTSTAMP:20181103T174800Z
END:VEVENT
BEGIN:VEVENT
UID:474230-2da69939ed67427dc6bf3daba21059e9
X-WR-RELCALID:474230-2da69939ed67427dc6bf3daba21059e9
ORGANIZER:Volleyball
SEQUENCE:261100737
LOCATION:Grundschule Alt-Wolfsburg, Am Lerchengarten 30, 38448 Wolfsbu
 rg
GEO:52.44590730000000000000;10.80034110000000000000
SUMMARY:VL 3 Mä.: VfL Wolfsburg - SG Echte/Kalefeld
CLASS:PUBLIC
DTSTART:20181117T140000Z
DTSTAMP:20181103T174800Z
END:VEVENT
BEGIN:VEVENT
UID:474231-2da69939ed67427dc6bf3daba21059e9
X-WR-RELCALID:474231-2da69939ed67427dc6bf3daba21059e9
ORGANIZER:Volleyball
SEQUENCE:261100737
LOCATION:Mahnte-Sporthalle, Berliner Straße 6, 37412 Herzberg
GEO:51.66336370000000000000;10.34109730000000000000
SUMMARY:VL 3 Mä.: 1. VC Pöhlde - VfL Wolfsburg
CLASS:PUBLIC
DTSTART:20181201T140000Z
DTSTAMP:20181103T163000Z
END:VEVENT
BEGIN:VEVENT
UID:474232-2da69939ed67427dc6bf3daba21059e9
X-WR-RELCALID:474232-2da69939ed67427dc6bf3daba21059e9
ORGANIZER:Volleyball
SEQUENCE:261100737
LOCATION:Mahnte-Sporthalle, Berliner Straße 6, 37412 Herzberg
GEO:51.66336370000000000000;10.34109730000000000000
SUMMARY:VL 3 Mä.: 1. VC Pöhlde - SV Lengede
CLASS:PUBLIC
DTSTART:20181201T140000Z
DTSTAMP:20181103T163000Z
END:VEVENT
BEGIN:VEVENT
UID:474233-2da69939ed67427dc6bf3daba21059e9
X-WR-RELCALID:474233-2da69939ed67427dc6bf3daba21059e9
ORGANIZER:Volleyball
SEQUENCE:261100737
LOCATION:Max-Planck-Gymnasium, Bühlstraße, 37073 Göttingen
GEO:51.53721800000000000000;9.94201180000000000000
SUMMARY:VL 3 Mä.: ASC 46 Göttingen II - Team Schaumburg
CLASS:PUBLIC
DTSTART:20181201T140000Z
DTSTAMP:20181103T163000Z
END:VEVENT
BEGIN:VEVENT
UID:474234-2da69939ed67427dc6bf3daba21059e9
X-WR-RELCALID:474234-2da69939ed67427dc6bf3daba21059e9
ORGANIZER:Volleyball
SEQUENCE:261100737
LOCATION:Max-Planck-Gymnasium, Bühlstraße, 37073 Göttingen
GEO:51.53721800000000000000;9.94201180000000000000
SUMMARY:VL 3 Mä.: ASC 46 Göttingen II - USC Braunschweig III
CLASS:PUBLIC
DTSTART:20181201T140000Z
DTSTAMP:20181103T163000Z
END:VEVENT
BEGIN:VEVENT
UID:474235-2da69939ed67427dc6bf3daba21059e9
X-WR-RELCALID:474235-2da69939ed67427dc6bf3daba21059e9
ORGANIZER:Volleyball
SEQUENCE:261100737
LOCATION:Schulzentrum Rodenberg (Halle 2), Suntalstraße, 31552 Rodenbe
 rg
GEO:52.30572910000000000000;9.36355780000000000000
SUMMARY:VL 3 Mä.: Team Schaumburg - 1. VC Pöhlde
CLASS:PUBLIC
DTSTART:20181208T140000Z
DTSTAMP:20181103T174800Z
END:VEVENT
BEGIN:VEVENT
UID:474236-2da69939ed67427dc6bf3daba21059e9
X-WR-RELCALID:474236-2da69939ed67427dc6bf3daba21059e9
ORGANIZER:Volleyball
SEQUENCE:261100737
LOCATION:Schulzentrum Rodenberg (Halle 2), Suntalstraße, 31552 Rodenbe
 rg
GEO:52.30572910000000000000;9.36355780000000000000
SUMMARY:VL 3 Mä.: SG Echte/Kalefeld - MTV Gamsen
CLASS:PUBLIC
DTSTART:20181208T140000Z
DTSTAMP:20181103T174800Z
END:VEVENT
BEGIN:VEVENT
UID:474237-2da69939ed67427dc6bf3daba21059e9
X-WR-RELCALID:474237-2da69939ed67427dc6bf3daba21059e9
ORGANIZER:Volleyball
SEQUENCE:261100737
LOCATION:Sportzentrum Nord, Bruno-Kuhn-Str. 41, 38518 Gifhorn
GEO:52.49751380000000000000;10.53666850000000000000
SUMMARY:VL 3 Mä.: MTV Gamsen - ASC 46 Göttingen II
CLASS:PUBLIC
DTSTART:20181215T140000Z
DTSTAMP:20181103T174500Z
END:VEVENT
BEGIN:VEVENT
UID:474238-2da69939ed67427dc6bf3daba21059e9
X-WR-RELCALID:474238-2da69939ed67427dc6bf3daba21059e9
ORGANIZER:Volleyball
SEQUENCE:261100737
LOCATION:Sportzentrum Nord, Bruno-Kuhn-Str. 41, 38518 Gifhorn
GEO:52.49751380000000000000;10.53666850000000000000
SUMMARY:VL 3 Mä.: MTV Gamsen - USC Braunschweig III
CLASS:PUBLIC
DTSTART:20181215T140000Z
DTSTAMP:20181103T174500Z
END:VEVENT
BEGIN:VEVENT
UID:474239-2da69939ed67427dc6bf3daba21059e9
X-WR-RELCALID:474239-2da69939ed67427dc6bf3daba21059e9
ORGANIZER:Volleyball
SEQUENCE:261100737
LOCATION:Kreissporthalle Lengede, Vor den Beeken, 38268 Lengede
GEO:52.20704050000000000000;10.30662640000000000000
SUMMARY:VL 3 Mä.: SV Lengede - 1. VC Pöhlde
CLASS:PUBLIC
DTSTART:20181215T140100Z
DTSTAMP:20181103T163000Z
END:VEVENT
BEGIN:VEVENT
UID:474240-2da69939ed67427dc6bf3daba21059e9
X-WR-RELCALID:474240-2da69939ed67427dc6bf3daba21059e9
ORGANIZER:Volleyball
SEQUENCE:261100737
LOCATION:Kreissporthalle Lengede, Vor den Beeken, 38268 Lengede
GEO:52.20704050000000000000;10.30662640000000000000
SUMMARY:VL 3 Mä.: 1. VC Pöhlde - SG Echte/Kalefeld
CLASS:PUBLIC
DTSTART:20181215T160000Z
DTSTAMP:20181103T163000Z
END:VEVENT
BEGIN:VEVENT
UID:474241-2da69939ed67427dc6bf3daba21059e9
X-WR-RELCALID:474241-2da69939ed67427dc6bf3daba21059e9
ORGANIZER:Volleyball
SEQUENCE:261100737
LOCATION:Schulzentrum Rodenberg (Halle 2), Suntalstraße, 31552 Rodenbe
 rg
GEO:52.30572910000000000000;9.36355780000000000000
SUMMARY:VL 3 Mä.: Team Schaumburg - SV Lengede
CLASS:PUBLIC
DTSTART:20190112T140000Z
DTSTAMP:20181103T174800Z
END:VEVENT
BEGIN:VEVENT
UID:474242-2da69939ed67427dc6bf3daba21059e9
X-WR-RELCALID:474242-2da69939ed67427dc6bf3daba21059e9
ORGANIZER:Volleyball
SEQUENCE:261100737
LOCATION:Schulzentrum Rodenberg (Halle 2), Suntalstraße, 31552 Rodenbe
 rg
GEO:52.30572910000000000000;9.36355780000000000000
SUMMARY:VL 3 Mä.: Team Schaumburg - USC Braunschweig III
CLASS:PUBLIC
DTSTART:20190112T140000Z
DTSTAMP:20181103T174800Z
END:VEVENT
BEGIN:VEVENT
UID:474243-2da69939ed67427dc6bf3daba21059e9
X-WR-RELCALID:474243-2da69939ed67427dc6bf3daba21059e9
ORGANIZER:Volleyball
SEQUENCE:261100737
LOCATION:Max-Planck-Gymnasium, Bühlstraße, 37073 Göttingen
GEO:51.53721800000000000000;9.94201180000000000000
SUMMARY:VL 3 Mä.: ASC 46 Göttingen II - VfL Wolfsburg
CLASS:PUBLIC
DTSTART:20190112T140000Z
DTSTAMP:20181103T163000Z
END:VEVENT
BEGIN:VEVENT
UID:474244-2da69939ed67427dc6bf3daba21059e9
X-WR-RELCALID:474244-2da69939ed67427dc6bf3daba21059e9
ORGANIZER:Volleyball
SEQUENCE:261100737
LOCATION:Max-Planck-Gymnasium, Bühlstraße, 37073 Göttingen
GEO:51.53721800000000000000;9.94201180000000000000
SUMMARY:VL 3 Mä.: ASC 46 Göttingen II - 1. VC Pöhlde
CLASS:PUBLIC
DTSTART:20190112T140000Z
DTSTAMP:20181103T163000Z
END:VEVENT
BEGIN:VEVENT
UID:474245-2da69939ed67427dc6bf3daba21059e9
X-WR-RELCALID:474245-2da69939ed67427dc6bf3daba21059e9
ORGANIZER:Volleyball
SEQUENCE:261100737
LOCATION:Grundschule Rodenberg, Lange Str. 63, 31552 Rodenberg
GEO:52.31102000000000000000;9.35799000000000000000
SUMMARY:VL 3 Mä.: Team Schaumburg - SG Echte/Kalefeld
CLASS:PUBLIC
DTSTART:20190126T140000Z
DTSTAMP:20181103T174800Z
END:VEVENT
BEGIN:VEVENT
UID:474246-2da69939ed67427dc6bf3daba21059e9
X-WR-RELCALID:474246-2da69939ed67427dc6bf3daba21059e9
ORGANIZER:Volleyball
SEQUENCE:261100737
LOCATION:Grundschule Rodenberg, Lange Str. 63, 31552 Rodenberg
GEO:52.31102000000000000000;9.35799000000000000000
SUMMARY:VL 3 Mä.: Team Schaumburg - VfL Wolfsburg
CLASS:PUBLIC
DTSTART:20190126T140000Z
DTSTAMP:20181103T174800Z
END:VEVENT
BEGIN:VEVENT
UID:474249-2da69939ed67427dc6bf3daba21059e9
X-WR-RELCALID:474249-2da69939ed67427dc6bf3daba21059e9
ORGANIZER:Volleyball
SEQUENCE:261100737
LOCATION:BBS Northeim, Sudheimerstraße, 37154 Northeim
GEO:51.69105870000000000000;9.99626580000000000000
SUMMARY:VL 3 Mä.: SG Echte/Kalefeld - SV Lengede
CLASS:PUBLIC
DTSTART:20190209T130000Z
DTSTAMP:20190206T171600Z
END:VEVENT
BEGIN:VEVENT
UID:474250-2da69939ed67427dc6bf3daba21059e9
X-WR-RELCALID:474250-2da69939ed67427dc6bf3daba21059e9
ORGANIZER:Volleyball
SEQUENCE:261100737
LOCATION:BBS Northeim, Sudheimerstraße, 37154 Northeim
GEO:51.69105870000000000000;9.99626580000000000000
SUMMARY:VL 3 Mä.: SG Echte/Kalefeld - ASC 46 Göttingen II
CLASS:PUBLIC
DTSTART:20190209T130000Z
DTSTAMP:20190206T171600Z
END:VEVENT
BEGIN:VEVENT
UID:474247-2da69939ed67427dc6bf3daba21059e9
X-WR-RELCALID:474247-2da69939ed67427dc6bf3daba21059e9
ORGANIZER:Volleyball
SEQUENCE:261100737
LOCATION:Mahnte-Sporthalle, Berliner Straße 6, 37412 Herzberg
GEO:51.66336370000000000000;10.34109730000000000000
SUMMARY:VL 3 Mä.: 1. VC Pöhlde - MTV Gamsen
CLASS:PUBLIC
DTSTART:20190209T130000Z
DTSTAMP:20181103T163000Z
END:VEVENT
BEGIN:VEVENT
UID:474248-2da69939ed67427dc6bf3daba21059e9
X-WR-RELCALID:474248-2da69939ed67427dc6bf3daba21059e9
ORGANIZER:Volleyball
SEQUENCE:261100737
LOCATION:Mahnte-Sporthalle, Berliner Straße 6, 37412 Herzberg
GEO:51.66336370000000000000;10.34109730000000000000
SUMMARY:VL 3 Mä.: 1. VC Pöhlde - Team Schaumburg
CLASS:PUBLIC
DTSTART:20190209T130000Z
DTSTAMP:20181103T163000Z
END:VEVENT
BEGIN:VEVENT
UID:474251-2da69939ed67427dc6bf3daba21059e9
X-WR-RELCALID:474251-2da69939ed67427dc6bf3daba21059e9
ORGANIZER:Volleyball
SEQUENCE:261100737
LOCATION:BBS Northeim, Sudheimerstraße, 37154 Northeim
GEO:51.69105870000000000000;9.99626580000000000000
SUMMARY:VL 3 Mä.: ASC 46 Göttingen II - SV Lengede
CLASS:PUBLIC
DTSTART:20190209T130000Z
DTSTAMP:20190206T171600Z
END:VEVENT
BEGIN:VEVENT
UID:474252-2da69939ed67427dc6bf3daba21059e9
X-WR-RELCALID:474252-2da69939ed67427dc6bf3daba21059e9
ORGANIZER:Volleyball
SEQUENCE:261100737
LOCATION:IGS Franzsches Feld, Grünewaldstr. 11b, 38104 Braunschweig
GEO:52.27322000000000000000;10.55261000000000000000
SUMMARY:VL 3 Mä.: USC Braunschweig III - 1. VC Pöhlde
CLASS:PUBLIC
DTSTART:20190216T140000Z
DTSTAMP:20181103T163000Z
END:VEVENT
BEGIN:VEVENT
UID:474253-2da69939ed67427dc6bf3daba21059e9
X-WR-RELCALID:474253-2da69939ed67427dc6bf3daba21059e9
ORGANIZER:Volleyball
SEQUENCE:261100737
LOCATION:IGS Franzsches Feld, Grünewaldstr. 11b, 38104 Braunschweig
GEO:52.27322000000000000000;10.55261000000000000000
SUMMARY:VL 3 Mä.: USC Braunschweig III - ASC 46 Göttingen II
CLASS:PUBLIC
DTSTART:20190216T140000Z
DTSTAMP:20181103T163000Z
END:VEVENT
BEGIN:VEVENT
UID:474254-2da69939ed67427dc6bf3daba21059e9
X-WR-RELCALID:474254-2da69939ed67427dc6bf3daba21059e9
ORGANIZER:Volleyball
SEQUENCE:261100737
LOCATION:Sportzentrum Nord, Bruno-Kuhn-Str. 41, 38518 Gifhorn
GEO:52.49751380000000000000;10.53666850000000000000
SUMMARY:VL 3 Mä.: MTV Gamsen - SG Echte/Kalefeld
CLASS:PUBLIC
DTSTART:20190216T140000Z
DTSTAMP:20181103T174500Z
END:VEVENT
BEGIN:VEVENT
UID:474255-2da69939ed67427dc6bf3daba21059e9
X-WR-RELCALID:474255-2da69939ed67427dc6bf3daba21059e9
ORGANIZER:Volleyball
SEQUENCE:261100737
LOCATION:Sportzentrum Nord, Bruno-Kuhn-Str. 41, 38518 Gifhorn
GEO:52.49751380000000000000;10.53666850000000000000
SUMMARY:VL 3 Mä.: MTV Gamsen - SV Lengede
CLASS:PUBLIC
DTSTART:20190216T140000Z
DTSTAMP:20181103T174500Z
END:VEVENT
BEGIN:VEVENT
UID:474256-2da69939ed67427dc6bf3daba21059e9
X-WR-RELCALID:474256-2da69939ed67427dc6bf3daba21059e9
ORGANIZER:Volleyball
SEQUENCE:261100737
LOCATION:BBS Northeim, Sudheimerstraße, 37154 Northeim
GEO:51.69105870000000000000;9.99626580000000000000
SUMMARY:VL 3 Mä.: SG Echte/Kalefeld - USC Braunschweig III
CLASS:PUBLIC
DTSTART:20190302T140000Z
DTSTAMP:20181103T163000Z
END:VEVENT
BEGIN:VEVENT
UID:474257-2da69939ed67427dc6bf3daba21059e9
X-WR-RELCALID:474257-2da69939ed67427dc6bf3daba21059e9
ORGANIZER:Volleyball
SEQUENCE:261100737
LOCATION:BBS Northeim, Sudheimerstraße, 37154 Northeim
GEO:51.69105870000000000000;9.99626580000000000000
SUMMARY:VL 3 Mä.: SG Echte/Kalefeld - Team Schaumburg
CLASS:PUBLIC
DTSTART:20190302T140000Z
DTSTAMP:20181103T163000Z
END:VEVENT
BEGIN:VEVENT
UID:474258-2da69939ed67427dc6bf3daba21059e9
X-WR-RELCALID:474258-2da69939ed67427dc6bf3daba21059e9
ORGANIZER:Volleyball
SEQUENCE:261100737
LOCATION:Grundschule Alt-Wolfsburg, Am Lerchengarten 30, 38448 Wolfsbu
 rg
GEO:52.44590730000000000000;10.80034110000000000000
SUMMARY:VL 3 Mä.: VfL Wolfsburg - 1. VC Pöhlde
CLASS:PUBLIC
DTSTART:20190303T100000Z
DTSTAMP:20190206T094100Z
END:VEVENT
BEGIN:VEVENT
UID:474259-2da69939ed67427dc6bf3daba21059e9
X-WR-RELCALID:474259-2da69939ed67427dc6bf3daba21059e9
ORGANIZER:Volleyball
SEQUENCE:261100737
LOCATION:Grundschule Alt-Wolfsburg, Am Lerchengarten 30, 38448 Wolfsbu
 rg
GEO:52.44590730000000000000;10.80034110000000000000
SUMMARY:VL 3 Mä.: VfL Wolfsburg - MTV Gamsen
CLASS:PUBLIC
DTSTART:20190303T100000Z
DTSTAMP:20190206T094100Z
END:VEVENT
BEGIN:VEVENT
UID:474260-2da69939ed67427dc6bf3daba21059e9
X-WR-RELCALID:474260-2da69939ed67427dc6bf3daba21059e9
ORGANIZER:Volleyball
SEQUENCE:261100737
LOCATION:Grundschule Rodenberg, Lange Str. 63, 31552 Rodenberg
GEO:52.31102000000000000000;9.35799000000000000000
SUMMARY:VL 3 Mä.: Team Schaumburg - ASC 46 Göttingen II
CLASS:PUBLIC
DTSTART:20190316T140000Z
DTSTAMP:20181103T174800Z
END:VEVENT
BEGIN:VEVENT
UID:474261-2da69939ed67427dc6bf3daba21059e9
X-WR-RELCALID:474261-2da69939ed67427dc6bf3daba21059e9
ORGANIZER:Volleyball
SEQUENCE:261100737
LOCATION:Grundschule Rodenberg, Lange Str. 63, 31552 Rodenberg
GEO:52.31102000000000000000;9.35799000000000000000
SUMMARY:VL 3 Mä.: Team Schaumburg - MTV Gamsen
CLASS:PUBLIC
DTSTART:20190316T140000Z
DTSTAMP:20181103T174800Z
END:VEVENT
BEGIN:VEVENT
UID:474262-2da69939ed67427dc6bf3daba21059e9
X-WR-RELCALID:474262-2da69939ed67427dc6bf3daba21059e9
ORGANIZER:Volleyball
SEQUENCE:261100737
LOCATION:Kreissporthalle Lengede, Vor den Beeken, 38268 Lengede
GEO:52.20704050000000000000;10.30662640000000000000
SUMMARY:VL 3 Mä.: SV Lengede - USC Braunschweig III
CLASS:PUBLIC
DTSTART:20190316T140000Z
DTSTAMP:20181103T163000Z
END:VEVENT
BEGIN:VEVENT
UID:474263-2da69939ed67427dc6bf3daba21059e9
X-WR-RELCALID:474263-2da69939ed67427dc6bf3daba21059e9
ORGANIZER:Volleyball
SEQUENCE:261100737
LOCATION:Kreissporthalle Lengede, Vor den Beeken, 38268 Lengede
GEO:52.20704050000000000000;10.30662640000000000000
SUMMARY:VL 3 Mä.: SV Lengede - VfL Wolfsburg
CLASS:PUBLIC
DTSTART:20190316T140000Z
DTSTAMP:20181103T163000Z
END:VEVENT
BEGIN:VEVENT
UID:474264-2da69939ed67427dc6bf3daba21059e9
X-WR-RELCALID:474264-2da69939ed67427dc6bf3daba21059e9
ORGANIZER:Volleyball
SEQUENCE:261100737
LOCATION:Kreissporthalle Lengede, Vor den Beeken, 38268 Lengede
GEO:52.20704050000000000000;10.30662640000000000000
SUMMARY:VL 3 Mä.: USC Braunschweig III - VfL Wolfsburg
CLASS:PUBLIC
DTSTART:20190316T180000Z
DTSTAMP:20181103T163000Z
END:VEVENT
END:VCALENDAR