BEGIN:VCALENDAR
VERSION:2.0
PRODID:VSD-Portal-www.volley.de
METHOD:PUBLISH
BEGIN:VEVENT
UID:435930-2da69939ed67427dc6bf3daba21059e9
X-WR-RELCALID:435930-2da69939ed67427dc6bf3daba21059e9
ORGANIZER:Volleyball
SEQUENCE:261111454
SUMMARY:3/3 B2 NOW Mi.: TV Cannstatt 1846 - 3/3-2010 - SV Sillenbuch
CLASS:PUBLIC
DTSTART;VALUE=DATE:20171015
DTSTAMP:20170912T224000Z
DTEND;VALUE=DATE:20171016
END:VEVENT
BEGIN:VEVENT
UID:435947-2da69939ed67427dc6bf3daba21059e9
X-WR-RELCALID:435947-2da69939ed67427dc6bf3daba21059e9
ORGANIZER:Volleyball
SEQUENCE:261111454
SUMMARY:3/3 B2 NOW Mi.: TV Cannstatt 1846 - 3/3-2010 - Miami Heat Tübi
 ngen
CLASS:PUBLIC
DTSTART;VALUE=DATE:20171119
DTSTAMP:20170912T224000Z
DTEND;VALUE=DATE:20171120
END:VEVENT
BEGIN:VEVENT
UID:435949-2da69939ed67427dc6bf3daba21059e9
X-WR-RELCALID:435949-2da69939ed67427dc6bf3daba21059e9
ORGANIZER:Volleyball
SEQUENCE:261111454
SUMMARY:3/3 B2 NOW Mi.: TV Cannstatt 1846 - 3/3-2010 - VfL Sindelfinge
 n Speedy Gonzales 3:3
CLASS:PUBLIC
DTSTART;VALUE=DATE:20171119
DTSTAMP:20170912T224000Z
DTEND;VALUE=DATE:20171120
END:VEVENT
BEGIN:VEVENT
UID:435956-2da69939ed67427dc6bf3daba21059e9
X-WR-RELCALID:435956-2da69939ed67427dc6bf3daba21059e9
ORGANIZER:Volleyball
SEQUENCE:261111454
SUMMARY:3/3 B2 NOW Mi.: TV Cannstatt 1846 - 3/3-2010 - SpVgg Cannstatt
  VOLLE KANNE
CLASS:PUBLIC
DTSTART;VALUE=DATE:20180121
DTSTAMP:20170912T224000Z
DTEND;VALUE=DATE:20180122
END:VEVENT
BEGIN:VEVENT
UID:435958-2da69939ed67427dc6bf3daba21059e9
X-WR-RELCALID:435958-2da69939ed67427dc6bf3daba21059e9
ORGANIZER:Volleyball
SEQUENCE:261111454
SUMMARY:3/3 B2 NOW Mi.: TV Cannstatt 1846 - 3/3-2010 - TSV Schönaich
CLASS:PUBLIC
DTSTART;VALUE=DATE:20180121
DTSTAMP:20170912T224000Z
DTEND;VALUE=DATE:20180122
END:VEVENT
BEGIN:VEVENT
UID:435966-2da69939ed67427dc6bf3daba21059e9
X-WR-RELCALID:435966-2da69939ed67427dc6bf3daba21059e9
ORGANIZER:Volleyball
SEQUENCE:261111454
SUMMARY:3/3 B2 NOW Mi.: TV Cannstatt 1846 - 3/3-2010 - TV Großsachsenh
 eim
CLASS:PUBLIC
DTSTART;VALUE=DATE:20180121
DTSTAMP:20170912T224000Z
DTEND;VALUE=DATE:20180122
END:VEVENT
BEGIN:VEVENT
UID:435980-2da69939ed67427dc6bf3daba21059e9
X-WR-RELCALID:435980-2da69939ed67427dc6bf3daba21059e9
ORGANIZER:Volleyball
SEQUENCE:261111454
SUMMARY:3/3 B2 NOW Mi.: TV Cannstatt 1846 - 3/3-2010 - SGStern Stuttga
 rt Nimm Du
CLASS:PUBLIC
DTSTART;VALUE=DATE:20180311
DTSTAMP:20170912T224000Z
DTEND;VALUE=DATE:20180312
END:VEVENT
BEGIN:VEVENT
UID:435982-2da69939ed67427dc6bf3daba21059e9
X-WR-RELCALID:435982-2da69939ed67427dc6bf3daba21059e9
ORGANIZER:Volleyball
SEQUENCE:261111454
SUMMARY:3/3 B2 NOW Mi.: TV Cannstatt 1846 - 3/3-2010 - MTV Stuttgart F
 liegende Fetzen 3/3
CLASS:PUBLIC
DTSTART;VALUE=DATE:20180311
DTSTAMP:20170912T224000Z
DTEND;VALUE=DATE:20180312
END:VEVENT
END:VCALENDAR