BEGIN:VCALENDAR
VERSION:2.0
PRODID:VSD-Portal-www.volley.de
METHOD:PUBLISH
BEGIN:VEVENT
UID:432084-2da69939ed67427dc6bf3daba21059e9
X-WR-RELCALID:432084-2da69939ed67427dc6bf3daba21059e9
ORGANIZER:Volleyball
SEQUENCE:261091927
SUMMARY:A-Kl. 2 Fr.: TV Niederstetten 3 - TV Niederstetten 2
CLASS:PUBLIC
DTSTART;VALUE=DATE:20170930
DTSTAMP:20170904T224000Z
DTEND;VALUE=DATE:20171001
END:VEVENT
BEGIN:VEVENT
UID:432086-2da69939ed67427dc6bf3daba21059e9
X-WR-RELCALID:432086-2da69939ed67427dc6bf3daba21059e9
ORGANIZER:Volleyball
SEQUENCE:261091927
SUMMARY:A-Kl. 2 Fr.: TV Niederstetten 2 - SSV Geißelhardt
CLASS:PUBLIC
DTSTART;VALUE=DATE:20171014
DTSTAMP:20170904T224000Z
DTEND;VALUE=DATE:20171015
END:VEVENT
BEGIN:VEVENT
UID:432087-2da69939ed67427dc6bf3daba21059e9
X-WR-RELCALID:432087-2da69939ed67427dc6bf3daba21059e9
ORGANIZER:Volleyball
SEQUENCE:261091927
SUMMARY:A-Kl. 2 Fr.: TV Niederstetten 2 - TSV Langenburg
CLASS:PUBLIC
DTSTART;VALUE=DATE:20171014
DTSTAMP:20170904T224000Z
DTEND;VALUE=DATE:20171015
END:VEVENT
BEGIN:VEVENT
UID:432096-2da69939ed67427dc6bf3daba21059e9
X-WR-RELCALID:432096-2da69939ed67427dc6bf3daba21059e9
ORGANIZER:Volleyball
SEQUENCE:261091927
SUMMARY:A-Kl. 2 Fr.: TV Niederstetten 2 - TV Bad Mergentheim
CLASS:PUBLIC
DTSTART;VALUE=DATE:20171119
DTSTAMP:20170904T224000Z
DTEND;VALUE=DATE:20171120
END:VEVENT
BEGIN:VEVENT
UID:432097-2da69939ed67427dc6bf3daba21059e9
X-WR-RELCALID:432097-2da69939ed67427dc6bf3daba21059e9
ORGANIZER:Volleyball
SEQUENCE:261091927
SUMMARY:A-Kl. 2 Fr.: TV Niederstetten 2 - TV Creglingen
CLASS:PUBLIC
DTSTART;VALUE=DATE:20171119
DTSTAMP:20170904T224000Z
DTEND;VALUE=DATE:20171120
END:VEVENT
BEGIN:VEVENT
UID:432099-2da69939ed67427dc6bf3daba21059e9
X-WR-RELCALID:432099-2da69939ed67427dc6bf3daba21059e9
ORGANIZER:Volleyball
SEQUENCE:261091927
SUMMARY:A-Kl. 2 Fr.: TURA Untermünkheim - TV Niederstetten 2
CLASS:PUBLIC
DTSTART;VALUE=DATE:20171126
DTSTAMP:20170904T224000Z
DTEND;VALUE=DATE:20171127
END:VEVENT
BEGIN:VEVENT
UID:432104-2da69939ed67427dc6bf3daba21059e9
X-WR-RELCALID:432104-2da69939ed67427dc6bf3daba21059e9
ORGANIZER:Volleyball
SEQUENCE:261091927
SUMMARY:A-Kl. 2 Fr.: TV Niederstetten 2 - TV Niederstetten 3
CLASS:PUBLIC
DTSTART;VALUE=DATE:20171216
DTSTAMP:20170904T224000Z
DTEND;VALUE=DATE:20171217
END:VEVENT
BEGIN:VEVENT
UID:432105-2da69939ed67427dc6bf3daba21059e9
X-WR-RELCALID:432105-2da69939ed67427dc6bf3daba21059e9
ORGANIZER:Volleyball
SEQUENCE:261091927
SUMMARY:A-Kl. 2 Fr.: TV Niederstetten 2 - TURA Untermünkheim
CLASS:PUBLIC
DTSTART;VALUE=DATE:20171216
DTSTAMP:20170904T224000Z
DTEND;VALUE=DATE:20171217
END:VEVENT
BEGIN:VEVENT
UID:432109-2da69939ed67427dc6bf3daba21059e9
X-WR-RELCALID:432109-2da69939ed67427dc6bf3daba21059e9
ORGANIZER:Volleyball
SEQUENCE:261091927
SUMMARY:A-Kl. 2 Fr.: TV Creglingen - TV Niederstetten 2
CLASS:PUBLIC
DTSTART;VALUE=DATE:20180120
DTSTAMP:20170904T224000Z
DTEND;VALUE=DATE:20180121
END:VEVENT
BEGIN:VEVENT
UID:432112-2da69939ed67427dc6bf3daba21059e9
X-WR-RELCALID:432112-2da69939ed67427dc6bf3daba21059e9
ORGANIZER:Volleyball
SEQUENCE:261091927
SUMMARY:A-Kl. 2 Fr.: SSV Geißelhardt - TV Niederstetten 2
CLASS:PUBLIC
DTSTART;VALUE=DATE:20180204
DTSTAMP:20170904T224000Z
DTEND;VALUE=DATE:20180205
END:VEVENT
BEGIN:VEVENT
UID:432115-2da69939ed67427dc6bf3daba21059e9
X-WR-RELCALID:432115-2da69939ed67427dc6bf3daba21059e9
ORGANIZER:Volleyball
SEQUENCE:261091927
SUMMARY:A-Kl. 2 Fr.: TSV Langenburg - TV Niederstetten 2
CLASS:PUBLIC
DTSTART;VALUE=DATE:20180218
DTSTAMP:20170904T224000Z
DTEND;VALUE=DATE:20180219
END:VEVENT
BEGIN:VEVENT
UID:432120-2da69939ed67427dc6bf3daba21059e9
X-WR-RELCALID:432120-2da69939ed67427dc6bf3daba21059e9
ORGANIZER:Volleyball
SEQUENCE:261091927
SUMMARY:A-Kl. 2 Fr.: TV Bad Mergentheim - TV Niederstetten 2
CLASS:PUBLIC
DTSTART;VALUE=DATE:20180310
DTSTAMP:20170904T224000Z
DTEND;VALUE=DATE:20180311
END:VEVENT
END:VCALENDAR