BEGIN:VCALENDAR
VERSION:2.0
PRODID:VSD-Portal-www.volley.de
METHOD:PUBLISH
BEGIN:VEVENT
UID:427450-2da69939ed67427dc6bf3daba21059e9
X-WR-RELCALID:427450-2da69939ed67427dc6bf3daba21059e9
ORGANIZER:Volleyball
SEQUENCE:261111738
LOCATION:Sporthalle Kanalstraße, Kanalstraße 45, 27404 Zeven
GEO:53.29842000000000000000;9.26461000000000000000
SUMMARY:LL 3 Mä.: TuS Zeven II - TSV Buxtehude-Altkloster II
CLASS:PUBLIC
DTSTART:20170930T130000Z
DTSTAMP:20170920T163000Z
END:VEVENT
BEGIN:VEVENT
UID:427451-2da69939ed67427dc6bf3daba21059e9
X-WR-RELCALID:427451-2da69939ed67427dc6bf3daba21059e9
ORGANIZER:Volleyball
SEQUENCE:261111738
LOCATION:Sporthalle Kanalstraße, Kanalstraße 45, 27404 Zeven
GEO:53.29842000000000000000;9.26461000000000000000
SUMMARY:LL 3 Mä.: TuS Zeven II - VSK Osterholz-Scharmbeck
CLASS:PUBLIC
DTSTART:20170930T130000Z
DTSTAMP:20170920T163000Z
END:VEVENT
BEGIN:VEVENT
UID:427466-2da69939ed67427dc6bf3daba21059e9
X-WR-RELCALID:427466-2da69939ed67427dc6bf3daba21059e9
ORGANIZER:Volleyball
SEQUENCE:261111738
LOCATION:Sporthalle Kanalstraße, Kanalstraße 45, 27404 Zeven
GEO:53.29842000000000000000;9.26461000000000000000
SUMMARY:LL 3 Mä.: TuS Zeven II - TV Jahn Schneverdingen
CLASS:PUBLIC
DTSTART:20171118T140000Z
DTSTAMP:20170920T163000Z
END:VEVENT
BEGIN:VEVENT
UID:427467-2da69939ed67427dc6bf3daba21059e9
X-WR-RELCALID:427467-2da69939ed67427dc6bf3daba21059e9
ORGANIZER:Volleyball
SEQUENCE:261111738
LOCATION:Sporthalle Kanalstraße, Kanalstraße 45, 27404 Zeven
GEO:53.29842000000000000000;9.26461000000000000000
SUMMARY:LL 3 Mä.: TuS Zeven II - VfL Stade
CLASS:PUBLIC
DTSTART:20171118T140000Z
DTSTAMP:20170920T163000Z
END:VEVENT
BEGIN:VEVENT
UID:427484-2da69939ed67427dc6bf3daba21059e9
X-WR-RELCALID:427484-2da69939ed67427dc6bf3daba21059e9
ORGANIZER:Volleyball
SEQUENCE:261111738
LOCATION:Sporthalle Kanalstraße, Kanalstraße 45, 27404 Zeven
GEO:53.29842000000000000000;9.26461000000000000000
SUMMARY:LL 3 Mä.: TuS Zeven II - TSV Stelle
CLASS:PUBLIC
DTSTART:20180113T140000Z
DTSTAMP:20170920T163000Z
END:VEVENT
BEGIN:VEVENT
UID:427485-2da69939ed67427dc6bf3daba21059e9
X-WR-RELCALID:427485-2da69939ed67427dc6bf3daba21059e9
ORGANIZER:Volleyball
SEQUENCE:261111738
LOCATION:Sporthalle Kanalstraße, Kanalstraße 45, 27404 Zeven
GEO:53.29842000000000000000;9.26461000000000000000
SUMMARY:LL 3 Mä.: TuS Zeven II - TSV Adendorf
CLASS:PUBLIC
DTSTART:20180113T140000Z
DTSTAMP:20170920T163000Z
END:VEVENT
BEGIN:VEVENT
UID:427496-2da69939ed67427dc6bf3daba21059e9
X-WR-RELCALID:427496-2da69939ed67427dc6bf3daba21059e9
ORGANIZER:Volleyball
SEQUENCE:261111738
LOCATION:Sporthalle Kanalstraße, Kanalstraße 45, 27404 Zeven
GEO:53.29842000000000000000;9.26461000000000000000
SUMMARY:LL 3 Mä.: TuS Zeven II - TSV Oerel-Barchel
CLASS:PUBLIC
DTSTART:20180210T140000Z
DTSTAMP:20170920T163000Z
END:VEVENT
BEGIN:VEVENT
UID:427497-2da69939ed67427dc6bf3daba21059e9
X-WR-RELCALID:427497-2da69939ed67427dc6bf3daba21059e9
ORGANIZER:Volleyball
SEQUENCE:261111738
LOCATION:Sporthalle Kanalstraße, Kanalstraße 45, 27404 Zeven
GEO:53.29842000000000000000;9.26461000000000000000
SUMMARY:LL 3 Mä.: TuS Zeven II - MTV Wilstedt
CLASS:PUBLIC
DTSTART:20180210T140000Z
DTSTAMP:20170920T163000Z
END:VEVENT
END:VCALENDAR