BEGIN:VCALENDAR
VERSION:2.0
PRODID:VSD-Portal-www.volley.de
METHOD:PUBLISH
BEGIN:VEVENT
UID:427441-2da69939ed67427dc6bf3daba21059e9
X-WR-RELCALID:427441-2da69939ed67427dc6bf3daba21059e9
ORGANIZER:Volleyball
SEQUENCE:261111738
LOCATION:BBS Stade, Glückstädter Straße, 21682 Stade
GEO:53.60740700000000000000;9.46932600000000000000
SUMMARY:LL 3 Mä.: VfL Stade - TSV Buxtehude-Altkloster II
CLASS:PUBLIC
DTSTART:20170916T130000Z
DTSTAMP:20170920T163000Z
END:VEVENT
BEGIN:VEVENT
UID:427450-2da69939ed67427dc6bf3daba21059e9
X-WR-RELCALID:427450-2da69939ed67427dc6bf3daba21059e9
ORGANIZER:Volleyball
SEQUENCE:261111738
LOCATION:Sporthalle Kanalstraße, Kanalstraße 45, 27404 Zeven
GEO:53.29842000000000000000;9.26461000000000000000
SUMMARY:LL 3 Mä.: TuS Zeven II - TSV Buxtehude-Altkloster II
CLASS:PUBLIC
DTSTART:20170930T130000Z
DTSTAMP:20170920T163000Z
END:VEVENT
BEGIN:VEVENT
UID:427456-2da69939ed67427dc6bf3daba21059e9
X-WR-RELCALID:427456-2da69939ed67427dc6bf3daba21059e9
ORGANIZER:Volleyball
SEQUENCE:261111738
LOCATION:BBS Buxtehude, Konopkastraße, 21614 Buxtehude
GEO:53.47773580000000000000;9.69563430000000000000
SUMMARY:LL 3 Mä.: TSV Buxtehude-Altkloster II - TSV Stelle
CLASS:PUBLIC
DTSTART:20171022T090000Z
DTSTAMP:20170920T163000Z
END:VEVENT
BEGIN:VEVENT
UID:427457-2da69939ed67427dc6bf3daba21059e9
X-WR-RELCALID:427457-2da69939ed67427dc6bf3daba21059e9
ORGANIZER:Volleyball
SEQUENCE:261111738
LOCATION:BBS Buxtehude, Konopkastraße, 21614 Buxtehude
GEO:53.47773580000000000000;9.69563430000000000000
SUMMARY:LL 3 Mä.: TSV Buxtehude-Altkloster II - TSV Adendorf
CLASS:PUBLIC
DTSTART:20171022T090000Z
DTSTAMP:20170920T163000Z
END:VEVENT
BEGIN:VEVENT
UID:427461-2da69939ed67427dc6bf3daba21059e9
X-WR-RELCALID:427461-2da69939ed67427dc6bf3daba21059e9
ORGANIZER:Volleyball
SEQUENCE:261111738
LOCATION:Grundschule Wilstedt, Schulstraße 11, 27412 Wilstedt
GEO:53.19375170000000000000;9.09712810000000000000
SUMMARY:LL 3 Mä.: MTV Wilstedt - TSV Buxtehude-Altkloster II
CLASS:PUBLIC
DTSTART:20171111T140000Z
DTSTAMP:20170920T163000Z
END:VEVENT
BEGIN:VEVENT
UID:427468-2da69939ed67427dc6bf3daba21059e9
X-WR-RELCALID:427468-2da69939ed67427dc6bf3daba21059e9
ORGANIZER:Volleyball
SEQUENCE:261111738
LOCATION:August-Schlüter-Halle, Lange Str. 16, 27711 Osterholz-Scharmb
 eck
GEO:53.22453690000000000000;8.79014700000000000000
SUMMARY:LL 3 Mä.: VSK Osterholz-Scharmbeck - TSV Buxtehude-Altkloster 
 II
CLASS:PUBLIC
DTSTART:20171125T140000Z
DTSTAMP:20170920T163000Z
END:VEVENT
BEGIN:VEVENT
UID:427474-2da69939ed67427dc6bf3daba21059e9
X-WR-RELCALID:427474-2da69939ed67427dc6bf3daba21059e9
ORGANIZER:Volleyball
SEQUENCE:261111738
LOCATION:BBS Buxtehude, Konopkastraße, 21614 Buxtehude
GEO:53.47773580000000000000;9.69563430000000000000
SUMMARY:LL 3 Mä.: TSV Buxtehude-Altkloster II - TSV Oerel-Barchel
CLASS:PUBLIC
DTSTART:20171202T140000Z
DTSTAMP:20170920T163000Z
END:VEVENT
BEGIN:VEVENT
UID:427475-2da69939ed67427dc6bf3daba21059e9
X-WR-RELCALID:427475-2da69939ed67427dc6bf3daba21059e9
ORGANIZER:Volleyball
SEQUENCE:261111738
LOCATION:BBS Buxtehude, Konopkastraße, 21614 Buxtehude
GEO:53.47773580000000000000;9.69563430000000000000
SUMMARY:LL 3 Mä.: TSV Buxtehude-Altkloster II - TV Jahn Schneverdingen
 
CLASS:PUBLIC
DTSTART:20171202T140000Z
DTSTAMP:20170920T163000Z
END:VEVENT
BEGIN:VEVENT
UID:427479-2da69939ed67427dc6bf3daba21059e9
X-WR-RELCALID:427479-2da69939ed67427dc6bf3daba21059e9
ORGANIZER:Volleyball
SEQUENCE:261111738
LOCATION:Johanneum, Theodor-Heuss-Str. 1, 21335 Lüneburg
GEO:53.24550000000000000000;10.42995000000000000000
SUMMARY:LL 3 Mä.: TSV Adendorf - TSV Buxtehude-Altkloster II
CLASS:PUBLIC
DTSTART:20171209T140000Z
DTSTAMP:20171107T180000Z
END:VEVENT
BEGIN:VEVENT
UID:427486-2da69939ed67427dc6bf3daba21059e9
X-WR-RELCALID:427486-2da69939ed67427dc6bf3daba21059e9
ORGANIZER:Volleyball
SEQUENCE:261111738
LOCATION:BBS Buxtehude, Konopkastraße, 21614 Buxtehude
GEO:53.47773580000000000000;9.69563430000000000000
SUMMARY:LL 3 Mä.: TSV Buxtehude-Altkloster II - MTV Wilstedt
CLASS:PUBLIC
DTSTART:20180114T100000Z
DTSTAMP:20170920T163000Z
END:VEVENT
BEGIN:VEVENT
UID:427487-2da69939ed67427dc6bf3daba21059e9
X-WR-RELCALID:427487-2da69939ed67427dc6bf3daba21059e9
ORGANIZER:Volleyball
SEQUENCE:261111738
LOCATION:BBS Buxtehude, Konopkastraße, 21614 Buxtehude
GEO:53.47773580000000000000;9.69563430000000000000
SUMMARY:LL 3 Mä.: TSV Buxtehude-Altkloster II - VfL Stade
CLASS:PUBLIC
DTSTART:20180114T100000Z
DTSTAMP:20170920T163000Z
END:VEVENT
BEGIN:VEVENT
UID:427492-2da69939ed67427dc6bf3daba21059e9
X-WR-RELCALID:427492-2da69939ed67427dc6bf3daba21059e9
ORGANIZER:Volleyball
SEQUENCE:261111738
LOCATION:GHS Stelle, Am Büllerberg, 21435 Stelle
GEO:53.38166090000000000000;10.10811680000000000000
SUMMARY:LL 3 Mä.: TSV Stelle - TSV Buxtehude-Altkloster II
CLASS:PUBLIC
DTSTART:20180127T140000Z
DTSTAMP:20170920T163000Z
END:VEVENT
BEGIN:VEVENT
UID:427495-2da69939ed67427dc6bf3daba21059e9
X-WR-RELCALID:427495-2da69939ed67427dc6bf3daba21059e9
ORGANIZER:Volleyball
SEQUENCE:261111738
LOCATION:OS Schneverdingen, Harburger Str.28, 29640 Schneverdingen
GEO:53.11986000000000000000;9.79435000000000000000
SUMMARY:LL 3 Mä.: TV Jahn Schneverdingen - TSV Buxtehude-Altkloster II
 
CLASS:PUBLIC
DTSTART:20180210T140000Z
DTSTAMP:20170920T163000Z
END:VEVENT
BEGIN:VEVENT
UID:427502-2da69939ed67427dc6bf3daba21059e9
X-WR-RELCALID:427502-2da69939ed67427dc6bf3daba21059e9
ORGANIZER:Volleyball
SEQUENCE:261111738
LOCATION:Schulzentrum Gnarrenburg, Brilliter Weg, 27442 Gnarrenburg
GEO:53.38964360000000000000;9.00001930000000000000
SUMMARY:LL 3 Mä.: TSV Oerel-Barchel - TSV Buxtehude-Altkloster II
CLASS:PUBLIC
DTSTART:20180224T140000Z
DTSTAMP:20171205T084000Z
END:VEVENT
BEGIN:VEVENT
UID:427508-2da69939ed67427dc6bf3daba21059e9
X-WR-RELCALID:427508-2da69939ed67427dc6bf3daba21059e9
ORGANIZER:Volleyball
SEQUENCE:261111738
LOCATION:BBS Buxtehude, Konopkastraße, 21614 Buxtehude
GEO:53.47773580000000000000;9.69563430000000000000
SUMMARY:LL 3 Mä.: TSV Buxtehude-Altkloster II - TuS Zeven II
CLASS:PUBLIC
DTSTART:20180317T140000Z
DTSTAMP:20170920T163000Z
END:VEVENT
BEGIN:VEVENT
UID:427509-2da69939ed67427dc6bf3daba21059e9
X-WR-RELCALID:427509-2da69939ed67427dc6bf3daba21059e9
ORGANIZER:Volleyball
SEQUENCE:261111738
LOCATION:BBS Buxtehude, Konopkastraße, 21614 Buxtehude
GEO:53.47773580000000000000;9.69563430000000000000
SUMMARY:LL 3 Mä.: TSV Buxtehude-Altkloster II - VSK Osterholz-Scharmbe
 ck
CLASS:PUBLIC
DTSTART:20180317T140000Z
DTSTAMP:20170920T163000Z
END:VEVENT
END:VCALENDAR