BEGIN:VCALENDAR
VERSION:2.0
PRODID:VSD-Portal-www.volley.de
METHOD:PUBLISH
BEGIN:VEVENT
UID:426969-2da69939ed67427dc6bf3daba21059e9
X-WR-RELCALID:426969-2da69939ed67427dc6bf3daba21059e9
ORGANIZER:Volleyball
SEQUENCE:261111603
LOCATION:HRS Salzbergen, Bruchweg, 48499 Salzbergen
GEO:52.31428510000000000000;7.34697140000000000000
SUMMARY:LL 1 Fr.: SV Alemannia Salzbergen II - SV Wietmarschen II
CLASS:PUBLIC
DTSTART:20171104T120000Z
DTSTAMP:20170924T102000Z
END:VEVENT
BEGIN:VEVENT
UID:426970-2da69939ed67427dc6bf3daba21059e9
X-WR-RELCALID:426970-2da69939ed67427dc6bf3daba21059e9
ORGANIZER:Volleyball
SEQUENCE:261111603
LOCATION:HRS Salzbergen, Bruchweg, 48499 Salzbergen
GEO:52.31428510000000000000;7.34697140000000000000
SUMMARY:LL 1 Fr.: SV Alemannia Salzbergen II - MTV Aurich
CLASS:PUBLIC
DTSTART:20171104T120000Z
DTSTAMP:20170924T102000Z
END:VEVENT
BEGIN:VEVENT
UID:426979-2da69939ed67427dc6bf3daba21059e9
X-WR-RELCALID:426979-2da69939ed67427dc6bf3daba21059e9
ORGANIZER:Volleyball
SEQUENCE:261111603
LOCATION:HRS Salzbergen, Bruchweg, 48499 Salzbergen
GEO:52.31428510000000000000;7.34697140000000000000
SUMMARY:LL 1 Fr.: SV Alemannia Salzbergen II - Raspo Lathen
CLASS:PUBLIC
DTSTART:20171125T140000Z
DTSTAMP:20170924T102000Z
END:VEVENT
BEGIN:VEVENT
UID:426980-2da69939ed67427dc6bf3daba21059e9
X-WR-RELCALID:426980-2da69939ed67427dc6bf3daba21059e9
ORGANIZER:Volleyball
SEQUENCE:261111603
LOCATION:HRS Salzbergen, Bruchweg, 48499 Salzbergen
GEO:52.31428510000000000000;7.34697140000000000000
SUMMARY:LL 1 Fr.: SV Alemannia Salzbergen II - FTC Hollen
CLASS:PUBLIC
DTSTART:20171125T140000Z
DTSTAMP:20170924T102000Z
END:VEVENT
BEGIN:VEVENT
UID:426993-2da69939ed67427dc6bf3daba21059e9
X-WR-RELCALID:426993-2da69939ed67427dc6bf3daba21059e9
ORGANIZER:Volleyball
SEQUENCE:261111603
LOCATION:HRS Salzbergen, Bruchweg, 48499 Salzbergen
GEO:52.31428510000000000000;7.34697140000000000000
SUMMARY:LL 1 Fr.: SV Alemannia Salzbergen II - SV Wietmarschen III
CLASS:PUBLIC
DTSTART:20180113T140000Z
DTSTAMP:20170924T102000Z
END:VEVENT
BEGIN:VEVENT
UID:427005-2da69939ed67427dc6bf3daba21059e9
X-WR-RELCALID:427005-2da69939ed67427dc6bf3daba21059e9
ORGANIZER:Volleyball
SEQUENCE:261111603
LOCATION:HRS Salzbergen, Bruchweg, 48499 Salzbergen
GEO:52.31428510000000000000;7.34697140000000000000
SUMMARY:LL 1 Fr.: SV Alemannia Salzbergen II - TV Meppen
CLASS:PUBLIC
DTSTART:20180210T140000Z
DTSTAMP:20170924T102000Z
END:VEVENT
BEGIN:VEVENT
UID:427006-2da69939ed67427dc6bf3daba21059e9
X-WR-RELCALID:427006-2da69939ed67427dc6bf3daba21059e9
ORGANIZER:Volleyball
SEQUENCE:261111603
LOCATION:HRS Salzbergen, Bruchweg, 48499 Salzbergen
GEO:52.31428510000000000000;7.34697140000000000000
SUMMARY:LL 1 Fr.: SV Alemannia Salzbergen II - SC Union Emlichheim IV
CLASS:PUBLIC
DTSTART:20180210T140000Z
DTSTAMP:20170924T102000Z
END:VEVENT
END:VCALENDAR