BEGIN:VCALENDAR
VERSION:2.0
PRODID:VSD-Portal-www.volley.de
METHOD:PUBLISH
BEGIN:VEVENT
UID:426958-2da69939ed67427dc6bf3daba21059e9
X-WR-RELCALID:426958-2da69939ed67427dc6bf3daba21059e9
ORGANIZER:Volleyball
SEQUENCE:261111739
LOCATION:Hössensportzentrum, Jahnallee 1, 26655 Westerstede
GEO:53.25441000000000000000;7.91377000000000000000
SUMMARY:LL 1 Fr.: NWVV-Team II - SV Wietmarschen III
CLASS:PUBLIC
DTSTART:20170923T130000Z
DTSTAMP:20170924T102000Z
END:VEVENT
BEGIN:VEVENT
UID:426959-2da69939ed67427dc6bf3daba21059e9
X-WR-RELCALID:426959-2da69939ed67427dc6bf3daba21059e9
ORGANIZER:Volleyball
SEQUENCE:261111739
LOCATION:Hössensportzentrum, Jahnallee 1, 26655 Westerstede
GEO:53.25441000000000000000;7.91377000000000000000
SUMMARY:LL 1 Fr.: NWVV-Team II - TV Meppen
CLASS:PUBLIC
DTSTART:20170923T130000Z
DTSTAMP:20170924T102000Z
END:VEVENT
BEGIN:VEVENT
UID:426960-2da69939ed67427dc6bf3daba21059e9
X-WR-RELCALID:426960-2da69939ed67427dc6bf3daba21059e9
ORGANIZER:Volleyball
SEQUENCE:261111739
LOCATION:Hössensportzentrum, Jahnallee 1, 26655 Westerstede
GEO:53.25441000000000000000;7.91377000000000000000
SUMMARY:LL 1 Fr.: NWVV-Team II - FTC Hollen
CLASS:PUBLIC
DTSTART:20170924T080000Z
DTSTAMP:20170924T102000Z
END:VEVENT
BEGIN:VEVENT
UID:426988-2da69939ed67427dc6bf3daba21059e9
X-WR-RELCALID:426988-2da69939ed67427dc6bf3daba21059e9
ORGANIZER:Volleyball
SEQUENCE:261111739
LOCATION:Hössensportzentrum, Jahnallee 1, 26655 Westerstede
GEO:53.25441000000000000000;7.91377000000000000000
SUMMARY:LL 1 Fr.: NWVV-Team II - Raspo Lathen
CLASS:PUBLIC
DTSTART:20171216T140000Z
DTSTAMP:20170924T102000Z
END:VEVENT
BEGIN:VEVENT
UID:426989-2da69939ed67427dc6bf3daba21059e9
X-WR-RELCALID:426989-2da69939ed67427dc6bf3daba21059e9
ORGANIZER:Volleyball
SEQUENCE:261111739
LOCATION:Hössensportzentrum, Jahnallee 1, 26655 Westerstede
GEO:53.25441000000000000000;7.91377000000000000000
SUMMARY:LL 1 Fr.: NWVV-Team II - SV Alemannia Salzbergen II
CLASS:PUBLIC
DTSTART:20171216T140000Z
DTSTAMP:20170924T102000Z
END:VEVENT
BEGIN:VEVENT
UID:426990-2da69939ed67427dc6bf3daba21059e9
X-WR-RELCALID:426990-2da69939ed67427dc6bf3daba21059e9
ORGANIZER:Volleyball
SEQUENCE:261111739
LOCATION:Hössensportzentrum, Jahnallee 1, 26655 Westerstede
GEO:53.25441000000000000000;7.91377000000000000000
SUMMARY:LL 1 Fr.: NWVV-Team II - SV Wietmarschen II
CLASS:PUBLIC
DTSTART:20171217T090000Z
DTSTAMP:20170924T102000Z
END:VEVENT
BEGIN:VEVENT
UID:426996-2da69939ed67427dc6bf3daba21059e9
X-WR-RELCALID:426996-2da69939ed67427dc6bf3daba21059e9
ORGANIZER:Volleyball
SEQUENCE:261111739
LOCATION:Hössensportzentrum, Jahnallee 1, 26655 Westerstede
GEO:53.25441000000000000000;7.91377000000000000000
SUMMARY:LL 1 Fr.: NWVV-Team II - SC Union Emlichheim IV
CLASS:PUBLIC
DTSTART:20180120T140000Z
DTSTAMP:20170924T102000Z
END:VEVENT
BEGIN:VEVENT
UID:426997-2da69939ed67427dc6bf3daba21059e9
X-WR-RELCALID:426997-2da69939ed67427dc6bf3daba21059e9
ORGANIZER:Volleyball
SEQUENCE:261111739
LOCATION:Hössensportzentrum, Jahnallee 1, 26655 Westerstede
GEO:53.25441000000000000000;7.91377000000000000000
SUMMARY:LL 1 Fr.: NWVV-Team II - MTV Aurich
CLASS:PUBLIC
DTSTART:20180120T140000Z
DTSTAMP:20170924T102000Z
END:VEVENT
END:VCALENDAR