BEGIN:VCALENDAR
VERSION:2.0
PRODID:VSD-Portal-www.volley.de
METHOD:PUBLISH
BEGIN:VEVENT
UID:467391-2da69939ed67427dc6bf3daba21059e9
X-WR-RELCALID:467391-2da69939ed67427dc6bf3daba21059e9
ORGANIZER:Volleyball
SEQUENCE:261111453
LOCATION:Sparkassen-Arena, Pappelallee 1, 31137 Hildesheim
GEO:52.15276500000000000000;9.93404200000000000000
SUMMARY:2. BL N Mä.: HELIOS GRIZZLYS Giesen - VV Humann Essen
CLASS:PUBLIC
DTSTART:20170916T180000Z
DTSTAMP:20180120T200100Z
END:VEVENT
BEGIN:VEVENT
UID:418835-2da69939ed67427dc6bf3daba21059e9
X-WR-RELCALID:418835-2da69939ed67427dc6bf3daba21059e9
ORGANIZER:Volleyball
SEQUENCE:261111453
LOCATION:ARENA Rostock, Tschaikowskistr. 45, 18069 Rostock
GEO:54.08901900000000000000;12.08770600000000000000
SUMMARY:2. BL N Mä.: SV Warnemünde - HELIOS GRIZZLYS Giesen
CLASS:PUBLIC
DTSTART:20170923T163000Z
DTSTAMP:20170924T113500Z
END:VEVENT
BEGIN:VEVENT
UID:418844-2da69939ed67427dc6bf3daba21059e9
X-WR-RELCALID:418844-2da69939ed67427dc6bf3daba21059e9
ORGANIZER:Volleyball
SEQUENCE:261111453
LOCATION:Sparkassen-Arena, Pappelallee 1, 31137 Hildesheim
GEO:52.15276500000000000000;9.93404200000000000000
SUMMARY:2. BL N Mä.: HELIOS GRIZZLYS Giesen - DJK Delbrück
CLASS:PUBLIC
DTSTART:20170930T180000Z
DTSTAMP:20170924T113500Z
END:VEVENT
BEGIN:VEVENT
UID:418847-2da69939ed67427dc6bf3daba21059e9
X-WR-RELCALID:418847-2da69939ed67427dc6bf3daba21059e9
ORGANIZER:Volleyball
SEQUENCE:261111453
LOCATION:ENNI Sportpark Rheinkamp, Am Sportzentrum, 47445 Moers
GEO:51.48175800000000000000;6.61116670000000000000
SUMMARY:2. BL N Mä.: Moerser SC - HELIOS GRIZZLYS Giesen
CLASS:PUBLIC
DTSTART:20171014T140000Z
DTSTAMP:20170924T113500Z
END:VEVENT
BEGIN:VEVENT
UID:418855-2da69939ed67427dc6bf3daba21059e9
X-WR-RELCALID:418855-2da69939ed67427dc6bf3daba21059e9
ORGANIZER:Volleyball
SEQUENCE:261111453
LOCATION:Dreifelderhalle, Oranienburger Str. 36, 16775 Gransee
GEO:53.00006810000000000000;13.15474940000000000000
SUMMARY:2. BL N Mä.: SV Lindow-Gransee - HELIOS GRIZZLYS Giesen
CLASS:PUBLIC
DTSTART:20171028T160000Z
DTSTAMP:20170924T113500Z
END:VEVENT
BEGIN:VEVENT
UID:418859-2da69939ed67427dc6bf3daba21059e9
X-WR-RELCALID:418859-2da69939ed67427dc6bf3daba21059e9
ORGANIZER:Volleyball
SEQUENCE:261111453
LOCATION:Sportforum Berlin, Weißenseeer Weg 51-53, 13053 Berlin
GEO:52.53949020000000000000;13.47841140000000000000
SUMMARY:2. BL N Mä.: VCO Berlin - HELIOS GRIZZLYS Giesen
CLASS:PUBLIC
DTSTART:20171029T140000Z
DTSTAMP:20170924T113500Z
END:VEVENT
BEGIN:VEVENT
UID:418866-2da69939ed67427dc6bf3daba21059e9
X-WR-RELCALID:418866-2da69939ed67427dc6bf3daba21059e9
ORGANIZER:Volleyball
SEQUENCE:261111453
LOCATION:Sparkassen-Arena, Pappelallee 1, 31137 Hildesheim
GEO:52.15276500000000000000;9.93404200000000000000
SUMMARY:2. BL N Mä.: HELIOS GRIZZLYS Giesen - TVA Hürth
CLASS:PUBLIC
DTSTART:20171104T190000Z
DTSTAMP:20170924T113500Z
END:VEVENT
BEGIN:VEVENT
UID:418876-2da69939ed67427dc6bf3daba21059e9
X-WR-RELCALID:418876-2da69939ed67427dc6bf3daba21059e9
ORGANIZER:Volleyball
SEQUENCE:261111453
LOCATION:Vechtesporthalle, Quendorfer Straße 25, 48465 Schüttorf
GEO:52.32607790000000000000;7.22770680000000000000
SUMMARY:2. BL N Mä.: FC Schüttorf 09 - HELIOS GRIZZLYS Giesen
CLASS:PUBLIC
DTSTART:20171119T150000Z
DTSTAMP:20170924T113500Z
END:VEVENT
BEGIN:VEVENT
UID:418882-2da69939ed67427dc6bf3daba21059e9
X-WR-RELCALID:418882-2da69939ed67427dc6bf3daba21059e9
ORGANIZER:Volleyball
SEQUENCE:261111453
LOCATION:Sparkassen-Arena, Pappelallee 1, 31137 Hildesheim
GEO:52.15276500000000000000;9.93404200000000000000
SUMMARY:2. BL N Mä.: HELIOS GRIZZLYS Giesen - TuB Bocholt
CLASS:PUBLIC
DTSTART:20171125T190000Z
DTSTAMP:20170924T113500Z
END:VEVENT
BEGIN:VEVENT
UID:418888-2da69939ed67427dc6bf3daba21059e9
X-WR-RELCALID:418888-2da69939ed67427dc6bf3daba21059e9
ORGANIZER:Volleyball
SEQUENCE:261111453
LOCATION:Jahrhunderthalle Spergau, Straße zur Linde 40, 06237 Leuna /O
 T Spergau
GEO:51.29424690000000000000;12.02575830000000000000
SUMMARY:2. BL N Mä.: CV Mitteldeutschland - HELIOS GRIZZLYS Giesen
CLASS:PUBLIC
DTSTART:20171202T183000Z
DTSTAMP:20170924T113500Z
END:VEVENT
BEGIN:VEVENT
UID:418893-2da69939ed67427dc6bf3daba21059e9
X-WR-RELCALID:418893-2da69939ed67427dc6bf3daba21059e9
ORGANIZER:Volleyball
SEQUENCE:261111453
LOCATION:TUNICA Sporthalle, Hasenwinkel 1 a, 38114 Braunschweig
GEO:52.27569590000000000000;10.51630600000000000000
SUMMARY:2. BL N Mä.: USC Braunschweig - HELIOS GRIZZLYS Giesen
CLASS:PUBLIC
DTSTART:20171209T183000Z
DTSTAMP:20170924T113500Z
END:VEVENT
BEGIN:VEVENT
UID:418898-2da69939ed67427dc6bf3daba21059e9
X-WR-RELCALID:418898-2da69939ed67427dc6bf3daba21059e9
ORGANIZER:Volleyball
SEQUENCE:261111453
LOCATION:Sparkassen-Arena, Pappelallee 1, 31137 Hildesheim
GEO:52.15276500000000000000;9.93404200000000000000
SUMMARY:2. BL N Mä.: HELIOS GRIZZLYS Giesen - VC Bitterfeld-Wolfen
CLASS:PUBLIC
DTSTART:20171216T190000Z
DTSTAMP:20170924T113500Z
END:VEVENT
BEGIN:VEVENT
UID:418909-2da69939ed67427dc6bf3daba21059e9
X-WR-RELCALID:418909-2da69939ed67427dc6bf3daba21059e9
ORGANIZER:Volleyball
SEQUENCE:261111453
LOCATION:Städt. Sporthalle Raumer-Halle, Raumerstr. 57, 45144 Essen
GEO:51.45258000000000000000;6.95873000000000000000
SUMMARY:2. BL N Mä.: VV Humann Essen - HELIOS GRIZZLYS Giesen
CLASS:PUBLIC
DTSTART:20180113T183000Z
DTSTAMP:20180111T130100Z
END:VEVENT
BEGIN:VEVENT
UID:418916-2da69939ed67427dc6bf3daba21059e9
X-WR-RELCALID:418916-2da69939ed67427dc6bf3daba21059e9
ORGANIZER:Volleyball
SEQUENCE:261111453
LOCATION:Sparkassen-Arena, Pappelallee 1, 31137 Hildesheim
GEO:52.15276500000000000000;9.93404200000000000000
SUMMARY:2. BL N Mä.: HELIOS GRIZZLYS Giesen - SV Warnemünde
CLASS:PUBLIC
DTSTART:20180120T190000Z
DTSTAMP:20170924T113500Z
END:VEVENT
BEGIN:VEVENT
UID:418921-2da69939ed67427dc6bf3daba21059e9
X-WR-RELCALID:418921-2da69939ed67427dc6bf3daba21059e9
ORGANIZER:Volleyball
SEQUENCE:261111453
LOCATION:Dreifach Sporthalle 1 ALT, Driftweg 33, 33129 Delbrück
GEO:51.76716000000000000000;8.55637000000000000000
SUMMARY:2. BL N Mä.: DJK Delbrück - HELIOS GRIZZLYS Giesen
CLASS:PUBLIC
DTSTART:20180127T170000Z
DTSTAMP:20170924T113500Z
END:VEVENT
BEGIN:VEVENT
UID:418930-2da69939ed67427dc6bf3daba21059e9
X-WR-RELCALID:418930-2da69939ed67427dc6bf3daba21059e9
ORGANIZER:Volleyball
SEQUENCE:261111453
LOCATION:Schacht-Arena, Emmerker Straße 6, 31180 Giesen
GEO:52.19582000000000000000;9.88970000000000000000
SUMMARY:2. BL N Mä.: HELIOS GRIZZLYS Giesen - Moerser SC
CLASS:PUBLIC
DTSTART:20180203T190000Z
DTSTAMP:20170924T113500Z
END:VEVENT
BEGIN:VEVENT
UID:418937-2da69939ed67427dc6bf3daba21059e9
X-WR-RELCALID:418937-2da69939ed67427dc6bf3daba21059e9
ORGANIZER:Volleyball
SEQUENCE:261111453
LOCATION:Sparkassen-Arena, Pappelallee 1, 31137 Hildesheim
GEO:52.15276500000000000000;9.93404200000000000000
SUMMARY:2. BL N Mä.: HELIOS GRIZZLYS Giesen - SV Lindow-Gransee
CLASS:PUBLIC
DTSTART:20180210T190000Z
DTSTAMP:20170924T113500Z
END:VEVENT
BEGIN:VEVENT
UID:418942-2da69939ed67427dc6bf3daba21059e9
X-WR-RELCALID:418942-2da69939ed67427dc6bf3daba21059e9
ORGANIZER:Volleyball
SEQUENCE:261111453
LOCATION:Friedrich-Ebert-Realschule, Krankenhausstr. 91, 50354 Hürth
GEO:50.88735000000000000000;6.88891000000000000000
SUMMARY:2. BL N Mä.: TVA Hürth - HELIOS GRIZZLYS Giesen
CLASS:PUBLIC
DTSTART:20180217T180000Z
DTSTAMP:20170924T113500Z
END:VEVENT
BEGIN:VEVENT
UID:418952-2da69939ed67427dc6bf3daba21059e9
X-WR-RELCALID:418952-2da69939ed67427dc6bf3daba21059e9
ORGANIZER:Volleyball
SEQUENCE:261111453
LOCATION:Schacht-Arena, Emmerker Straße 6, 31180 Giesen
GEO:52.19582000000000000000;9.88970000000000000000
SUMMARY:2. BL N Mä.: HELIOS GRIZZLYS Giesen - FC Schüttorf 09
CLASS:PUBLIC
DTSTART:20180224T190000Z
DTSTAMP:20170924T113500Z
END:VEVENT
BEGIN:VEVENT
UID:418956-2da69939ed67427dc6bf3daba21059e9
X-WR-RELCALID:418956-2da69939ed67427dc6bf3daba21059e9
ORGANIZER:Volleyball
SEQUENCE:261111453
LOCATION:Schacht-Arena, Emmerker Straße 6, 31180 Giesen
GEO:52.19582000000000000000;9.88970000000000000000
SUMMARY:2. BL N Mä.: HELIOS GRIZZLYS Giesen - VCO Berlin
CLASS:PUBLIC
DTSTART:20180310T190000Z
DTSTAMP:20170924T113500Z
END:VEVENT
BEGIN:VEVENT
UID:418962-2da69939ed67427dc6bf3daba21059e9
X-WR-RELCALID:418962-2da69939ed67427dc6bf3daba21059e9
ORGANIZER:Volleyball
SEQUENCE:261111453
LOCATION:Euregio-Sporthalle, Unter den Eichen 6, 46397 Bocholt
GEO:51.85044730000000000000;6.63437160000000000000
SUMMARY:2. BL N Mä.: TuB Bocholt - HELIOS GRIZZLYS Giesen
CLASS:PUBLIC
DTSTART:20180318T150000Z
DTSTAMP:20170924T113500Z
END:VEVENT
BEGIN:VEVENT
UID:418968-2da69939ed67427dc6bf3daba21059e9
X-WR-RELCALID:418968-2da69939ed67427dc6bf3daba21059e9
ORGANIZER:Volleyball
SEQUENCE:261111453
LOCATION:Sparkassen-Arena, Pappelallee 1, 31137 Hildesheim
GEO:52.15276500000000000000;9.93404200000000000000
SUMMARY:2. BL N Mä.: HELIOS GRIZZLYS Giesen - CV Mitteldeutschland
CLASS:PUBLIC
DTSTART:20180324T190000Z
DTSTAMP:20170924T113500Z
END:VEVENT
BEGIN:VEVENT
UID:418970-2da69939ed67427dc6bf3daba21059e9
X-WR-RELCALID:418970-2da69939ed67427dc6bf3daba21059e9
ORGANIZER:Volleyball
SEQUENCE:261111453
LOCATION:Sporthalle Krondorf, Reudener Str., 06766 Bitterfeld-Wolfen
GEO:51.66738390000000000000;12.25120300000000000000
SUMMARY:2. BL N Mä.: VC Bitterfeld-Wolfen - HELIOS GRIZZLYS Giesen
CLASS:PUBLIC
DTSTART:20180407T173000Z
DTSTAMP:20180406T123000Z
END:VEVENT
BEGIN:VEVENT
UID:418978-2da69939ed67427dc6bf3daba21059e9
X-WR-RELCALID:418978-2da69939ed67427dc6bf3daba21059e9
ORGANIZER:Volleyball
SEQUENCE:261111453
LOCATION:Sparkassen-Arena, Pappelallee 1, 31137 Hildesheim
GEO:52.15276500000000000000;9.93404200000000000000
SUMMARY:2. BL N Mä.: HELIOS GRIZZLYS Giesen - USC Braunschweig
CLASS:PUBLIC
DTSTART:20180421T173000Z
DTSTAMP:20170924T113500Z
END:VEVENT
END:VCALENDAR