BEGIN:VCALENDAR
VERSION:2.0
PRODID:VSD-Portal-www.volley.de
METHOD:PUBLISH
BEGIN:VEVENT
UID:139345-0b1cb5f82de24c98f11e829bddb1f0f9
X-WR-RELCALID:139345-0b1cb5f82de24c98f11e829bddb1f0f9
ORGANIZER:Volleyball
SEQUENCE:261102334
LOCATION:Rothtalhalle, Schwedenweg 200, 86497 Horgau
GEO:48.39737700000000000000;10.67985500000000000000
SUMMARY:KL West Fr.: SpVgg Auerbach - TSV Pfuhl
CLASS:PUBLIC
DTSTART:20151024T123000Z
DTSTAMP:20151107T210100Z
END:VEVENT
BEGIN:VEVENT
UID:139346-0b1cb5f82de24c98f11e829bddb1f0f9
X-WR-RELCALID:139346-0b1cb5f82de24c98f11e829bddb1f0f9
ORGANIZER:Volleyball
SEQUENCE:261102334
LOCATION:Rothtalhalle, Schwedenweg 200, 86497 Horgau
GEO:48.39737700000000000000;10.67985500000000000000
SUMMARY:KL West Fr.: SpVgg Auerbach - TV Gundelfingen
CLASS:PUBLIC
DTSTART:20151024T123000Z
DTSTAMP:20151107T210400Z
END:VEVENT
BEGIN:VEVENT
UID:139355-0b1cb5f82de24c98f11e829bddb1f0f9
X-WR-RELCALID:139355-0b1cb5f82de24c98f11e829bddb1f0f9
ORGANIZER:Volleyball
SEQUENCE:261102334
LOCATION:Mehrzweckhalle Simpert-Krämer-Gymnasium, Jochnerstraße 30, 86
 381 Krumbach
GEO:48.24369000000000000000;10.35611000000000000000
SUMMARY:KL West Fr.: TSV Krumbach - SpVgg Auerbach
CLASS:PUBLIC
DTSTART:20151031T133000Z
DTSTAMP:20151107T213200Z
END:VEVENT
BEGIN:VEVENT
UID:139356-0b1cb5f82de24c98f11e829bddb1f0f9
X-WR-RELCALID:139356-0b1cb5f82de24c98f11e829bddb1f0f9
ORGANIZER:Volleyball
SEQUENCE:261102334
LOCATION:Mehrzweckhalle Simpert-Krämer-Gymnasium, Jochnerstraße 30, 86
 381 Krumbach
GEO:48.24369000000000000000;10.35611000000000000000
SUMMARY:KL West Fr.: VfR Jettingen III - SpVgg Auerbach
CLASS:PUBLIC
DTSTART:20151031T133000Z
DTSTAMP:20151107T213600Z
END:VEVENT
BEGIN:VEVENT
UID:139363-0b1cb5f82de24c98f11e829bddb1f0f9
X-WR-RELCALID:139363-0b1cb5f82de24c98f11e829bddb1f0f9
ORGANIZER:Volleyball
SEQUENCE:261102334
LOCATION:Dreifachturnhalle, Schulstraße, 86462 Langweid
GEO:48.48930139327212000000;10.85315952380369700000
SUMMARY:KL West Fr.: FC Langweid - SpVgg Auerbach
CLASS:PUBLIC
DTSTART:20151121T133000Z
DTSTAMP:20151124T221000Z
END:VEVENT
BEGIN:VEVENT
UID:139365-0b1cb5f82de24c98f11e829bddb1f0f9
X-WR-RELCALID:139365-0b1cb5f82de24c98f11e829bddb1f0f9
ORGANIZER:Volleyball
SEQUENCE:261102334
LOCATION:Dreifachturnhalle, Schulstraße, 86462 Langweid
GEO:48.48930139327212000000;10.85315952380369700000
SUMMARY:KL West Fr.: SpVgg Auerbach - TV 1862 Dillingen
CLASS:PUBLIC
DTSTART:20151121T133000Z
DTSTAMP:20151124T223400Z
END:VEVENT
BEGIN:VEVENT
UID:139331-0b1cb5f82de24c98f11e829bddb1f0f9
X-WR-RELCALID:139331-0b1cb5f82de24c98f11e829bddb1f0f9
ORGANIZER:Volleyball
SEQUENCE:261102334
LOCATION:Günzhalle, Am Kötzbach 1, 89359 Großkötz
GEO:48.40891741529691000000;10.28307332275392100000
SUMMARY:KL West Fr.: VfL Großkötz e.V. - SpVgg Auerbach
CLASS:PUBLIC
DTSTART:20151205T133000Z
DTSTAMP:20151217T000700Z
END:VEVENT
BEGIN:VEVENT
UID:139332-0b1cb5f82de24c98f11e829bddb1f0f9
X-WR-RELCALID:139332-0b1cb5f82de24c98f11e829bddb1f0f9
ORGANIZER:Volleyball
SEQUENCE:261102334
LOCATION:Günzhalle, Am Kötzbach 1, 89359 Großkötz
GEO:48.40891741529691000000;10.28307332275392100000
SUMMARY:KL West Fr.: SC Biberbach - SpVgg Auerbach
CLASS:PUBLIC
DTSTART:20151205T133000Z
DTSTAMP:20151217T001000Z
END:VEVENT
BEGIN:VEVENT
UID:139372-0b1cb5f82de24c98f11e829bddb1f0f9
X-WR-RELCALID:139372-0b1cb5f82de24c98f11e829bddb1f0f9
ORGANIZER:Volleyball
SEQUENCE:261102334
LOCATION:Rothtalhalle, Schwedenweg 200, 86497 Horgau
GEO:48.39737700000000000000;10.67985500000000000000
SUMMARY:KL West Fr.: SpVgg Auerbach - VfR Jettingen III
CLASS:PUBLIC
DTSTART:20160109T133000Z
DTSTAMP:20160116T171100Z
END:VEVENT
BEGIN:VEVENT
UID:139373-0b1cb5f82de24c98f11e829bddb1f0f9
X-WR-RELCALID:139373-0b1cb5f82de24c98f11e829bddb1f0f9
ORGANIZER:Volleyball
SEQUENCE:261102334
LOCATION:Rothtalhalle, Schwedenweg 200, 86497 Horgau
GEO:48.39737700000000000000;10.67985500000000000000
SUMMARY:KL West Fr.: SpVgg Auerbach - SC Biberbach
CLASS:PUBLIC
DTSTART:20160109T133000Z
DTSTAMP:20160116T171400Z
END:VEVENT
BEGIN:VEVENT
UID:139381-0b1cb5f82de24c98f11e829bddb1f0f9
X-WR-RELCALID:139381-0b1cb5f82de24c98f11e829bddb1f0f9
ORGANIZER:Volleyball
SEQUENCE:261102334
LOCATION:Rothtalhalle, Schwedenweg 200, 86497 Horgau
GEO:48.39737700000000000000;10.67985500000000000000
SUMMARY:KL West Fr.: SpVgg Auerbach - TSV Krumbach
CLASS:PUBLIC
DTSTART:20160213T133000Z
DTSTAMP:20160216T175900Z
END:VEVENT
BEGIN:VEVENT
UID:139382-0b1cb5f82de24c98f11e829bddb1f0f9
X-WR-RELCALID:139382-0b1cb5f82de24c98f11e829bddb1f0f9
ORGANIZER:Volleyball
SEQUENCE:261102334
LOCATION:Rothtalhalle, Schwedenweg 200, 86497 Horgau
GEO:48.39737700000000000000;10.67985500000000000000
SUMMARY:KL West Fr.: SpVgg Auerbach - TSV Pfuhl
CLASS:PUBLIC
DTSTART:20160213T133000Z
DTSTAMP:20160216T175400Z
END:VEVENT
BEGIN:VEVENT
UID:139390-0b1cb5f82de24c98f11e829bddb1f0f9
X-WR-RELCALID:139390-0b1cb5f82de24c98f11e829bddb1f0f9
ORGANIZER:Volleyball
SEQUENCE:261102334
LOCATION:Günzhalle, Am Kötzbach 1, 89359 Großkötz
GEO:48.40891741529691000000;10.28307332275392100000
SUMMARY:KL West Fr.: VfL Großkötz e.V. - SpVgg Auerbach
CLASS:PUBLIC
DTSTART:20160227T133000Z
DTSTAMP:20160303T194900Z
END:VEVENT
BEGIN:VEVENT
UID:139392-0b1cb5f82de24c98f11e829bddb1f0f9
X-WR-RELCALID:139392-0b1cb5f82de24c98f11e829bddb1f0f9
ORGANIZER:Volleyball
SEQUENCE:261102334
LOCATION:Günzhalle, Am Kötzbach 1, 89359 Großkötz
GEO:48.40891741529691000000;10.28307332275392100000
SUMMARY:KL West Fr.: SpVgg Auerbach - FC Langweid
CLASS:PUBLIC
DTSTART:20160227T133000Z
DTSTAMP:20160303T195700Z
END:VEVENT
BEGIN:VEVENT
UID:139397-0b1cb5f82de24c98f11e829bddb1f0f9
X-WR-RELCALID:139397-0b1cb5f82de24c98f11e829bddb1f0f9
ORGANIZER:Volleyball
SEQUENCE:261102334
LOCATION:Kreissporthalle, Stadionstr. 1, 89423 Gundelfingen
GEO:48.54388000000001000000;10.38455495239259100000
SUMMARY:KL West Fr.: TV Gundelfingen - SpVgg Auerbach
CLASS:PUBLIC
DTSTART:20160312T133000Z
DTSTAMP:20160318T215100Z
END:VEVENT
BEGIN:VEVENT
UID:139398-0b1cb5f82de24c98f11e829bddb1f0f9
X-WR-RELCALID:139398-0b1cb5f82de24c98f11e829bddb1f0f9
ORGANIZER:Volleyball
SEQUENCE:261102334
LOCATION:Kreissporthalle, Stadionstr. 1, 89423 Gundelfingen
GEO:48.54388000000001000000;10.38455495239259100000
SUMMARY:KL West Fr.: TV 1862 Dillingen - SpVgg Auerbach
CLASS:PUBLIC
DTSTART:20160312T133000Z
DTSTAMP:20160318T215400Z
END:VEVENT
END:VCALENDAR