BEGIN:VCALENDAR
VERSION:2.0
PRODID:VSD-Portal-www.volley.de
METHOD:PUBLISH
BEGIN:VEVENT
UID:413401-2da69939ed67427dc6bf3daba21059e9
X-WR-RELCALID:413401-2da69939ed67427dc6bf3daba21059e9
ORGANIZER:Volleyball
SEQUENCE:261102336
SUMMARY:BeL09        Mä.: CVJM Siegen - TV Olpe
CLASS:PUBLIC
DTSTART:20161029T130000Z
DTSTAMP:20170409T094500Z
END:VEVENT
BEGIN:VEVENT
UID:413407-2da69939ed67427dc6bf3daba21059e9
X-WR-RELCALID:413407-2da69939ed67427dc6bf3daba21059e9
ORGANIZER:Volleyball
SEQUENCE:261102336
SUMMARY:BeL09        Mä.: CVJM Siegen - TuS Iserlohn II
CLASS:PUBLIC
DTSTART:20161126T140000Z
DTSTAMP:20170409T094500Z
END:VEVENT
BEGIN:VEVENT
UID:413416-2da69939ed67427dc6bf3daba21059e9
X-WR-RELCALID:413416-2da69939ed67427dc6bf3daba21059e9
ORGANIZER:Volleyball
SEQUENCE:261102336
SUMMARY:BeL09        Mä.: CVJM Siegen - Lüdenscheider TV
CLASS:PUBLIC
DTSTART:20170115T140000Z
DTSTAMP:20170409T094500Z
END:VEVENT
BEGIN:VEVENT
UID:413436-2da69939ed67427dc6bf3daba21059e9
X-WR-RELCALID:413436-2da69939ed67427dc6bf3daba21059e9
ORGANIZER:Volleyball
SEQUENCE:261102336
SUMMARY:BeL09        Mä.: CVJM Siegen - TV F.A. Dresselndorf II
CLASS:PUBLIC
DTSTART:20170401T130000Z
DTSTAMP:20170409T094500Z
END:VEVENT
END:VCALENDAR