BEGIN:VCALENDAR
VERSION:2.0
PRODID:VSD-Portal-www.volley.de
METHOD:PUBLISH
BEGIN:VEVENT
UID:415338-2da69939ed67427dc6bf3daba21059e9
X-WR-RELCALID:415338-2da69939ed67427dc6bf3daba21059e9
ORGANIZER:Volleyball
SEQUENCE:261100021
SUMMARY:BK21         Fr.: TSG Kirchhellen - Post SV Buer
CLASS:PUBLIC
DTSTART:20160918T101500Z
DTSTAMP:20170409T074100Z
END:VEVENT
BEGIN:VEVENT
UID:415339-2da69939ed67427dc6bf3daba21059e9
X-WR-RELCALID:415339-2da69939ed67427dc6bf3daba21059e9
ORGANIZER:Volleyball
SEQUENCE:261100021
SUMMARY:BK21         Fr.: TC Gelsenkirchen III - TSG Kirchhellen
CLASS:PUBLIC
DTSTART:20160925T100000Z
DTSTAMP:20170409T074100Z
END:VEVENT
BEGIN:VEVENT
UID:415345-2da69939ed67427dc6bf3daba21059e9
X-WR-RELCALID:415345-2da69939ed67427dc6bf3daba21059e9
ORGANIZER:Volleyball
SEQUENCE:261100021
SUMMARY:BK21         Fr.: TSG Kirchhellen - TuS Herten II
CLASS:PUBLIC
DTSTART:20161029T130000Z
DTSTAMP:20170409T074100Z
END:VEVENT
BEGIN:VEVENT
UID:415348-2da69939ed67427dc6bf3daba21059e9
X-WR-RELCALID:415348-2da69939ed67427dc6bf3daba21059e9
ORGANIZER:Volleyball
SEQUENCE:261100021
SUMMARY:BK21         Fr.: TV Gladbeck IV - TSG Kirchhellen
CLASS:PUBLIC
DTSTART:20161112T151500Z
DTSTAMP:20170409T074100Z
END:VEVENT
BEGIN:VEVENT
UID:415352-2da69939ed67427dc6bf3daba21059e9
X-WR-RELCALID:415352-2da69939ed67427dc6bf3daba21059e9
ORGANIZER:Volleyball
SEQUENCE:261100021
SUMMARY:BK21         Fr.: VC Marl - TSG Kirchhellen
CLASS:PUBLIC
DTSTART:20161127T111500Z
DTSTAMP:20170409T074100Z
END:VEVENT
BEGIN:VEVENT
UID:415355-2da69939ed67427dc6bf3daba21059e9
X-WR-RELCALID:415355-2da69939ed67427dc6bf3daba21059e9
ORGANIZER:Volleyball
SEQUENCE:261100021
SUMMARY:BK21         Fr.: TSG Kirchhellen - TuS Herten III
CLASS:PUBLIC
DTSTART:20161203T140000Z
DTSTAMP:20170409T074100Z
END:VEVENT
BEGIN:VEVENT
UID:415361-2da69939ed67427dc6bf3daba21059e9
X-WR-RELCALID:415361-2da69939ed67427dc6bf3daba21059e9
ORGANIZER:Volleyball
SEQUENCE:261100021
SUMMARY:BK21         Fr.: TV Gladbeck V - TSG Kirchhellen
CLASS:PUBLIC
DTSTART:20161211T090000Z
DTSTAMP:20170409T074100Z
END:VEVENT
BEGIN:VEVENT
UID:415366-2da69939ed67427dc6bf3daba21059e9
X-WR-RELCALID:415366-2da69939ed67427dc6bf3daba21059e9
ORGANIZER:Volleyball
SEQUENCE:261100021
SUMMARY:BK21         Fr.: Post SV Buer - TSG Kirchhellen
CLASS:PUBLIC
DTSTART:20170115T111500Z
DTSTAMP:20170409T074100Z
END:VEVENT
BEGIN:VEVENT
UID:415367-2da69939ed67427dc6bf3daba21059e9
X-WR-RELCALID:415367-2da69939ed67427dc6bf3daba21059e9
ORGANIZER:Volleyball
SEQUENCE:261100021
SUMMARY:BK21         Fr.: TSG Kirchhellen - TC Gelsenkirchen III
CLASS:PUBLIC
DTSTART:20170121T143000Z
DTSTAMP:20170409T074100Z
END:VEVENT
BEGIN:VEVENT
UID:415373-2da69939ed67427dc6bf3daba21059e9
X-WR-RELCALID:415373-2da69939ed67427dc6bf3daba21059e9
ORGANIZER:Volleyball
SEQUENCE:261100021
SUMMARY:BK21         Fr.: TuS Herten II - TSG Kirchhellen
CLASS:PUBLIC
DTSTART:20170205T100000Z
DTSTAMP:20170409T074100Z
END:VEVENT
BEGIN:VEVENT
UID:415376-2da69939ed67427dc6bf3daba21059e9
X-WR-RELCALID:415376-2da69939ed67427dc6bf3daba21059e9
ORGANIZER:Volleyball
SEQUENCE:261100021
SUMMARY:BK21         Fr.: TSG Kirchhellen - TV Gladbeck IV
CLASS:PUBLIC
DTSTART:20170218T151500Z
DTSTAMP:20170409T074100Z
END:VEVENT
BEGIN:VEVENT
UID:415380-2da69939ed67427dc6bf3daba21059e9
X-WR-RELCALID:415380-2da69939ed67427dc6bf3daba21059e9
ORGANIZER:Volleyball
SEQUENCE:261100021
SUMMARY:BK21         Fr.: TSG Kirchhellen - VC Marl
CLASS:PUBLIC
DTSTART:20170312T111500Z
DTSTAMP:20170409T074100Z
END:VEVENT
BEGIN:VEVENT
UID:415383-2da69939ed67427dc6bf3daba21059e9
X-WR-RELCALID:415383-2da69939ed67427dc6bf3daba21059e9
ORGANIZER:Volleyball
SEQUENCE:261100021
SUMMARY:BK21         Fr.: TuS Herten III - TSG Kirchhellen
CLASS:PUBLIC
DTSTART:20170326T090000Z
DTSTAMP:20170409T074100Z
END:VEVENT
BEGIN:VEVENT
UID:415389-2da69939ed67427dc6bf3daba21059e9
X-WR-RELCALID:415389-2da69939ed67427dc6bf3daba21059e9
ORGANIZER:Volleyball
SEQUENCE:261100021
SUMMARY:BK21         Fr.: TSG Kirchhellen - TV Gladbeck V
CLASS:PUBLIC
DTSTART:20170402T080000Z
DTSTAMP:20170409T074100Z
END:VEVENT
END:VCALENDAR