BEGIN:VCALENDAR
VERSION:2.0
PRODID:VSD-Portal-www.volley.de
METHOD:PUBLISH
BEGIN:VEVENT
UID:413267-2da69939ed67427dc6bf3daba21059e9
X-WR-RELCALID:413267-2da69939ed67427dc6bf3daba21059e9
ORGANIZER:Volleyball
SEQUENCE:261102120
SUMMARY:BeL15        Mä.: TuS Kachtenhausen - VG Lage
CLASS:PUBLIC
DTSTART:20160917T130000Z
DTSTAMP:20170417T150000Z
END:VEVENT
BEGIN:VEVENT
UID:413269-2da69939ed67427dc6bf3daba21059e9
X-WR-RELCALID:413269-2da69939ed67427dc6bf3daba21059e9
ORGANIZER:Volleyball
SEQUENCE:261102120
SUMMARY:BeL15        Mä.: TSVE Bielefeld - FC Augustdorf
CLASS:PUBLIC
DTSTART:20160917T130000Z
DTSTAMP:20170417T150000Z
END:VEVENT
BEGIN:VEVENT
UID:413268-2da69939ed67427dc6bf3daba21059e9
X-WR-RELCALID:413268-2da69939ed67427dc6bf3daba21059e9
ORGANIZER:Volleyball
SEQUENCE:261102120
SUMMARY:BeL15        Mä.: TV Lemgo - TV Pivitsheide II
CLASS:PUBLIC
DTSTART:20160917T141500Z
DTSTAMP:20170417T150000Z
END:VEVENT
BEGIN:VEVENT
UID:413270-2da69939ed67427dc6bf3daba21059e9
X-WR-RELCALID:413270-2da69939ed67427dc6bf3daba21059e9
ORGANIZER:Volleyball
SEQUENCE:261102120
SUMMARY:BeL15        Mä.: Spvg. Steinhagen - TuS Asemissen
CLASS:PUBLIC
DTSTART:20160917T141500Z
DTSTAMP:20170417T150000Z
END:VEVENT
BEGIN:VEVENT
UID:413271-2da69939ed67427dc6bf3daba21059e9
X-WR-RELCALID:413271-2da69939ed67427dc6bf3daba21059e9
ORGANIZER:Volleyball
SEQUENCE:261102120
SUMMARY:BeL15        Mä.: FC Augustdorf - TV Pivitsheide II
CLASS:PUBLIC
DTSTART:20160924T130000Z
DTSTAMP:20170417T150000Z
END:VEVENT
BEGIN:VEVENT
UID:413273-2da69939ed67427dc6bf3daba21059e9
X-WR-RELCALID:413273-2da69939ed67427dc6bf3daba21059e9
ORGANIZER:Volleyball
SEQUENCE:261102120
SUMMARY:BeL15        Mä.: SG Quelle/Milse - TV Lemgo
CLASS:PUBLIC
DTSTART:20160924T130000Z
DTSTAMP:20170417T150000Z
END:VEVENT
BEGIN:VEVENT
UID:413272-2da69939ed67427dc6bf3daba21059e9
X-WR-RELCALID:413272-2da69939ed67427dc6bf3daba21059e9
ORGANIZER:Volleyball
SEQUENCE:261102120
SUMMARY:BeL15        Mä.: VG Lage - TSVE Bielefeld
CLASS:PUBLIC
DTSTART:20160924T141500Z
DTSTAMP:20170417T150000Z
END:VEVENT
BEGIN:VEVENT
UID:413274-2da69939ed67427dc6bf3daba21059e9
X-WR-RELCALID:413274-2da69939ed67427dc6bf3daba21059e9
ORGANIZER:Volleyball
SEQUENCE:261102120
SUMMARY:BeL15        Mä.: TuS Asemissen - TuS Kachtenhausen
CLASS:PUBLIC
DTSTART:20161004T180000Z
DTSTAMP:20170417T150000Z
END:VEVENT
BEGIN:VEVENT
UID:413275-2da69939ed67427dc6bf3daba21059e9
X-WR-RELCALID:413275-2da69939ed67427dc6bf3daba21059e9
ORGANIZER:Volleyball
SEQUENCE:261102120
SUMMARY:BeL15        Mä.: Spvg. Steinhagen - SG Quelle/Milse
CLASS:PUBLIC
DTSTART:20161008T130000Z
DTSTAMP:20170417T150000Z
END:VEVENT
BEGIN:VEVENT
UID:413277-2da69939ed67427dc6bf3daba21059e9
X-WR-RELCALID:413277-2da69939ed67427dc6bf3daba21059e9
ORGANIZER:Volleyball
SEQUENCE:261102120
SUMMARY:BeL15        Mä.: TV Lemgo - TuS Asemissen
CLASS:PUBLIC
DTSTART:20161008T130000Z
DTSTAMP:20170417T150000Z
END:VEVENT
BEGIN:VEVENT
UID:413276-2da69939ed67427dc6bf3daba21059e9
X-WR-RELCALID:413276-2da69939ed67427dc6bf3daba21059e9
ORGANIZER:Volleyball
SEQUENCE:261102120
SUMMARY:BeL15        Mä.: TuS Kachtenhausen - FC Augustdorf
CLASS:PUBLIC
DTSTART:20161008T141500Z
DTSTAMP:20170417T150000Z
END:VEVENT
BEGIN:VEVENT
UID:413278-2da69939ed67427dc6bf3daba21059e9
X-WR-RELCALID:413278-2da69939ed67427dc6bf3daba21059e9
ORGANIZER:Volleyball
SEQUENCE:261102120
SUMMARY:BeL15        Mä.: TV Pivitsheide II - TSVE Bielefeld
CLASS:PUBLIC
DTSTART:20161008T141500Z
DTSTAMP:20170417T150000Z
END:VEVENT
BEGIN:VEVENT
UID:413279-2da69939ed67427dc6bf3daba21059e9
X-WR-RELCALID:413279-2da69939ed67427dc6bf3daba21059e9
ORGANIZER:Volleyball
SEQUENCE:261102120
SUMMARY:BeL15        Mä.: TSVE Bielefeld - Spvg. Steinhagen
CLASS:PUBLIC
DTSTART:20161029T130000Z
DTSTAMP:20170417T150000Z
END:VEVENT
BEGIN:VEVENT
UID:413281-2da69939ed67427dc6bf3daba21059e9
X-WR-RELCALID:413281-2da69939ed67427dc6bf3daba21059e9
ORGANIZER:Volleyball
SEQUENCE:261102120
SUMMARY:BeL15        Mä.: TuS Asemissen - FC Augustdorf
CLASS:PUBLIC
DTSTART:20161029T130000Z
DTSTAMP:20170417T150000Z
END:VEVENT
BEGIN:VEVENT
UID:413280-2da69939ed67427dc6bf3daba21059e9
X-WR-RELCALID:413280-2da69939ed67427dc6bf3daba21059e9
ORGANIZER:Volleyball
SEQUENCE:261102120
SUMMARY:BeL15        Mä.: SG Quelle/Milse - VG Lage
CLASS:PUBLIC
DTSTART:20161029T141500Z
DTSTAMP:20170417T150000Z
END:VEVENT
BEGIN:VEVENT
UID:413282-2da69939ed67427dc6bf3daba21059e9
X-WR-RELCALID:413282-2da69939ed67427dc6bf3daba21059e9
ORGANIZER:Volleyball
SEQUENCE:261102120
SUMMARY:BeL15        Mä.: TV Pivitsheide II - TuS Kachtenhausen
CLASS:PUBLIC
DTSTART:20161110T193900Z
DTSTAMP:20170417T150000Z
END:VEVENT
BEGIN:VEVENT
UID:413283-2da69939ed67427dc6bf3daba21059e9
X-WR-RELCALID:413283-2da69939ed67427dc6bf3daba21059e9
ORGANIZER:Volleyball
SEQUENCE:261102120
SUMMARY:BeL15        Mä.: SG Quelle/Milse - TSVE Bielefeld
CLASS:PUBLIC
DTSTART:20161112T140000Z
DTSTAMP:20170417T150000Z
END:VEVENT
BEGIN:VEVENT
UID:413285-2da69939ed67427dc6bf3daba21059e9
X-WR-RELCALID:413285-2da69939ed67427dc6bf3daba21059e9
ORGANIZER:Volleyball
SEQUENCE:261102120
SUMMARY:BeL15        Mä.: TV Pivitsheide II - TuS Asemissen
CLASS:PUBLIC
DTSTART:20161112T140000Z
DTSTAMP:20170417T150000Z
END:VEVENT
BEGIN:VEVENT
UID:413284-2da69939ed67427dc6bf3daba21059e9
X-WR-RELCALID:413284-2da69939ed67427dc6bf3daba21059e9
ORGANIZER:Volleyball
SEQUENCE:261102120
SUMMARY:BeL15        Mä.: FC Augustdorf - TV Lemgo
CLASS:PUBLIC
DTSTART:20161112T151500Z
DTSTAMP:20170417T150000Z
END:VEVENT
BEGIN:VEVENT
UID:413286-2da69939ed67427dc6bf3daba21059e9
X-WR-RELCALID:413286-2da69939ed67427dc6bf3daba21059e9
ORGANIZER:Volleyball
SEQUENCE:261102120
SUMMARY:BeL15        Mä.: Spvg. Steinhagen - VG Lage
CLASS:PUBLIC
DTSTART:20161112T151500Z
DTSTAMP:20170417T150000Z
END:VEVENT
BEGIN:VEVENT
UID:413287-2da69939ed67427dc6bf3daba21059e9
X-WR-RELCALID:413287-2da69939ed67427dc6bf3daba21059e9
ORGANIZER:Volleyball
SEQUENCE:261102120
SUMMARY:BeL15        Mä.: VG Lage - TV Lemgo
CLASS:PUBLIC
DTSTART:20161126T140000Z
DTSTAMP:20170417T150000Z
END:VEVENT
BEGIN:VEVENT
UID:413289-2da69939ed67427dc6bf3daba21059e9
X-WR-RELCALID:413289-2da69939ed67427dc6bf3daba21059e9
ORGANIZER:Volleyball
SEQUENCE:261102120
SUMMARY:BeL15        Mä.: FC Augustdorf - Spvg. Steinhagen
CLASS:PUBLIC
DTSTART:20161126T140000Z
DTSTAMP:20170417T150000Z
END:VEVENT
BEGIN:VEVENT
UID:413288-2da69939ed67427dc6bf3daba21059e9
X-WR-RELCALID:413288-2da69939ed67427dc6bf3daba21059e9
ORGANIZER:Volleyball
SEQUENCE:261102120
SUMMARY:BeL15        Mä.: TuS Kachtenhausen - SG Quelle/Milse
CLASS:PUBLIC
DTSTART:20161126T151500Z
DTSTAMP:20170417T150000Z
END:VEVENT
BEGIN:VEVENT
UID:413290-2da69939ed67427dc6bf3daba21059e9
X-WR-RELCALID:413290-2da69939ed67427dc6bf3daba21059e9
ORGANIZER:Volleyball
SEQUENCE:261102120
SUMMARY:BeL15        Mä.: TSVE Bielefeld - TuS Asemissen
CLASS:PUBLIC
DTSTART:20161126T151500Z
DTSTAMP:20170417T150000Z
END:VEVENT
BEGIN:VEVENT
UID:413291-2da69939ed67427dc6bf3daba21059e9
X-WR-RELCALID:413291-2da69939ed67427dc6bf3daba21059e9
ORGANIZER:Volleyball
SEQUENCE:261102120
SUMMARY:BeL15        Mä.: TuS Asemissen - VG Lage
CLASS:PUBLIC
DTSTART:20161203T140000Z
DTSTAMP:20170417T150000Z
END:VEVENT
BEGIN:VEVENT
UID:413293-2da69939ed67427dc6bf3daba21059e9
X-WR-RELCALID:413293-2da69939ed67427dc6bf3daba21059e9
ORGANIZER:Volleyball
SEQUENCE:261102120
SUMMARY:BeL15        Mä.: TV Lemgo - TuS Kachtenhausen
CLASS:PUBLIC
DTSTART:20161203T140000Z
DTSTAMP:20170417T150000Z
END:VEVENT
BEGIN:VEVENT
UID:413292-2da69939ed67427dc6bf3daba21059e9
X-WR-RELCALID:413292-2da69939ed67427dc6bf3daba21059e9
ORGANIZER:Volleyball
SEQUENCE:261102120
SUMMARY:BeL15        Mä.: SG Quelle/Milse - FC Augustdorf
CLASS:PUBLIC
DTSTART:20161203T151500Z
DTSTAMP:20170417T150000Z
END:VEVENT
BEGIN:VEVENT
UID:413294-2da69939ed67427dc6bf3daba21059e9
X-WR-RELCALID:413294-2da69939ed67427dc6bf3daba21059e9
ORGANIZER:Volleyball
SEQUENCE:261102120
SUMMARY:BeL15        Mä.: Spvg. Steinhagen - TV Pivitsheide II
CLASS:PUBLIC
DTSTART:20161203T151500Z
DTSTAMP:20170417T150000Z
END:VEVENT
BEGIN:VEVENT
UID:413297-2da69939ed67427dc6bf3daba21059e9
X-WR-RELCALID:413297-2da69939ed67427dc6bf3daba21059e9
ORGANIZER:Volleyball
SEQUENCE:261102120
SUMMARY:BeL15        Mä.: TuS Kachtenhausen - TSVE Bielefeld
CLASS:PUBLIC
DTSTART:20161210T140000Z
DTSTAMP:20170417T150000Z
END:VEVENT
BEGIN:VEVENT
UID:413298-2da69939ed67427dc6bf3daba21059e9
X-WR-RELCALID:413298-2da69939ed67427dc6bf3daba21059e9
ORGANIZER:Volleyball
SEQUENCE:261102120
SUMMARY:BeL15        Mä.: TV Lemgo - Spvg. Steinhagen
CLASS:PUBLIC
DTSTART:20161210T151500Z
DTSTAMP:20170417T150000Z
END:VEVENT
BEGIN:VEVENT
UID:413295-2da69939ed67427dc6bf3daba21059e9
X-WR-RELCALID:413295-2da69939ed67427dc6bf3daba21059e9
ORGANIZER:Volleyball
SEQUENCE:261102120
SUMMARY:BeL15        Mä.: TV Pivitsheide II - SG Quelle/Milse
CLASS:PUBLIC
DTSTART:20161210T160000Z
DTSTAMP:20170417T150000Z
END:VEVENT
BEGIN:VEVENT
UID:413296-2da69939ed67427dc6bf3daba21059e9
X-WR-RELCALID:413296-2da69939ed67427dc6bf3daba21059e9
ORGANIZER:Volleyball
SEQUENCE:261102120
SUMMARY:BeL15        Mä.: FC Augustdorf - VG Lage
CLASS:PUBLIC
DTSTART:20161210T171500Z
DTSTAMP:20170417T150000Z
END:VEVENT
BEGIN:VEVENT
UID:413299-2da69939ed67427dc6bf3daba21059e9
X-WR-RELCALID:413299-2da69939ed67427dc6bf3daba21059e9
ORGANIZER:Volleyball
SEQUENCE:261102120
SUMMARY:BeL15        Mä.: Spvg. Steinhagen - TuS Kachtenhausen
CLASS:PUBLIC
DTSTART:20161217T140000Z
DTSTAMP:20170417T150000Z
END:VEVENT
BEGIN:VEVENT
UID:413301-2da69939ed67427dc6bf3daba21059e9
X-WR-RELCALID:413301-2da69939ed67427dc6bf3daba21059e9
ORGANIZER:Volleyball
SEQUENCE:261102120
SUMMARY:BeL15        Mä.: VG Lage - TV Pivitsheide II
CLASS:PUBLIC
DTSTART:20161217T140000Z
DTSTAMP:20170417T150000Z
END:VEVENT
BEGIN:VEVENT
UID:413300-2da69939ed67427dc6bf3daba21059e9
X-WR-RELCALID:413300-2da69939ed67427dc6bf3daba21059e9
ORGANIZER:Volleyball
SEQUENCE:261102120
SUMMARY:BeL15        Mä.: SG Quelle/Milse - TuS Asemissen
CLASS:PUBLIC
DTSTART:20161217T151500Z
DTSTAMP:20170417T150000Z
END:VEVENT
BEGIN:VEVENT
UID:413302-2da69939ed67427dc6bf3daba21059e9
X-WR-RELCALID:413302-2da69939ed67427dc6bf3daba21059e9
ORGANIZER:Volleyball
SEQUENCE:261102120
SUMMARY:BeL15        Mä.: TSVE Bielefeld - TV Lemgo
CLASS:PUBLIC
DTSTART:20161217T151500Z
DTSTAMP:20170417T150000Z
END:VEVENT
BEGIN:VEVENT
UID:413303-2da69939ed67427dc6bf3daba21059e9
X-WR-RELCALID:413303-2da69939ed67427dc6bf3daba21059e9
ORGANIZER:Volleyball
SEQUENCE:261102120
SUMMARY:BeL15        Mä.: VG Lage - TuS Kachtenhausen
CLASS:PUBLIC
DTSTART:20170115T140000Z
DTSTAMP:20170417T150000Z
END:VEVENT
BEGIN:VEVENT
UID:413305-2da69939ed67427dc6bf3daba21059e9
X-WR-RELCALID:413305-2da69939ed67427dc6bf3daba21059e9
ORGANIZER:Volleyball
SEQUENCE:261102120
SUMMARY:BeL15        Mä.: FC Augustdorf - TSVE Bielefeld
CLASS:PUBLIC
DTSTART:20170115T150000Z
DTSTAMP:20170417T150000Z
END:VEVENT
BEGIN:VEVENT
UID:413304-2da69939ed67427dc6bf3daba21059e9
X-WR-RELCALID:413304-2da69939ed67427dc6bf3daba21059e9
ORGANIZER:Volleyball
SEQUENCE:261102120
SUMMARY:BeL15        Mä.: TuS Asemissen - Spvg. Steinhagen
CLASS:PUBLIC
DTSTART:20170115T151500Z
DTSTAMP:20170417T150000Z
END:VEVENT
BEGIN:VEVENT
UID:413306-2da69939ed67427dc6bf3daba21059e9
X-WR-RELCALID:413306-2da69939ed67427dc6bf3daba21059e9
ORGANIZER:Volleyball
SEQUENCE:261102120
SUMMARY:BeL15        Mä.: TV Pivitsheide II - TV Lemgo
CLASS:PUBLIC
DTSTART:20170115T161500Z
DTSTAMP:20170417T150000Z
END:VEVENT
BEGIN:VEVENT
UID:413309-2da69939ed67427dc6bf3daba21059e9
X-WR-RELCALID:413309-2da69939ed67427dc6bf3daba21059e9
ORGANIZER:Volleyball
SEQUENCE:261102120
SUMMARY:BeL15        Mä.: TV Lemgo - SG Quelle/Milse
CLASS:PUBLIC
DTSTART:20170121T140000Z
DTSTAMP:20170417T150000Z
END:VEVENT
BEGIN:VEVENT
UID:413310-2da69939ed67427dc6bf3daba21059e9
X-WR-RELCALID:413310-2da69939ed67427dc6bf3daba21059e9
ORGANIZER:Volleyball
SEQUENCE:261102120
SUMMARY:BeL15        Mä.: TuS Kachtenhausen - TuS Asemissen
CLASS:PUBLIC
DTSTART:20170121T151500Z
DTSTAMP:20170417T150000Z
END:VEVENT
BEGIN:VEVENT
UID:413307-2da69939ed67427dc6bf3daba21059e9
X-WR-RELCALID:413307-2da69939ed67427dc6bf3daba21059e9
ORGANIZER:Volleyball
SEQUENCE:261102120
SUMMARY:BeL15        Mä.: TV Pivitsheide II - FC Augustdorf
CLASS:PUBLIC
DTSTART:20170121T160000Z
DTSTAMP:20170417T150000Z
END:VEVENT
BEGIN:VEVENT
UID:413308-2da69939ed67427dc6bf3daba21059e9
X-WR-RELCALID:413308-2da69939ed67427dc6bf3daba21059e9
ORGANIZER:Volleyball
SEQUENCE:261102120
SUMMARY:BeL15        Mä.: TSVE Bielefeld - VG Lage
CLASS:PUBLIC
DTSTART:20170121T171500Z
DTSTAMP:20170417T150000Z
END:VEVENT
BEGIN:VEVENT
UID:413311-2da69939ed67427dc6bf3daba21059e9
X-WR-RELCALID:413311-2da69939ed67427dc6bf3daba21059e9
ORGANIZER:Volleyball
SEQUENCE:261102120
SUMMARY:BeL15        Mä.: SG Quelle/Milse - Spvg. Steinhagen
CLASS:PUBLIC
DTSTART:20170204T140000Z
DTSTAMP:20170417T150000Z
END:VEVENT
BEGIN:VEVENT
UID:413313-2da69939ed67427dc6bf3daba21059e9
X-WR-RELCALID:413313-2da69939ed67427dc6bf3daba21059e9
ORGANIZER:Volleyball
SEQUENCE:261102120
SUMMARY:BeL15        Mä.: TuS Asemissen - TV Lemgo
CLASS:PUBLIC
DTSTART:20170204T140000Z
DTSTAMP:20170417T150000Z
END:VEVENT
BEGIN:VEVENT
UID:413312-2da69939ed67427dc6bf3daba21059e9
X-WR-RELCALID:413312-2da69939ed67427dc6bf3daba21059e9
ORGANIZER:Volleyball
SEQUENCE:261102120
SUMMARY:BeL15        Mä.: FC Augustdorf - TuS Kachtenhausen
CLASS:PUBLIC
DTSTART:20170204T151500Z
DTSTAMP:20170417T150000Z
END:VEVENT
BEGIN:VEVENT
UID:413314-2da69939ed67427dc6bf3daba21059e9
X-WR-RELCALID:413314-2da69939ed67427dc6bf3daba21059e9
ORGANIZER:Volleyball
SEQUENCE:261102120
SUMMARY:BeL15        Mä.: TSVE Bielefeld - TV Pivitsheide II
CLASS:PUBLIC
DTSTART:20170204T151500Z
DTSTAMP:20170417T150000Z
END:VEVENT
BEGIN:VEVENT
UID:413315-2da69939ed67427dc6bf3daba21059e9
X-WR-RELCALID:413315-2da69939ed67427dc6bf3daba21059e9
ORGANIZER:Volleyball
SEQUENCE:261102120
SUMMARY:BeL15        Mä.: Spvg. Steinhagen - TSVE Bielefeld
CLASS:PUBLIC
DTSTART:20170211T140000Z
DTSTAMP:20170417T150000Z
END:VEVENT
BEGIN:VEVENT
UID:413317-2da69939ed67427dc6bf3daba21059e9
X-WR-RELCALID:413317-2da69939ed67427dc6bf3daba21059e9
ORGANIZER:Volleyball
SEQUENCE:261102120
SUMMARY:BeL15        Mä.: FC Augustdorf - TuS Asemissen
CLASS:PUBLIC
DTSTART:20170211T140000Z
DTSTAMP:20170417T150000Z
END:VEVENT
BEGIN:VEVENT
UID:413316-2da69939ed67427dc6bf3daba21059e9
X-WR-RELCALID:413316-2da69939ed67427dc6bf3daba21059e9
ORGANIZER:Volleyball
SEQUENCE:261102120
SUMMARY:BeL15        Mä.: VG Lage - SG Quelle/Milse
CLASS:PUBLIC
DTSTART:20170211T151500Z
DTSTAMP:20170417T150000Z
END:VEVENT
BEGIN:VEVENT
UID:413318-2da69939ed67427dc6bf3daba21059e9
X-WR-RELCALID:413318-2da69939ed67427dc6bf3daba21059e9
ORGANIZER:Volleyball
SEQUENCE:261102120
SUMMARY:BeL15        Mä.: TuS Kachtenhausen - TV Pivitsheide II
CLASS:PUBLIC
DTSTART:20170211T151500Z
DTSTAMP:20170417T150000Z
END:VEVENT
BEGIN:VEVENT
UID:413319-2da69939ed67427dc6bf3daba21059e9
X-WR-RELCALID:413319-2da69939ed67427dc6bf3daba21059e9
ORGANIZER:Volleyball
SEQUENCE:261102120
SUMMARY:BeL15        Mä.: TSVE Bielefeld - SG Quelle/Milse
CLASS:PUBLIC
DTSTART:20170218T140000Z
DTSTAMP:20170417T150000Z
END:VEVENT
BEGIN:VEVENT
UID:413320-2da69939ed67427dc6bf3daba21059e9
X-WR-RELCALID:413320-2da69939ed67427dc6bf3daba21059e9
ORGANIZER:Volleyball
SEQUENCE:261102120
SUMMARY:BeL15        Mä.: TV Lemgo - FC Augustdorf
CLASS:PUBLIC
DTSTART:20170218T151500Z
DTSTAMP:20170417T150000Z
END:VEVENT
BEGIN:VEVENT
UID:413321-2da69939ed67427dc6bf3daba21059e9
X-WR-RELCALID:413321-2da69939ed67427dc6bf3daba21059e9
ORGANIZER:Volleyball
SEQUENCE:261102120
SUMMARY:BeL15        Mä.: TuS Asemissen - TV Pivitsheide II
CLASS:PUBLIC
DTSTART:20170219T140000Z
DTSTAMP:20170417T150000Z
END:VEVENT
BEGIN:VEVENT
UID:413322-2da69939ed67427dc6bf3daba21059e9
X-WR-RELCALID:413322-2da69939ed67427dc6bf3daba21059e9
ORGANIZER:Volleyball
SEQUENCE:261102120
SUMMARY:BeL15        Mä.: VG Lage - Spvg. Steinhagen
CLASS:PUBLIC
DTSTART:20170219T151500Z
DTSTAMP:20170417T150000Z
END:VEVENT
BEGIN:VEVENT
UID:413323-2da69939ed67427dc6bf3daba21059e9
X-WR-RELCALID:413323-2da69939ed67427dc6bf3daba21059e9
ORGANIZER:Volleyball
SEQUENCE:261102120
SUMMARY:BeL15        Mä.: TV Lemgo - VG Lage
CLASS:PUBLIC
DTSTART:20170311T140000Z
DTSTAMP:20170417T150000Z
END:VEVENT
BEGIN:VEVENT
UID:413325-2da69939ed67427dc6bf3daba21059e9
X-WR-RELCALID:413325-2da69939ed67427dc6bf3daba21059e9
ORGANIZER:Volleyball
SEQUENCE:261102120
SUMMARY:BeL15        Mä.: Spvg. Steinhagen - FC Augustdorf
CLASS:PUBLIC
DTSTART:20170311T140000Z
DTSTAMP:20170417T150000Z
END:VEVENT
BEGIN:VEVENT
UID:413324-2da69939ed67427dc6bf3daba21059e9
X-WR-RELCALID:413324-2da69939ed67427dc6bf3daba21059e9
ORGANIZER:Volleyball
SEQUENCE:261102120
SUMMARY:BeL15        Mä.: SG Quelle/Milse - TuS Kachtenhausen
CLASS:PUBLIC
DTSTART:20170311T151500Z
DTSTAMP:20170417T150000Z
END:VEVENT
BEGIN:VEVENT
UID:413326-2da69939ed67427dc6bf3daba21059e9
X-WR-RELCALID:413326-2da69939ed67427dc6bf3daba21059e9
ORGANIZER:Volleyball
SEQUENCE:261102120
SUMMARY:BeL15        Mä.: TuS Asemissen - TSVE Bielefeld
CLASS:PUBLIC
DTSTART:20170311T151500Z
DTSTAMP:20170417T150000Z
END:VEVENT
BEGIN:VEVENT
UID:413327-2da69939ed67427dc6bf3daba21059e9
X-WR-RELCALID:413327-2da69939ed67427dc6bf3daba21059e9
ORGANIZER:Volleyball
SEQUENCE:261102120
SUMMARY:BeL15        Mä.: VG Lage - TuS Asemissen
CLASS:PUBLIC
DTSTART:20170325T140000Z
DTSTAMP:20170417T150000Z
END:VEVENT
BEGIN:VEVENT
UID:413329-2da69939ed67427dc6bf3daba21059e9
X-WR-RELCALID:413329-2da69939ed67427dc6bf3daba21059e9
ORGANIZER:Volleyball
SEQUENCE:261102120
SUMMARY:BeL15        Mä.: TuS Kachtenhausen - TV Lemgo
CLASS:PUBLIC
DTSTART:20170325T140000Z
DTSTAMP:20170417T150000Z
END:VEVENT
BEGIN:VEVENT
UID:413328-2da69939ed67427dc6bf3daba21059e9
X-WR-RELCALID:413328-2da69939ed67427dc6bf3daba21059e9
ORGANIZER:Volleyball
SEQUENCE:261102120
SUMMARY:BeL15        Mä.: FC Augustdorf - SG Quelle/Milse
CLASS:PUBLIC
DTSTART:20170325T151500Z
DTSTAMP:20170417T150000Z
END:VEVENT
BEGIN:VEVENT
UID:413330-2da69939ed67427dc6bf3daba21059e9
X-WR-RELCALID:413330-2da69939ed67427dc6bf3daba21059e9
ORGANIZER:Volleyball
SEQUENCE:261102120
SUMMARY:BeL15        Mä.: TV Pivitsheide II - Spvg. Steinhagen
CLASS:PUBLIC
DTSTART:20170325T151500Z
DTSTAMP:20170417T150000Z
END:VEVENT
BEGIN:VEVENT
UID:413331-2da69939ed67427dc6bf3daba21059e9
X-WR-RELCALID:413331-2da69939ed67427dc6bf3daba21059e9
ORGANIZER:Volleyball
SEQUENCE:261102120
SUMMARY:BeL15        Mä.: SG Quelle/Milse - TV Pivitsheide II
CLASS:PUBLIC
DTSTART:20170401T130000Z
DTSTAMP:20170417T150000Z
END:VEVENT
BEGIN:VEVENT
UID:413333-2da69939ed67427dc6bf3daba21059e9
X-WR-RELCALID:413333-2da69939ed67427dc6bf3daba21059e9
ORGANIZER:Volleyball
SEQUENCE:261102120
SUMMARY:BeL15        Mä.: TSVE Bielefeld - TuS Kachtenhausen
CLASS:PUBLIC
DTSTART:20170401T130000Z
DTSTAMP:20170417T150000Z
END:VEVENT
BEGIN:VEVENT
UID:413332-2da69939ed67427dc6bf3daba21059e9
X-WR-RELCALID:413332-2da69939ed67427dc6bf3daba21059e9
ORGANIZER:Volleyball
SEQUENCE:261102120
SUMMARY:BeL15        Mä.: VG Lage - FC Augustdorf
CLASS:PUBLIC
DTSTART:20170401T141500Z
DTSTAMP:20170417T150000Z
END:VEVENT
BEGIN:VEVENT
UID:413334-2da69939ed67427dc6bf3daba21059e9
X-WR-RELCALID:413334-2da69939ed67427dc6bf3daba21059e9
ORGANIZER:Volleyball
SEQUENCE:261102120
SUMMARY:BeL15        Mä.: Spvg. Steinhagen - TV Lemgo
CLASS:PUBLIC
DTSTART:20170401T141500Z
DTSTAMP:20170417T150000Z
END:VEVENT
BEGIN:VEVENT
UID:413335-2da69939ed67427dc6bf3daba21059e9
X-WR-RELCALID:413335-2da69939ed67427dc6bf3daba21059e9
ORGANIZER:Volleyball
SEQUENCE:261102120
SUMMARY:BeL15        Mä.: TuS Kachtenhausen - Spvg. Steinhagen
CLASS:PUBLIC
DTSTART:20170408T130000Z
DTSTAMP:20170417T150000Z
END:VEVENT
BEGIN:VEVENT
UID:413336-2da69939ed67427dc6bf3daba21059e9
X-WR-RELCALID:413336-2da69939ed67427dc6bf3daba21059e9
ORGANIZER:Volleyball
SEQUENCE:261102120
SUMMARY:BeL15        Mä.: TuS Asemissen - SG Quelle/Milse
CLASS:PUBLIC
DTSTART:20170408T141500Z
DTSTAMP:20170417T150000Z
END:VEVENT
BEGIN:VEVENT
UID:413337-2da69939ed67427dc6bf3daba21059e9
X-WR-RELCALID:413337-2da69939ed67427dc6bf3daba21059e9
ORGANIZER:Volleyball
SEQUENCE:261102120
SUMMARY:BeL15        Mä.: TV Pivitsheide II - VG Lage
CLASS:PUBLIC
DTSTART:20170408T150000Z
DTSTAMP:20170417T150000Z
END:VEVENT
BEGIN:VEVENT
UID:413338-2da69939ed67427dc6bf3daba21059e9
X-WR-RELCALID:413338-2da69939ed67427dc6bf3daba21059e9
ORGANIZER:Volleyball
SEQUENCE:261102120
SUMMARY:BeL15        Mä.: TV Lemgo - TSVE Bielefeld
CLASS:PUBLIC
DTSTART:20170408T161500Z
DTSTAMP:20170417T150000Z
END:VEVENT
END:VCALENDAR