BEGIN:VCALENDAR
VERSION:2.0
PRODID:VSD-Portal-www.volley.de
METHOD:PUBLISH
BEGIN:VEVENT
UID:412513-2da69939ed67427dc6bf3daba21059e9
X-WR-RELCALID:412513-2da69939ed67427dc6bf3daba21059e9
ORGANIZER:Volleyball
SEQUENCE:261101358
SUMMARY:LL3          Mä.: SolingenVolleys III - Haaner TV
CLASS:PUBLIC
DTSTART:20160917T130000Z
DTSTAMP:20170409T074000Z
END:VEVENT
BEGIN:VEVENT
UID:412518-2da69939ed67427dc6bf3daba21059e9
X-WR-RELCALID:412518-2da69939ed67427dc6bf3daba21059e9
ORGANIZER:Volleyball
SEQUENCE:261101358
SUMMARY:LL3          Mä.: Haaner TV - VSC Grevenbroich
CLASS:PUBLIC
DTSTART:20160924T141500Z
DTSTAMP:20170409T074000Z
END:VEVENT
BEGIN:VEVENT
UID:412521-2da69939ed67427dc6bf3daba21059e9
X-WR-RELCALID:412521-2da69939ed67427dc6bf3daba21059e9
ORGANIZER:Volleyball
SEQUENCE:261101358
SUMMARY:LL3          Mä.: Haaner TV - SG Benrath/Hilden
CLASS:PUBLIC
DTSTART:20161029T130000Z
DTSTAMP:20170409T074000Z
END:VEVENT
BEGIN:VEVENT
UID:412525-2da69939ed67427dc6bf3daba21059e9
X-WR-RELCALID:412525-2da69939ed67427dc6bf3daba21059e9
ORGANIZER:Volleyball
SEQUENCE:261101358
SUMMARY:LL3          Mä.: TSV Bayer 04 Leverkusen - Haaner TV
CLASS:PUBLIC
DTSTART:20161112T140000Z
DTSTAMP:20170409T074000Z
END:VEVENT
BEGIN:VEVENT
UID:412529-2da69939ed67427dc6bf3daba21059e9
X-WR-RELCALID:412529-2da69939ed67427dc6bf3daba21059e9
ORGANIZER:Volleyball
SEQUENCE:261101358
SUMMARY:LL3          Mä.: Erkelenzer VV - Haaner TV
CLASS:PUBLIC
DTSTART:20161126T140000Z
DTSTAMP:20170409T074000Z
END:VEVENT
BEGIN:VEVENT
UID:412535-2da69939ed67427dc6bf3daba21059e9
X-WR-RELCALID:412535-2da69939ed67427dc6bf3daba21059e9
ORGANIZER:Volleyball
SEQUENCE:261101358
SUMMARY:LL3          Mä.: Haaner TV - Osterather TV
CLASS:PUBLIC
DTSTART:20161203T140000Z
DTSTAMP:20170409T074000Z
END:VEVENT
BEGIN:VEVENT
UID:412538-2da69939ed67427dc6bf3daba21059e9
X-WR-RELCALID:412538-2da69939ed67427dc6bf3daba21059e9
ORGANIZER:Volleyball
SEQUENCE:261101358
SUMMARY:LL3          Mä.: DJK Tusa 06/08 Düsseldorf - Haaner TV
CLASS:PUBLIC
DTSTART:20161210T151500Z
DTSTAMP:20170409T074000Z
END:VEVENT
BEGIN:VEVENT
UID:412542-2da69939ed67427dc6bf3daba21059e9
X-WR-RELCALID:412542-2da69939ed67427dc6bf3daba21059e9
ORGANIZER:Volleyball
SEQUENCE:261101358
SUMMARY:LL3          Mä.: SG Benrath/Hilden - Haaner TV
CLASS:PUBLIC
DTSTART:20170115T151500Z
DTSTAMP:20170409T074000Z
END:VEVENT
BEGIN:VEVENT
UID:412548-2da69939ed67427dc6bf3daba21059e9
X-WR-RELCALID:412548-2da69939ed67427dc6bf3daba21059e9
ORGANIZER:Volleyball
SEQUENCE:261101358
SUMMARY:LL3          Mä.: VSC Grevenbroich - Haaner TV
CLASS:PUBLIC
DTSTART:20170121T151500Z
DTSTAMP:20170409T074000Z
END:VEVENT
BEGIN:VEVENT
UID:412551-2da69939ed67427dc6bf3daba21059e9
X-WR-RELCALID:412551-2da69939ed67427dc6bf3daba21059e9
ORGANIZER:Volleyball
SEQUENCE:261101358
SUMMARY:LL3          Mä.: Haaner TV - DJK Tusa 06/08 Düsseldorf
CLASS:PUBLIC
DTSTART:20170204T140000Z
DTSTAMP:20170409T074000Z
END:VEVENT
BEGIN:VEVENT
UID:412553-2da69939ed67427dc6bf3daba21059e9
X-WR-RELCALID:412553-2da69939ed67427dc6bf3daba21059e9
ORGANIZER:Volleyball
SEQUENCE:261101358
SUMMARY:LL3          Mä.: Haaner TV - TSV Bayer 04 Leverkusen
CLASS:PUBLIC
DTSTART:20170218T140000Z
DTSTAMP:20170409T074000Z
END:VEVENT
BEGIN:VEVENT
UID:412558-2da69939ed67427dc6bf3daba21059e9
X-WR-RELCALID:412558-2da69939ed67427dc6bf3daba21059e9
ORGANIZER:Volleyball
SEQUENCE:261101358
SUMMARY:LL3          Mä.: Haaner TV - SolingenVolleys III
CLASS:PUBLIC
DTSTART:20170311T151500Z
DTSTAMP:20170409T074000Z
END:VEVENT
BEGIN:VEVENT
UID:412562-2da69939ed67427dc6bf3daba21059e9
X-WR-RELCALID:412562-2da69939ed67427dc6bf3daba21059e9
ORGANIZER:Volleyball
SEQUENCE:261101358
SUMMARY:LL3          Mä.: Haaner TV - Erkelenzer VV
CLASS:PUBLIC
DTSTART:20170325T151500Z
DTSTAMP:20170409T074000Z
END:VEVENT
BEGIN:VEVENT
UID:412568-2da69939ed67427dc6bf3daba21059e9
X-WR-RELCALID:412568-2da69939ed67427dc6bf3daba21059e9
ORGANIZER:Volleyball
SEQUENCE:261101358
SUMMARY:LL3          Mä.: Osterather TV - Haaner TV
CLASS:PUBLIC
DTSTART:20170402T131500Z
DTSTAMP:20170409T074000Z
END:VEVENT
END:VCALENDAR