BEGIN:VCALENDAR
VERSION:2.0
PRODID:VSD-Portal-www.volley.de
METHOD:PUBLISH
BEGIN:VEVENT
UID:408862-2da69939ed67427dc6bf3daba21059e9
X-WR-RELCALID:408862-2da69939ed67427dc6bf3daba21059e9
ORGANIZER:Volleyball
SEQUENCE:261140358
SUMMARY:BOL N Mä.: VSG Kassel II - TSG Elgershausen
CLASS:PUBLIC
DTSTART:20160918T110000Z
DTSTAMP:20170326T152500Z
END:VEVENT
BEGIN:VEVENT
UID:408863-2da69939ed67427dc6bf3daba21059e9
X-WR-RELCALID:408863-2da69939ed67427dc6bf3daba21059e9
ORGANIZER:Volleyball
SEQUENCE:261140358
SUMMARY:BOL N Mä.: VSG Kassel II - SSC Vellmar II
CLASS:PUBLIC
DTSTART:20160918T110000Z
DTSTAMP:20170326T152500Z
END:VEVENT
BEGIN:VEVENT
UID:408874-2da69939ed67427dc6bf3daba21059e9
X-WR-RELCALID:408874-2da69939ed67427dc6bf3daba21059e9
ORGANIZER:Volleyball
SEQUENCE:261140358
SUMMARY:BOL N Mä.: VSG Kassel II - FSV Bergshausen
CLASS:PUBLIC
DTSTART:20161126T140000Z
DTSTAMP:20170326T152500Z
END:VEVENT
BEGIN:VEVENT
UID:408875-2da69939ed67427dc6bf3daba21059e9
X-WR-RELCALID:408875-2da69939ed67427dc6bf3daba21059e9
ORGANIZER:Volleyball
SEQUENCE:261140358
SUMMARY:BOL N Mä.: VSG Kassel II - SV Kaufungen
CLASS:PUBLIC
DTSTART:20161126T140000Z
DTSTAMP:20170326T152500Z
END:VEVENT
BEGIN:VEVENT
UID:408892-2da69939ed67427dc6bf3daba21059e9
X-WR-RELCALID:408892-2da69939ed67427dc6bf3daba21059e9
ORGANIZER:Volleyball
SEQUENCE:261140358
SUMMARY:BOL N Mä.: VSG Kassel II - MT Melsungen
CLASS:PUBLIC
DTSTART:20170219T140000Z
DTSTAMP:20170326T152500Z
END:VEVENT
BEGIN:VEVENT
UID:408893-2da69939ed67427dc6bf3daba21059e9
X-WR-RELCALID:408893-2da69939ed67427dc6bf3daba21059e9
ORGANIZER:Volleyball
SEQUENCE:261140358
SUMMARY:BOL N Mä.: VSG Kassel II - TG Rotenburg
CLASS:PUBLIC
DTSTART:20170219T140000Z
DTSTAMP:20170326T152500Z
END:VEVENT
END:VCALENDAR