BEGIN:VCALENDAR
VERSION:2.0
PRODID:VSD-Portal-www.volley.de
METHOD:PUBLISH
BEGIN:VEVENT
UID:132857-0b1cb5f82de24c98f11e829bddb1f0f9
X-WR-RELCALID:132857-0b1cb5f82de24c98f11e829bddb1f0f9
ORGANIZER:Volleyball
SEQUENCE:261111016
LOCATION:Jahnhalle, Jahnstr. 2, 90513 Zirndorf
GEO:49.44118285254261000000;10.96672366798407000000
SUMMARY:U14 BZL m: TSV Altenfurt - TSV Zirndorf
CLASS:PUBLIC
DTSTART:20151115T090000Z
DTSTAMP:20151120T103800Z
END:VEVENT
BEGIN:VEVENT
UID:132858-0b1cb5f82de24c98f11e829bddb1f0f9
X-WR-RELCALID:132858-0b1cb5f82de24c98f11e829bddb1f0f9
ORGANIZER:Volleyball
SEQUENCE:261111016
LOCATION:Jahnhalle, Jahnstr. 2, 90513 Zirndorf
GEO:49.44118285254261000000;10.96672366798407000000
SUMMARY:U14 BZL m: TSV Altenfurt - TV Altdorf
CLASS:PUBLIC
DTSTART:20151115T090000Z
DTSTAMP:20151120T103900Z
END:VEVENT
BEGIN:VEVENT
UID:132859-0b1cb5f82de24c98f11e829bddb1f0f9
X-WR-RELCALID:132859-0b1cb5f82de24c98f11e829bddb1f0f9
ORGANIZER:Volleyball
SEQUENCE:261111016
LOCATION:Jahnhalle, Jahnstr. 2, 90513 Zirndorf
GEO:49.44118285254261000000;10.96672366798407000000
SUMMARY:U14 BZL m: TSV Altenfurt - TSV 1860 Weißenburg
CLASS:PUBLIC
DTSTART:20151115T090000Z
DTSTAMP:20151120T110600Z
END:VEVENT
BEGIN:VEVENT
UID:132864-0b1cb5f82de24c98f11e829bddb1f0f9
X-WR-RELCALID:132864-0b1cb5f82de24c98f11e829bddb1f0f9
ORGANIZER:Volleyball
SEQUENCE:261111016
LOCATION:Halle am Seeweiher, An der Hagenau, 91781 Weißenburg
GEO:49.02640500000000000000;10.97573400000000000000
SUMMARY:U14 BZL m: TSV 1860 Weißenburg - TSV Altenfurt
CLASS:PUBLIC
DTSTART:20151129T090000Z
DTSTAMP:20151202T162000Z
END:VEVENT
BEGIN:VEVENT
UID:132866-0b1cb5f82de24c98f11e829bddb1f0f9
X-WR-RELCALID:132866-0b1cb5f82de24c98f11e829bddb1f0f9
ORGANIZER:Volleyball
SEQUENCE:261111016
LOCATION:Halle am Seeweiher, An der Hagenau, 91781 Weißenburg
GEO:49.02640500000000000000;10.97573400000000000000
SUMMARY:U14 BZL m: TSV Altenfurt - TSV Zirndorf
CLASS:PUBLIC
DTSTART:20151129T090000Z
DTSTAMP:20151202T162200Z
END:VEVENT
BEGIN:VEVENT
UID:132868-0b1cb5f82de24c98f11e829bddb1f0f9
X-WR-RELCALID:132868-0b1cb5f82de24c98f11e829bddb1f0f9
ORGANIZER:Volleyball
SEQUENCE:261111016
LOCATION:Halle am Seeweiher, An der Hagenau, 91781 Weißenburg
GEO:49.02640500000000000000;10.97573400000000000000
SUMMARY:U14 BZL m: TSV Altenfurt - TV Altdorf II
CLASS:PUBLIC
DTSTART:20151129T090000Z
DTSTAMP:20151202T162400Z
END:VEVENT
BEGIN:VEVENT
UID:132871-0b1cb5f82de24c98f11e829bddb1f0f9
X-WR-RELCALID:132871-0b1cb5f82de24c98f11e829bddb1f0f9
ORGANIZER:Volleyball
SEQUENCE:261111016
LOCATION:Jahnhalle, Jahnstr. 2, 90513 Zirndorf
GEO:49.44118285254261000000;10.96672366798407000000
SUMMARY:U14 BZL m: TSV Altenfurt - TV Altdorf
CLASS:PUBLIC
DTSTART:20151220T090000Z
DTSTAMP:20151222T123400Z
END:VEVENT
BEGIN:VEVENT
UID:132872-0b1cb5f82de24c98f11e829bddb1f0f9
X-WR-RELCALID:132872-0b1cb5f82de24c98f11e829bddb1f0f9
ORGANIZER:Volleyball
SEQUENCE:261111016
LOCATION:Jahnhalle, Jahnstr. 2, 90513 Zirndorf
GEO:49.44118285254261000000;10.96672366798407000000
SUMMARY:U14 BZL m: TSV Altenfurt - TV Altdorf II
CLASS:PUBLIC
DTSTART:20151220T090000Z
DTSTAMP:20151222T123500Z
END:VEVENT
END:VCALENDAR